BEGIN:VCALENDAR
VERSION:2.0
PRODID:-//Cornerstone Church of Christ in Christian Union - ECPv6.15.20//NONSGML v1.0//EN
CALSCALE:GREGORIAN
METHOD:PUBLISH
X-ORIGINAL-URL:https://cornerstone3cu.org
X-WR-CALDESC:Events for Cornerstone Church of Christ in Christian Union
REFRESH-INTERVAL;VALUE=DURATION:PT1H
X-Robots-Tag:noindex
X-PUBLISHED-TTL:PT1H
BEGIN:VTIMEZONE
TZID:UTC
BEGIN:STANDARD
TZOFFSETFROM:+0000
TZOFFSETTO:+0000
TZNAME:UTC
DTSTART:20250101T000000
END:STANDARD
END:VTIMEZONE
BEGIN:VEVENT
DTSTART;TZID=UTC:20260719T180000
DTEND;TZID=UTC:20260719T190000
DTSTAMP:20260423T225838
CREATED:20260113T003257Z
LAST-MODIFIED:20260113T003257Z
UID:1863-1784484000-1784487600@cornerstone3cu.org
SUMMARY:Adult and Youth Evening Services
DESCRIPTION:
URL:https://cornerstone3cu.org/event/adult-and-youth-evening-services-107/
CATEGORIES:Adult Event,Youth Event
END:VEVENT
BEGIN:VEVENT
DTSTART;TZID=UTC:20260722T180000
DTEND;TZID=UTC:20260722T190000
DTSTAMP:20260423T225838
CREATED:20260113T004631Z
LAST-MODIFIED:20260113T004631Z
UID:1873-1784743200-1784746800@cornerstone3cu.org
SUMMARY:Wednesday Evening Adult Prayer and Youth Services
DESCRIPTION:
URL:https://cornerstone3cu.org/event/wednesday-evening-adult-prayer-and-youth-services-101/
CATEGORIES:Adult Event,Youth Event
END:VEVENT
BEGIN:VEVENT
DTSTART;TZID=UTC:20260726T093000
DTEND;TZID=UTC:20260726T103000
DTSTAMP:20260423T225838
CREATED:20260113T232435Z
LAST-MODIFIED:20260113T232435Z
UID:1895-1785058200-1785061800@cornerstone3cu.org
SUMMARY:Adult and Youth Sunday Schools
DESCRIPTION:
URL:https://cornerstone3cu.org/event/adult-and-youth-sunday-schools-114/
CATEGORIES:Adult Event,Youth Event
END:VEVENT
BEGIN:VEVENT
DTSTART;TZID=UTC:20260726T103000
DTEND;TZID=UTC:20260726T113000
DTSTAMP:20260423T225838
CREATED:20260113T232127Z
LAST-MODIFIED:20260114T171854Z
UID:1887-1785061800-1785065400@cornerstone3cu.org
SUMMARY:Adult and Youth Morning Services
DESCRIPTION:
URL:https://cornerstone3cu.org/event/adult-and-youth-morning-services-102/
CATEGORIES:Adult Event,Youth Event
END:VEVENT
BEGIN:VEVENT
DTSTART;TZID=UTC:20260726T180000
DTEND;TZID=UTC:20260726T190000
DTSTAMP:20260423T225838
CREATED:20260113T003742Z
LAST-MODIFIED:20260113T003742Z
UID:1865-1785088800-1785092400@cornerstone3cu.org
SUMMARY:Adult and Youth Evening Services
DESCRIPTION:
URL:https://cornerstone3cu.org/event/adult-and-youth-evening-services-108/
CATEGORIES:Adult Event,Youth Event
END:VEVENT
BEGIN:VEVENT
DTSTART;TZID=UTC:20260727T183000
DTEND;TZID=UTC:20260727T203000
DTSTAMP:20260423T225838
CREATED:20251229T153803Z
LAST-MODIFIED:20251229T153803Z
UID:1605-1785177000-1785184200@cornerstone3cu.org
SUMMARY:Cornerstone Kids VBS 2026! - Day 1
DESCRIPTION:Come join us the evenings of July 27th\, 28th\, and 29th\, from 6:30pm-8:30pm to have fun\, make new friends\, and (most importantly) learn about the love and power of Jesus Christ! This is a free event for children ages 4-12. Sign up on a Sunday morning or on any day of the event. We hope to see you there!
URL:https://cornerstone3cu.org/event/cornerstone-kids-vbs-2026-day-1/
LOCATION:Cornerstone C.C.C.U. Grounds\, 8280 Rickard Road\, Plain City\, OH\, 43064\, United States
CATEGORIES:Community Event,Youth Event
END:VEVENT
BEGIN:VEVENT
DTSTART;TZID=UTC:20260728T183000
DTEND;TZID=UTC:20260728T203000
DTSTAMP:20260423T225838
CREATED:20251229T153919Z
LAST-MODIFIED:20251229T153936Z
UID:1607-1785263400-1785270600@cornerstone3cu.org
SUMMARY:Cornerstone Kids VBS 2026! - Day 2
DESCRIPTION:Come join us the evenings of July 27th\, 28th\, and 29th\, from 6:30pm-8:30pm to have fun\, make new friends\, and (most importantly) learn about the love and power of Jesus Christ! This is a free event for children ages 4-12. Sign up on a Sunday morning or on any day of the event. We hope to see you there!
URL:https://cornerstone3cu.org/event/cornerstone-kids-vbs-2025-day-2-2/
LOCATION:Cornerstone C.C.C.U. Grounds\, 8280 Rickard Road\, Plain City\, OH\, 43064\, United States
CATEGORIES:Community Event,Youth Event
END:VEVENT
BEGIN:VEVENT
DTSTART;TZID=UTC:20260729T180000
DTEND;TZID=UTC:20260729T183000
DTSTAMP:20260423T225838
CREATED:20251229T154051Z
LAST-MODIFIED:20251229T154051Z
UID:1610-1785348000-1785349800@cornerstone3cu.org
SUMMARY:NO Wednesday Evening Services Due to VBS
DESCRIPTION:
URL:https://cornerstone3cu.org/event/no-wednesday-evening-services-due-to-vbs/
CATEGORIES:Adult Event,Youth Event
END:VEVENT
BEGIN:VEVENT
DTSTART;TZID=UTC:20260729T183000
DTEND;TZID=UTC:20260729T203000
DTSTAMP:20260423T225838
CREATED:20251229T154145Z
LAST-MODIFIED:20251229T154145Z
UID:1612-1785349800-1785357000@cornerstone3cu.org
SUMMARY:Cornerstone Kids VBS 2026! - Day 3
DESCRIPTION:Come join us the evenings of July 27th\, 28th\, and 29th\, from 6:30pm-8:30pm to have fun\, make new friends\, and (most importantly) learn about the love and power of Jesus Christ! This is a free event for children ages 4-12. Sign up on a Sunday morning or on any day of the event. We hope to see you there!
URL:https://cornerstone3cu.org/event/cornerstone-kids-vbs-2026-day-3/
LOCATION:Cornerstone C.C.C.U. Grounds\, 8280 Rickard Road\, Plain City\, OH\, 43064\, United States
CATEGORIES:Community Event,Youth Event
END:VEVENT
BEGIN:VEVENT
DTSTART;TZID=UTC:20260802T093000
DTEND;TZID=UTC:20260802T103000
DTSTAMP:20260423T225838
CREATED:20260113T232524Z
LAST-MODIFIED:20260113T232524Z
UID:1897-1785663000-1785666600@cornerstone3cu.org
SUMMARY:Adult and Youth Sunday Schools
DESCRIPTION:
URL:https://cornerstone3cu.org/event/adult-and-youth-sunday-schools-115/
CATEGORIES:Adult Event,Youth Event
END:VEVENT
BEGIN:VEVENT
DTSTART;TZID=UTC:20260802T103000
DTEND;TZID=UTC:20260802T113000
DTSTAMP:20260423T225838
CREATED:20251229T142625Z
LAST-MODIFIED:20251229T142625Z
UID:1525-1785666600-1785670200@cornerstone3cu.org
SUMMARY:Kid Power Sunday
DESCRIPTION:The first Sunday of every month is Kid Power Sunday\, a Sunday where we remind our youth (and ourselves) the importance of supporting Missions around the world. Thank you for giving to Kid Power’s yearly goal!
URL:https://cornerstone3cu.org/event/kid-power-sunday-27/
LOCATION:Cornerstone C.C.C.U. Sanctuary
CATEGORIES:All-Age Event,Monthly Recurring Event
END:VEVENT
BEGIN:VEVENT
DTSTART;TZID=UTC:20260802T103000
DTEND;TZID=UTC:20260802T113000
DTSTAMP:20260423T225838
CREATED:20260114T165941Z
LAST-MODIFIED:20260114T171813Z
UID:1926-1785666600-1785670200@cornerstone3cu.org
SUMMARY:Adult and Youth Morning Services
DESCRIPTION:
URL:https://cornerstone3cu.org/event/adult-and-youth-morning-services-103/
CATEGORIES:Adult Event,Youth Event
END:VEVENT
BEGIN:VEVENT
DTSTART;TZID=UTC:20260802T180000
DTEND;TZID=UTC:20260802T190000
DTSTAMP:20260423T225838
CREATED:20260114T172021Z
LAST-MODIFIED:20260114T172021Z
UID:1952-1785693600-1785697200@cornerstone3cu.org
SUMMARY:Adult and Youth Evening Services
DESCRIPTION:
URL:https://cornerstone3cu.org/event/adult-and-youth-evening-services-109/
CATEGORIES:Adult Event,Youth Event
END:VEVENT
BEGIN:VEVENT
DTSTART;TZID=UTC:20260804T100000
DTEND;TZID=UTC:20260804T113000
DTSTAMP:20260423T225838
CREATED:20251229T152843Z
LAST-MODIFIED:20251229T152843Z
UID:1595-1785837600-1785843000@cornerstone3cu.org
SUMMARY:Senior Adult Group - Brunch
DESCRIPTION:Retired? Have some extra time on your hands? Want to fellowship with other believers in the Plain City area? \nJoin us Tuesday\, August 4th\, for the meeting of Cornerstone’s Senior Adults Group! We will now be meeting regularly for brunch at Der Dutchman at 10:00am on the first Tuesday of the month\, and other events are in the works. \nIf you are planning on attending\, please sign up at the Welcome Desk or let Pastor Mark Barth know directly\, as we need to know how many people are coming in order to request a big enough table when we first arrive. Thank you\, and Lord willing\, see you there.
URL:https://cornerstone3cu.org/event/senior-adult-group-brunch-20/
LOCATION:Der Dutchman\, 445 S. Jefferson Ave.\, Plain City\, Ohio\, 43064\, United States
CATEGORIES:Adult Event,Monthly Recurring Event
END:VEVENT
BEGIN:VEVENT
DTSTART;TZID=UTC:20260805T180000
DTEND;TZID=UTC:20260805T190000
DTSTAMP:20260423T225838
CREATED:20260114T172834Z
LAST-MODIFIED:20260114T172834Z
UID:1977-1785952800-1785956400@cornerstone3cu.org
SUMMARY:Wednesday Evening Adult Prayer and Youth Services
DESCRIPTION:
URL:https://cornerstone3cu.org/event/wednesday-evening-adult-prayer-and-youth-services-102/
CATEGORIES:Adult Event,Youth Event
END:VEVENT
BEGIN:VEVENT
DTSTART;TZID=UTC:20260809T093000
DTEND;TZID=UTC:20260809T103000
DTSTAMP:20260423T225838
CREATED:20260113T232608Z
LAST-MODIFIED:20260113T232608Z
UID:1899-1786267800-1786271400@cornerstone3cu.org
SUMMARY:Adult and Youth Sunday Schools
DESCRIPTION:
URL:https://cornerstone3cu.org/event/adult-and-youth-sunday-schools-116/
CATEGORIES:Adult Event,Youth Event
END:VEVENT
BEGIN:VEVENT
DTSTART;TZID=UTC:20260809T103000
DTEND;TZID=UTC:20260809T113000
DTSTAMP:20260423T225838
CREATED:20260114T170037Z
LAST-MODIFIED:20260114T171743Z
UID:1928-1786271400-1786275000@cornerstone3cu.org
SUMMARY:Adult and Youth Morning Services
DESCRIPTION:
URL:https://cornerstone3cu.org/event/adult-and-youth-morning-services-104/
CATEGORIES:Adult Event,Youth Event
END:VEVENT
BEGIN:VEVENT
DTSTART;TZID=UTC:20260809T180000
DTEND;TZID=UTC:20260809T190000
DTSTAMP:20260423T225838
CREATED:20260114T172054Z
LAST-MODIFIED:20260114T172054Z
UID:1954-1786298400-1786302000@cornerstone3cu.org
SUMMARY:Adult and Youth Evening Services
DESCRIPTION:
URL:https://cornerstone3cu.org/event/adult-and-youth-evening-services-110/
CATEGORIES:Adult Event,Youth Event
END:VEVENT
BEGIN:VEVENT
DTSTART;TZID=UTC:20260810T180000
DTEND;TZID=UTC:20260810T203000
DTSTAMP:20260423T225838
CREATED:20251229T142947Z
LAST-MODIFIED:20251229T142947Z
UID:1537-1786384800-1786393800@cornerstone3cu.org
SUMMARY:August 2026 Board Meeting
DESCRIPTION:(This event is usually held at 6:00pm on the second Monday of each month.)
URL:https://cornerstone3cu.org/event/august-2026-board-meeting/
LOCATION:Cornerstone C.C.C.U. Fellowship Hall​
CATEGORIES:Adult Event,Monthly Recurring Event
END:VEVENT
BEGIN:VEVENT
DTSTART;TZID=UTC:20260812T180000
DTEND;TZID=UTC:20260812T190000
DTSTAMP:20260423T225838
CREATED:20260114T173007Z
LAST-MODIFIED:20260114T173007Z
UID:1979-1786557600-1786561200@cornerstone3cu.org
SUMMARY:Wednesday Evening Adult Prayer and Youth Services
DESCRIPTION:
URL:https://cornerstone3cu.org/event/wednesday-evening-adult-prayer-and-youth-services-103/
CATEGORIES:Adult Event,Youth Event
END:VEVENT
BEGIN:VEVENT
DTSTART;TZID=UTC:20260816T093000
DTEND;TZID=UTC:20260816T103000
DTSTAMP:20260423T225838
CREATED:20260113T232637Z
LAST-MODIFIED:20260113T232637Z
UID:1901-1786872600-1786876200@cornerstone3cu.org
SUMMARY:Adult and Youth Sunday Schools
DESCRIPTION:
URL:https://cornerstone3cu.org/event/adult-and-youth-sunday-schools-117/
CATEGORIES:Adult Event,Youth Event
END:VEVENT
BEGIN:VEVENT
DTSTART;TZID=UTC:20260816T103000
DTEND;TZID=UTC:20260816T113000
DTSTAMP:20260423T225838
CREATED:20260114T170211Z
LAST-MODIFIED:20260114T171710Z
UID:1930-1786876200-1786879800@cornerstone3cu.org
SUMMARY:Adult and Youth Morning Services
DESCRIPTION:
URL:https://cornerstone3cu.org/event/adult-and-youth-morning-services-105/
CATEGORIES:Adult Event,Youth Event
END:VEVENT
BEGIN:VEVENT
DTSTART;TZID=UTC:20260816T180000
DTEND;TZID=UTC:20260816T190000
DTSTAMP:20260423T225838
CREATED:20260114T172133Z
LAST-MODIFIED:20260114T172133Z
UID:1956-1786903200-1786906800@cornerstone3cu.org
SUMMARY:Adult and Youth Evening Services
DESCRIPTION:
URL:https://cornerstone3cu.org/event/adult-and-youth-evening-services-111/
CATEGORIES:Adult Event,Youth Event
END:VEVENT
BEGIN:VEVENT
DTSTART;TZID=UTC:20260819T180000
DTEND;TZID=UTC:20260819T190000
DTSTAMP:20260423T225838
CREATED:20260114T173052Z
LAST-MODIFIED:20260114T173052Z
UID:1981-1787162400-1787166000@cornerstone3cu.org
SUMMARY:Wednesday Evening Adult Prayer and Youth Services
DESCRIPTION:
URL:https://cornerstone3cu.org/event/wednesday-evening-adult-prayer-and-youth-services-104/
CATEGORIES:Adult Event,Youth Event
END:VEVENT
BEGIN:VEVENT
DTSTART;TZID=UTC:20260823T093000
DTEND;TZID=UTC:20260823T103000
DTSTAMP:20260423T225838
CREATED:20260113T232703Z
LAST-MODIFIED:20260113T232703Z
UID:1903-1787477400-1787481000@cornerstone3cu.org
SUMMARY:Adult and Youth Sunday Schools
DESCRIPTION:
URL:https://cornerstone3cu.org/event/adult-and-youth-sunday-schools-118/
CATEGORIES:Adult Event,Youth Event
END:VEVENT
BEGIN:VEVENT
DTSTART;TZID=UTC:20260823T103000
DTEND;TZID=UTC:20260823T113000
DTSTAMP:20260423T225838
CREATED:20260114T170254Z
LAST-MODIFIED:20260114T171645Z
UID:1932-1787481000-1787484600@cornerstone3cu.org
SUMMARY:Adult and Youth Morning Services
DESCRIPTION:
URL:https://cornerstone3cu.org/event/adult-and-youth-morning-services-106/
CATEGORIES:Adult Event,Youth Event
END:VEVENT
BEGIN:VEVENT
DTSTART;TZID=UTC:20260823T120000
DTEND;TZID=UTC:20260823T140000
DTSTAMP:20260423T225838
CREATED:20251229T151441Z
LAST-MODIFIED:20251229T151441Z
UID:1563-1787486400-1787493600@cornerstone3cu.org
SUMMARY:Back-to-School Cookout Sunday!
DESCRIPTION:Celebrate Back-to-School with us at Cornerstone Church with a potluck at the pavilion after our Sunday morning service! Invite your friends\, and we hope to see you there.
URL:https://cornerstone3cu.org/event/back-to-school-cookout-sunday/
LOCATION:Cornerstone C.C.C.U. Grounds\, 8280 Rickard Road\, Plain City\, OH\, 43064\, United States
CATEGORIES:All-Age Event,Community Event
END:VEVENT
BEGIN:VEVENT
DTSTART;TZID=UTC:20260823T180000
DTEND;TZID=UTC:20260823T190000
DTSTAMP:20260423T225838
CREATED:20260114T172203Z
LAST-MODIFIED:20260114T172203Z
UID:1958-1787508000-1787511600@cornerstone3cu.org
SUMMARY:Adult and Youth Evening Services
DESCRIPTION:
URL:https://cornerstone3cu.org/event/adult-and-youth-evening-services-112/
CATEGORIES:Adult Event,Youth Event
END:VEVENT
BEGIN:VEVENT
DTSTART;TZID=UTC:20260826T180000
DTEND;TZID=UTC:20260826T190000
DTSTAMP:20260423T225838
CREATED:20260114T173143Z
LAST-MODIFIED:20260114T173143Z
UID:1983-1787767200-1787770800@cornerstone3cu.org
SUMMARY:Wednesday Evening Adult Prayer and Youth Services
DESCRIPTION:
URL:https://cornerstone3cu.org/event/wednesday-evening-adult-prayer-and-youth-services-105/
CATEGORIES:Adult Event,Youth Event
END:VEVENT
BEGIN:VEVENT
DTSTART;TZID=UTC:20260830T093000
DTEND;TZID=UTC:20260830T103000
DTSTAMP:20260423T225838
CREATED:20260113T232729Z
LAST-MODIFIED:20260113T232729Z
UID:1905-1788082200-1788085800@cornerstone3cu.org
SUMMARY:Adult and Youth Sunday Schools
DESCRIPTION:
URL:https://cornerstone3cu.org/event/adult-and-youth-sunday-schools-119/
CATEGORIES:Adult Event,Youth Event
END:VEVENT
END:VCALENDAR