BEGIN:VCALENDAR
VERSION:2.0
PRODID:-//Cornerstone Church of Christ in Christian Union - ECPv6.15.20//NONSGML v1.0//EN
CALSCALE:GREGORIAN
METHOD:PUBLISH
X-ORIGINAL-URL:https://cornerstone3cu.org
X-WR-CALDESC:Events for Cornerstone Church of Christ in Christian Union
REFRESH-INTERVAL;VALUE=DURATION:PT1H
X-Robots-Tag:noindex
X-PUBLISHED-TTL:PT1H
BEGIN:VTIMEZONE
TZID:UTC
BEGIN:STANDARD
TZOFFSETFROM:+0000
TZOFFSETTO:+0000
TZNAME:UTC
DTSTART:20250101T000000
END:STANDARD
END:VTIMEZONE
BEGIN:VEVENT
DTSTART;TZID=UTC:20260816T093000
DTEND;TZID=UTC:20260816T103000
DTSTAMP:20260424T060751
CREATED:20260113T232637Z
LAST-MODIFIED:20260113T232637Z
UID:1901-1786872600-1786876200@cornerstone3cu.org
SUMMARY:Adult and Youth Sunday Schools
DESCRIPTION:
URL:https://cornerstone3cu.org/event/adult-and-youth-sunday-schools-117/
CATEGORIES:Adult Event,Youth Event
END:VEVENT
BEGIN:VEVENT
DTSTART;TZID=UTC:20260816T103000
DTEND;TZID=UTC:20260816T113000
DTSTAMP:20260424T060751
CREATED:20260114T170211Z
LAST-MODIFIED:20260114T171710Z
UID:1930-1786876200-1786879800@cornerstone3cu.org
SUMMARY:Adult and Youth Morning Services
DESCRIPTION:
URL:https://cornerstone3cu.org/event/adult-and-youth-morning-services-105/
CATEGORIES:Adult Event,Youth Event
END:VEVENT
BEGIN:VEVENT
DTSTART;TZID=UTC:20260816T180000
DTEND;TZID=UTC:20260816T190000
DTSTAMP:20260424T060751
CREATED:20260114T172133Z
LAST-MODIFIED:20260114T172133Z
UID:1956-1786903200-1786906800@cornerstone3cu.org
SUMMARY:Adult and Youth Evening Services
DESCRIPTION:
URL:https://cornerstone3cu.org/event/adult-and-youth-evening-services-111/
CATEGORIES:Adult Event,Youth Event
END:VEVENT
BEGIN:VEVENT
DTSTART;TZID=UTC:20260819T180000
DTEND;TZID=UTC:20260819T190000
DTSTAMP:20260424T060751
CREATED:20260114T173052Z
LAST-MODIFIED:20260114T173052Z
UID:1981-1787162400-1787166000@cornerstone3cu.org
SUMMARY:Wednesday Evening Adult Prayer and Youth Services
DESCRIPTION:
URL:https://cornerstone3cu.org/event/wednesday-evening-adult-prayer-and-youth-services-104/
CATEGORIES:Adult Event,Youth Event
END:VEVENT
BEGIN:VEVENT
DTSTART;TZID=UTC:20260823T093000
DTEND;TZID=UTC:20260823T103000
DTSTAMP:20260424T060751
CREATED:20260113T232703Z
LAST-MODIFIED:20260113T232703Z
UID:1903-1787477400-1787481000@cornerstone3cu.org
SUMMARY:Adult and Youth Sunday Schools
DESCRIPTION:
URL:https://cornerstone3cu.org/event/adult-and-youth-sunday-schools-118/
CATEGORIES:Adult Event,Youth Event
END:VEVENT
BEGIN:VEVENT
DTSTART;TZID=UTC:20260823T103000
DTEND;TZID=UTC:20260823T113000
DTSTAMP:20260424T060751
CREATED:20260114T170254Z
LAST-MODIFIED:20260114T171645Z
UID:1932-1787481000-1787484600@cornerstone3cu.org
SUMMARY:Adult and Youth Morning Services
DESCRIPTION:
URL:https://cornerstone3cu.org/event/adult-and-youth-morning-services-106/
CATEGORIES:Adult Event,Youth Event
END:VEVENT
BEGIN:VEVENT
DTSTART;TZID=UTC:20260823T120000
DTEND;TZID=UTC:20260823T140000
DTSTAMP:20260424T060751
CREATED:20251229T151441Z
LAST-MODIFIED:20251229T151441Z
UID:1563-1787486400-1787493600@cornerstone3cu.org
SUMMARY:Back-to-School Cookout Sunday!
DESCRIPTION:Celebrate Back-to-School with us at Cornerstone Church with a potluck at the pavilion after our Sunday morning service! Invite your friends\, and we hope to see you there.
URL:https://cornerstone3cu.org/event/back-to-school-cookout-sunday/
LOCATION:Cornerstone C.C.C.U. Grounds\, 8280 Rickard Road\, Plain City\, OH\, 43064\, United States
CATEGORIES:All-Age Event,Community Event
END:VEVENT
BEGIN:VEVENT
DTSTART;TZID=UTC:20260823T180000
DTEND;TZID=UTC:20260823T190000
DTSTAMP:20260424T060751
CREATED:20260114T172203Z
LAST-MODIFIED:20260114T172203Z
UID:1958-1787508000-1787511600@cornerstone3cu.org
SUMMARY:Adult and Youth Evening Services
DESCRIPTION:
URL:https://cornerstone3cu.org/event/adult-and-youth-evening-services-112/
CATEGORIES:Adult Event,Youth Event
END:VEVENT
BEGIN:VEVENT
DTSTART;TZID=UTC:20260826T180000
DTEND;TZID=UTC:20260826T190000
DTSTAMP:20260424T060751
CREATED:20260114T173143Z
LAST-MODIFIED:20260114T173143Z
UID:1983-1787767200-1787770800@cornerstone3cu.org
SUMMARY:Wednesday Evening Adult Prayer and Youth Services
DESCRIPTION:
URL:https://cornerstone3cu.org/event/wednesday-evening-adult-prayer-and-youth-services-105/
CATEGORIES:Adult Event,Youth Event
END:VEVENT
BEGIN:VEVENT
DTSTART;TZID=UTC:20260830T093000
DTEND;TZID=UTC:20260830T103000
DTSTAMP:20260424T060751
CREATED:20260113T232729Z
LAST-MODIFIED:20260113T232729Z
UID:1905-1788082200-1788085800@cornerstone3cu.org
SUMMARY:Adult and Youth Sunday Schools
DESCRIPTION:
URL:https://cornerstone3cu.org/event/adult-and-youth-sunday-schools-119/
CATEGORIES:Adult Event,Youth Event
END:VEVENT
BEGIN:VEVENT
DTSTART;TZID=UTC:20260830T103000
DTEND;TZID=UTC:20260830T113000
DTSTAMP:20260424T060751
CREATED:20260114T170329Z
LAST-MODIFIED:20260114T171622Z
UID:1934-1788085800-1788089400@cornerstone3cu.org
SUMMARY:Adult and Youth Morning Services
DESCRIPTION:
URL:https://cornerstone3cu.org/event/adult-and-youth-morning-services-107/
CATEGORIES:Adult Event,Youth Event
END:VEVENT
BEGIN:VEVENT
DTSTART;TZID=UTC:20260830T180000
DTEND;TZID=UTC:20260830T190000
DTSTAMP:20260424T060751
CREATED:20260114T172252Z
LAST-MODIFIED:20260114T172252Z
UID:1960-1788112800-1788116400@cornerstone3cu.org
SUMMARY:Adult and Youth Evening Services
DESCRIPTION:
URL:https://cornerstone3cu.org/event/adult-and-youth-evening-services-113/
CATEGORIES:Adult Event,Youth Event
END:VEVENT
BEGIN:VEVENT
DTSTART;TZID=UTC:20260901T100000
DTEND;TZID=UTC:20260901T113000
DTSTAMP:20260424T060751
CREATED:20251229T152940Z
LAST-MODIFIED:20251229T152940Z
UID:1597-1788256800-1788262200@cornerstone3cu.org
SUMMARY:Senior Adult Group - Brunch
DESCRIPTION:Retired? Have some extra time on your hands? Want to fellowship with other believers in the Plain City area? \nJoin us Tuesday\, September 1st\, for the meeting of Cornerstone’s Senior Adults Group! We will now be meeting regularly for brunch at Der Dutchman at 10:00am on the first Tuesday of the month\, and other events are in the works. \nIf you are planning on attending\, please sign up at the Welcome Desk or let Pastor Mark Barth know directly\, as we need to know how many people are coming in order to request a big enough table when we first arrive. Thank you\, and Lord willing\, see you there.
URL:https://cornerstone3cu.org/event/senior-adult-group-brunch-21/
LOCATION:Der Dutchman\, 445 S. Jefferson Ave.\, Plain City\, Ohio\, 43064\, United States
CATEGORIES:Adult Event,Monthly Recurring Event
END:VEVENT
BEGIN:VEVENT
DTSTART;TZID=UTC:20260902T180000
DTEND;TZID=UTC:20260902T190000
DTSTAMP:20260424T060751
CREATED:20260114T173213Z
LAST-MODIFIED:20260114T173213Z
UID:1985-1788372000-1788375600@cornerstone3cu.org
SUMMARY:Wednesday Evening Adult Prayer and Youth Services
DESCRIPTION:
URL:https://cornerstone3cu.org/event/wednesday-evening-adult-prayer-and-youth-services-106/
CATEGORIES:Adult Event,Youth Event
END:VEVENT
BEGIN:VEVENT
DTSTART;TZID=UTC:20260906T093000
DTEND;TZID=UTC:20260906T103000
DTSTAMP:20260424T060751
CREATED:20260113T232756Z
LAST-MODIFIED:20260113T232756Z
UID:1907-1788687000-1788690600@cornerstone3cu.org
SUMMARY:Adult and Youth Sunday Schools
DESCRIPTION:
URL:https://cornerstone3cu.org/event/adult-and-youth-sunday-schools-120/
CATEGORIES:Adult Event,Youth Event
END:VEVENT
BEGIN:VEVENT
DTSTART;TZID=UTC:20260906T103000
DTEND;TZID=UTC:20260906T113000
DTSTAMP:20260424T060751
CREATED:20251229T142659Z
LAST-MODIFIED:20251229T142659Z
UID:1527-1788690600-1788694200@cornerstone3cu.org
SUMMARY:Kid Power Sunday
DESCRIPTION:The first Sunday of every month is Kid Power Sunday\, a Sunday where we remind our youth (and ourselves) the importance of supporting Missions around the world. Thank you for giving to Kid Power’s yearly goal!
URL:https://cornerstone3cu.org/event/kid-power-sunday-28/
LOCATION:Cornerstone C.C.C.U. Sanctuary
CATEGORIES:All-Age Event,Monthly Recurring Event
END:VEVENT
BEGIN:VEVENT
DTSTART;TZID=UTC:20260906T103000
DTEND;TZID=UTC:20260906T113000
DTSTAMP:20260424T060751
CREATED:20260114T170401Z
LAST-MODIFIED:20260114T171547Z
UID:1936-1788690600-1788694200@cornerstone3cu.org
SUMMARY:Adult and Youth Morning Services
DESCRIPTION:
URL:https://cornerstone3cu.org/event/adult-and-youth-morning-services-108/
CATEGORIES:Adult Event,Youth Event
END:VEVENT
BEGIN:VEVENT
DTSTART;TZID=UTC:20260906T180000
DTEND;TZID=UTC:20260906T190000
DTSTAMP:20260424T060751
CREATED:20260114T172331Z
LAST-MODIFIED:20260114T172331Z
UID:1962-1788717600-1788721200@cornerstone3cu.org
SUMMARY:Adult and Youth Evening Services
DESCRIPTION:
URL:https://cornerstone3cu.org/event/adult-and-youth-evening-services-114/
CATEGORIES:Adult Event,Youth Event
END:VEVENT
BEGIN:VEVENT
DTSTART;TZID=UTC:20260909T180000
DTEND;TZID=UTC:20260909T190000
DTSTAMP:20260424T060751
CREATED:20260114T173246Z
LAST-MODIFIED:20260114T173246Z
UID:1987-1788976800-1788980400@cornerstone3cu.org
SUMMARY:Wednesday Evening Adult Prayer and Youth Services
DESCRIPTION:
URL:https://cornerstone3cu.org/event/wednesday-evening-adult-prayer-and-youth-services-107/
CATEGORIES:Adult Event,Youth Event
END:VEVENT
BEGIN:VEVENT
DTSTART;TZID=UTC:20260913T093000
DTEND;TZID=UTC:20260913T103000
DTSTAMP:20260424T060751
CREATED:20260113T232824Z
LAST-MODIFIED:20260113T232824Z
UID:1909-1789291800-1789295400@cornerstone3cu.org
SUMMARY:Adult and Youth Sunday Schools
DESCRIPTION:
URL:https://cornerstone3cu.org/event/adult-and-youth-sunday-schools-121/
CATEGORIES:Adult Event,Youth Event
END:VEVENT
BEGIN:VEVENT
DTSTART;TZID=UTC:20260913T103000
DTEND;TZID=UTC:20260913T113000
DTSTAMP:20260424T060751
CREATED:20260114T170458Z
LAST-MODIFIED:20260114T171510Z
UID:1938-1789295400-1789299000@cornerstone3cu.org
SUMMARY:Adult and Youth Morning Services
DESCRIPTION:
URL:https://cornerstone3cu.org/event/adult-and-youth-morning-services-109/
CATEGORIES:Adult Event,Youth Event
END:VEVENT
BEGIN:VEVENT
DTSTART;TZID=UTC:20260913T180000
DTEND;TZID=UTC:20260913T190000
DTSTAMP:20260424T060751
CREATED:20260114T172358Z
LAST-MODIFIED:20260114T172358Z
UID:1964-1789322400-1789326000@cornerstone3cu.org
SUMMARY:Adult and Youth Evening Services
DESCRIPTION:
URL:https://cornerstone3cu.org/event/adult-and-youth-evening-services-115/
CATEGORIES:Adult Event,Youth Event
END:VEVENT
BEGIN:VEVENT
DTSTART;TZID=UTC:20260914T180000
DTEND;TZID=UTC:20260914T203000
DTSTAMP:20260424T060751
CREATED:20251229T143016Z
LAST-MODIFIED:20251229T143016Z
UID:1539-1789408800-1789417800@cornerstone3cu.org
SUMMARY:September 2026 Board Meeting
DESCRIPTION:(This event is usually held at 6:00pm on the second Monday of each month.)
URL:https://cornerstone3cu.org/event/september-2026-board-meeting/
LOCATION:Cornerstone C.C.C.U. Fellowship Hall​
CATEGORIES:Adult Event,Monthly Recurring Event
END:VEVENT
BEGIN:VEVENT
DTSTART;TZID=UTC:20260916T180000
DTEND;TZID=UTC:20260916T190000
DTSTAMP:20260424T060751
CREATED:20260114T173317Z
LAST-MODIFIED:20260114T173317Z
UID:1989-1789581600-1789585200@cornerstone3cu.org
SUMMARY:Wednesday Evening Adult Prayer and Youth Services
DESCRIPTION:
URL:https://cornerstone3cu.org/event/wednesday-evening-adult-prayer-and-youth-services-108/
CATEGORIES:Adult Event,Youth Event
END:VEVENT
BEGIN:VEVENT
DTSTART;TZID=UTC:20260919T080000
DTEND;TZID=UTC:20260919T130000
DTSTAMP:20260424T060751
CREATED:20251229T145825Z
LAST-MODIFIED:20251229T145825Z
UID:1554-1789804800-1789822800@cornerstone3cu.org
SUMMARY:Sprint for Survivors - She Dreams Again
DESCRIPTION:Help support the ministry of She Dreams Again by joining their 8th annual 5k walk/run fundraiser! To sign up for the race itself ($45 per person) or to volunteer at a water or registration table\, please see the corresponding SignUpGenius pages. Visit She Dreams Again’s website for more details:  https://www.shedreamsagain.org/   . \n  \nThank you\, and see you there!
URL:https://cornerstone3cu.org/event/sprint-for-survivors-she-dreams-again-2/
LOCATION:Schwartzkopf Park\, 501 N. Maple St.\, Marysville\, OH\, 43040\, United States
CATEGORIES:Community Event
ORGANIZER;CN="She Dreams Again":MAILTO:info.shedreamsagain@gmail.com
END:VEVENT
BEGIN:VEVENT
DTSTART;TZID=UTC:20260920T093000
DTEND;TZID=UTC:20260920T103000
DTSTAMP:20260424T060751
CREATED:20260113T232846Z
LAST-MODIFIED:20260113T232846Z
UID:1911-1789896600-1789900200@cornerstone3cu.org
SUMMARY:Adult and Youth Sunday Schools
DESCRIPTION:
URL:https://cornerstone3cu.org/event/adult-and-youth-sunday-schools-122/
CATEGORIES:Adult Event,Youth Event
END:VEVENT
BEGIN:VEVENT
DTSTART;TZID=UTC:20260920T103000
DTEND;TZID=UTC:20260920T113000
DTSTAMP:20260424T060751
CREATED:20251229T150513Z
LAST-MODIFIED:20251229T150513Z
UID:1553-1789900200-1789903800@cornerstone3cu.org
SUMMARY:Back to Church Sunday Services!
DESCRIPTION:This year\, Back to Church Sunday is September 20th. If you have not been to church in a while\, we invite you to visit us this Sunday especially\, to start getting to know people and reconnect with the Lord who loves you and made you. We so look forward to seeing you! And\, if you know of others who have been away from church for a while\, please invite them to join us–this day or any day! \n  \nLight refreshments will be passed out after this morning’s adult and youth services.
URL:https://cornerstone3cu.org/event/back-to-church-sunday-services/
CATEGORIES:Adult Event,Youth Event
END:VEVENT
BEGIN:VEVENT
DTSTART;TZID=UTC:20260920T103000
DTEND;TZID=UTC:20260920T113000
DTSTAMP:20260424T060751
CREATED:20260114T170538Z
LAST-MODIFIED:20260114T171444Z
UID:1940-1789900200-1789903800@cornerstone3cu.org
SUMMARY:Adult and Youth Morning Services
DESCRIPTION:
URL:https://cornerstone3cu.org/event/adult-and-youth-morning-services-110/
CATEGORIES:Adult Event,Youth Event
END:VEVENT
BEGIN:VEVENT
DTSTART;TZID=UTC:20260920T180000
DTEND;TZID=UTC:20260920T190000
DTSTAMP:20260424T060751
CREATED:20260114T172431Z
LAST-MODIFIED:20260114T172431Z
UID:1966-1789927200-1789930800@cornerstone3cu.org
SUMMARY:Adult and Youth Evening Services
DESCRIPTION:
URL:https://cornerstone3cu.org/event/adult-and-youth-evening-services-116/
CATEGORIES:Adult Event,Youth Event
END:VEVENT
BEGIN:VEVENT
DTSTART;TZID=UTC:20260923T180000
DTEND;TZID=UTC:20260923T190000
DTSTAMP:20260424T060751
CREATED:20260114T173347Z
LAST-MODIFIED:20260114T173347Z
UID:1991-1790186400-1790190000@cornerstone3cu.org
SUMMARY:Wednesday Evening Adult Prayer and Youth Services
DESCRIPTION:
URL:https://cornerstone3cu.org/event/wednesday-evening-adult-prayer-and-youth-services-109/
CATEGORIES:Adult Event,Youth Event
END:VEVENT
END:VCALENDAR