BEGIN:VCALENDAR
VERSION:2.0
PRODID:-//Cornerstone Church of Christ in Christian Union - ECPv6.15.20//NONSGML v1.0//EN
CALSCALE:GREGORIAN
METHOD:PUBLISH
X-ORIGINAL-URL:https://cornerstone3cu.org
X-WR-CALDESC:Events for Cornerstone Church of Christ in Christian Union
REFRESH-INTERVAL;VALUE=DURATION:PT1H
X-Robots-Tag:noindex
X-PUBLISHED-TTL:PT1H
BEGIN:VTIMEZONE
TZID:UTC
BEGIN:STANDARD
TZOFFSETFROM:+0000
TZOFFSETTO:+0000
TZNAME:UTC
DTSTART:20250101T000000
END:STANDARD
END:VTIMEZONE
BEGIN:VEVENT
DTSTART;TZID=UTC:20261213T180000
DTEND;TZID=UTC:20261213T190000
DTSTAMP:20260425T102724
CREATED:20260114T174106Z
LAST-MODIFIED:20260114T174106Z
UID:2014-1797184800-1797188400@cornerstone3cu.org
SUMMARY:Adult and Youth Evening Services
DESCRIPTION:
URL:https://cornerstone3cu.org/event/adult-and-youth-evening-services-127/
CATEGORIES:Adult Event,Youth Event
END:VEVENT
BEGIN:VEVENT
DTSTART;TZID=UTC:20261214T180000
DTEND;TZID=UTC:20261214T203000
DTSTAMP:20260425T102724
CREATED:20251229T143147Z
LAST-MODIFIED:20251229T143147Z
UID:1545-1797271200-1797280200@cornerstone3cu.org
SUMMARY:December 2026 Board Meeting
DESCRIPTION:(This event is usually held at 6:00pm on the second Monday of each month.)
URL:https://cornerstone3cu.org/event/december-2026-board-meeting/
LOCATION:Cornerstone C.C.C.U. Fellowship Hall​
CATEGORIES:Adult Event,Monthly Recurring Event
END:VEVENT
BEGIN:VEVENT
DTSTART;TZID=UTC:20261216T180000
DTEND;TZID=UTC:20261216T190000
DTSTAMP:20260425T102724
CREATED:20260114T185018Z
LAST-MODIFIED:20260114T185018Z
UID:2032-1797444000-1797447600@cornerstone3cu.org
SUMMARY:Wednesday Evening Adult Prayer and Youth Services
DESCRIPTION:
URL:https://cornerstone3cu.org/event/wednesday-evening-adult-prayer-and-youth-services-121/
CATEGORIES:Adult Event,Youth Event
END:VEVENT
BEGIN:VEVENT
DTSTART;TZID=UTC:20261220T093000
DTEND;TZID=UTC:20261220T103000
DTSTAMP:20260425T102724
CREATED:20260114T191335Z
LAST-MODIFIED:20260114T191335Z
UID:2079-1797759000-1797762600@cornerstone3cu.org
SUMMARY:Adult and Youth Sunday Schools
DESCRIPTION:
URL:https://cornerstone3cu.org/event/adult-and-youth-sunday-schools-135/
CATEGORIES:Adult Event,Youth Event
END:VEVENT
BEGIN:VEVENT
DTSTART;TZID=UTC:20261220T103000
DTEND;TZID=UTC:20261220T113000
DTSTAMP:20260425T102724
CREATED:20260114T190832Z
LAST-MODIFIED:20260114T190832Z
UID:2061-1797762600-1797766200@cornerstone3cu.org
SUMMARY:Adult and Youth Morning Services
DESCRIPTION:
URL:https://cornerstone3cu.org/event/adult-and-youth-morning-services-122/
CATEGORIES:Adult Event,Youth Event
END:VEVENT
BEGIN:VEVENT
DTSTART;TZID=UTC:20261220T180000
DTEND;TZID=UTC:20261220T190000
DTSTAMP:20260425T102724
CREATED:20260114T174127Z
LAST-MODIFIED:20260114T174127Z
UID:2016-1797789600-1797793200@cornerstone3cu.org
SUMMARY:Adult and Youth Evening Services
DESCRIPTION:
URL:https://cornerstone3cu.org/event/adult-and-youth-evening-services-128/
CATEGORIES:Adult Event,Youth Event
END:VEVENT
BEGIN:VEVENT
DTSTART;TZID=UTC:20261223T180000
DTEND;TZID=UTC:20261223T190000
DTSTAMP:20260425T102724
CREATED:20260114T185227Z
LAST-MODIFIED:20260114T185255Z
UID:2036-1798048800-1798052400@cornerstone3cu.org
SUMMARY:Wednesday Evening Adult Prayer and Youth Services - Canceled
DESCRIPTION:With our Christmas Eve Service scheduled for Thursday evening this year\, we will not be holding our regular Wednesday evening prayer service this week. We hope you and your loved ones will be able to join our candlelight service tomorrow!
URL:https://cornerstone3cu.org/event/wednesday-evening-adult-prayer-and-youth-services-canceled/
CATEGORIES:Adult Event,Youth Event
END:VEVENT
BEGIN:VEVENT
DTSTART;TZID=UTC:20261224T180000
DTEND;TZID=UTC:20261224T190000
DTSTAMP:20260425T102724
CREATED:20251229T150353Z
LAST-MODIFIED:20260114T185323Z
UID:1558-1798135200-1798138800@cornerstone3cu.org
SUMMARY:Christmas Eve Evening Service
DESCRIPTION:Join us for a special candlelight service as we remember and celebrate the birth of our Savior Jesus. \n  \n(Please note: there will be no Wednesday evening service the week of Christmas this year\, as the Christmas Eve Service the following night will take its place.)
URL:https://cornerstone3cu.org/event/christmas-eve-evening-service-2/
CATEGORIES:All-Age Event,Community Event
END:VEVENT
BEGIN:VEVENT
DTSTART;TZID=UTC:20261227T093000
DTEND;TZID=UTC:20261227T103000
DTSTAMP:20260425T102724
CREATED:20260114T191359Z
LAST-MODIFIED:20260114T191359Z
UID:2081-1798363800-1798367400@cornerstone3cu.org
SUMMARY:Adult and Youth Sunday Schools
DESCRIPTION:
URL:https://cornerstone3cu.org/event/adult-and-youth-sunday-schools-136/
CATEGORIES:Adult Event,Youth Event
END:VEVENT
BEGIN:VEVENT
DTSTART;TZID=UTC:20261227T103000
DTEND;TZID=UTC:20261227T113000
DTSTAMP:20260425T102724
CREATED:20260114T190853Z
LAST-MODIFIED:20260114T190853Z
UID:2063-1798367400-1798371000@cornerstone3cu.org
SUMMARY:Adult and Youth Morning Services
DESCRIPTION:
URL:https://cornerstone3cu.org/event/adult-and-youth-morning-services-123/
CATEGORIES:Adult Event,Youth Event
END:VEVENT
BEGIN:VEVENT
DTSTART;TZID=UTC:20261227T180000
DTEND;TZID=UTC:20261227T190000
DTSTAMP:20260425T102724
CREATED:20260114T174147Z
LAST-MODIFIED:20260114T174147Z
UID:2018-1798394400-1798398000@cornerstone3cu.org
SUMMARY:Adult and Youth Evening Services
DESCRIPTION:
URL:https://cornerstone3cu.org/event/adult-and-youth-evening-services-129/
CATEGORIES:Adult Event,Youth Event
END:VEVENT
BEGIN:VEVENT
DTSTART;TZID=UTC:20261229T120000
DTEND;TZID=UTC:20261229T170000
DTSTAMP:20260425T102724
CREATED:20251229T151227Z
LAST-MODIFIED:20251229T151227Z
UID:1561-1798545600-1798563600@cornerstone3cu.org
SUMMARY:Youth Year End Blast
DESCRIPTION:If you are a youth grades 6th through 12th\, then join our youth group for a day of fun (did someone say Go-Karts\, Laser tag\, and an Arcade?) as we head to Scene 75 in Dublin to join Evangelical Christian Youth’s Year End Blast! For more information\, please speak with Michele Husband.
URL:https://cornerstone3cu.org/event/youth-year-end-blast-2/
CATEGORIES:Youth Event
END:VEVENT
BEGIN:VEVENT
DTSTART;TZID=UTC:20261230T180000
DTEND;TZID=UTC:20261230T190000
DTSTAMP:20260425T102724
CREATED:20260114T185046Z
LAST-MODIFIED:20260114T185046Z
UID:2034-1798653600-1798657200@cornerstone3cu.org
SUMMARY:Wednesday Evening Adult Prayer and Youth Services
DESCRIPTION:
URL:https://cornerstone3cu.org/event/wednesday-evening-adult-prayer-and-youth-services-122/
CATEGORIES:Adult Event,Youth Event
END:VEVENT
END:VCALENDAR