BEGIN:VCALENDAR
VERSION:2.0
PRODID:-//Cornerstone Church of Christ in Christian Union - ECPv6.15.20//NONSGML v1.0//EN
CALSCALE:GREGORIAN
METHOD:PUBLISH
X-WR-CALNAME:Cornerstone Church of Christ in Christian Union
X-ORIGINAL-URL:https://cornerstone3cu.org
X-WR-CALDESC:Events for Cornerstone Church of Christ in Christian Union
REFRESH-INTERVAL;VALUE=DURATION:PT1H
X-Robots-Tag:noindex
X-PUBLISHED-TTL:PT1H
BEGIN:VTIMEZONE
TZID:UTC
BEGIN:STANDARD
TZOFFSETFROM:+0000
TZOFFSETTO:+0000
TZNAME:UTC
DTSTART:20240101T000000
END:STANDARD
END:VTIMEZONE
BEGIN:VEVENT
DTSTART;TZID=UTC:20251012T103000
DTEND;TZID=UTC:20251012T113000
DTSTAMP:20260424T161354
CREATED:20250211T171629Z
LAST-MODIFIED:20250211T194826Z
UID:978-1760265000-1760268600@cornerstone3cu.org
SUMMARY:Revival with Dr. C. Adam Buckler - Morning Service
DESCRIPTION:Come hear Dr. C. Adam Buckler\, president of Union Bible College\, share the message the Lord has put on his heart! More details to come. \n  \nPlease note: Dr. Buckler’s preaching will take the place of regular Sunday morning and evening services on 10/12/2025.
URL:https://cornerstone3cu.org/event/revival-with-dr-c-adam-buckler-morning-service/
LOCATION:Cornerstone C.C.C.U. Sanctuary
CATEGORIES:All-Age Event,Community Event
END:VEVENT
BEGIN:VEVENT
DTSTART;TZID=UTC:20251012T093000
DTEND;TZID=UTC:20251012T103000
DTSTAMP:20260424T161354
CREATED:20250811T234537Z
LAST-MODIFIED:20250811T234537Z
UID:1383-1760261400-1760265000@cornerstone3cu.org
SUMMARY:Adult and Youth Sunday Schools
DESCRIPTION:
URL:https://cornerstone3cu.org/event/adult-and-youth-sunday-schools-73/
CATEGORIES:Adult Event,Youth Event
END:VEVENT
BEGIN:VEVENT
DTSTART;TZID=UTC:20251011T190000
DTEND;TZID=UTC:20251011T200000
DTSTAMP:20260424T161354
CREATED:20250211T171529Z
LAST-MODIFIED:20250211T194636Z
UID:974-1760209200-1760212800@cornerstone3cu.org
SUMMARY:Revival with Dr. C. Adam Buckler - Evening Service
DESCRIPTION:Come hear Dr. C. Adam Buckler\, president of Union Bible College\, share the message the Lord has put on his heart! More details to come. \n  \nPlease note: Dr. Buckler’s preaching will take the place of regular Sunday morning and evening services on 10/12/2025.
URL:https://cornerstone3cu.org/event/revival-with-dr-c-adam-buckler-evening-service-3/
LOCATION:Cornerstone C.C.C.U. Sanctuary
CATEGORIES:All-Age Event,Community Event
END:VEVENT
BEGIN:VEVENT
DTSTART;TZID=UTC:20251010T190000
DTEND;TZID=UTC:20251010T200000
DTSTAMP:20260424T161354
CREATED:20250211T171507Z
LAST-MODIFIED:20250211T194459Z
UID:972-1760122800-1760126400@cornerstone3cu.org
SUMMARY:Revival with Dr. C. Adam Buckler - Evening Service
DESCRIPTION:Come hear Dr. C. Adam Buckler\, president of Union Bible College\, share the message the Lord has put on his heart! More details to come. \n  \nPlease note: Dr. Buckler’s preaching will take the place of regular Sunday morning and evening services on 10/12/2025.
URL:https://cornerstone3cu.org/event/revival-with-dr-c-adam-buckler-evening-service-2/
LOCATION:Cornerstone C.C.C.U. Sanctuary
CATEGORIES:All-Age Event,Community Event
END:VEVENT
BEGIN:VEVENT
DTSTART;TZID=UTC:20251009T190000
DTEND;TZID=UTC:20251009T200000
DTSTAMP:20260424T161354
CREATED:20250211T171444Z
LAST-MODIFIED:20250211T194343Z
UID:970-1760036400-1760040000@cornerstone3cu.org
SUMMARY:Revival with Dr. C. Adam Buckler - Evening Service
DESCRIPTION:Come hear Dr. C. Adam Buckler\, president of Union Bible College\, share the message the Lord has put on his heart! More details to come. \n  \nPlease note: Dr. Buckler’s preaching will take the place of regular Sunday morning and evening services on 10/12/2025.
URL:https://cornerstone3cu.org/event/revival-with-dr-c-adam-buckler-evening-service/
LOCATION:Cornerstone C.C.C.U. Sanctuary
CATEGORIES:All-Age Event,Community Event
END:VEVENT
BEGIN:VEVENT
DTSTART;TZID=UTC:20251008T190000
DTEND;TZID=UTC:20251008T200000
DTSTAMP:20260424T161354
CREATED:20250211T171108Z
LAST-MODIFIED:20250211T194941Z
UID:968-1759950000-1759953600@cornerstone3cu.org
SUMMARY:Revival with George Holley - Evening Service
DESCRIPTION:Come hear Evangelist George Holley share the message the Lord has put on his heart! More details to come. \n  \nPlease note: George Holley’s preaching will take the place of regular Sunday morning and evening services on 10/5/2025 and the place of regular Wednesday evening service on 10/8/2025 (though at a different time Wednesday).
URL:https://cornerstone3cu.org/event/revival-with-george-holley-evening-service-4/
LOCATION:Cornerstone C.C.C.U. Sanctuary
CATEGORIES:All-Age Event,Community Event
END:VEVENT
BEGIN:VEVENT
DTSTART;TZID=UTC:20251007T190000
DTEND;TZID=UTC:20251007T200000
DTSTAMP:20260424T161354
CREATED:20250211T171049Z
LAST-MODIFIED:20250211T195023Z
UID:966-1759863600-1759867200@cornerstone3cu.org
SUMMARY:Revival with George Holley - Evening Service
DESCRIPTION:Come hear Evangelist George Holley share the message the Lord has put on his heart! More details to come. \n  \nPlease note: George Holley’s preaching will take the place of regular Sunday morning and evening services on 10/5/2025 and the place of regular Wednesday evening service on 10/8/2025 (though at a different time Wednesday).
URL:https://cornerstone3cu.org/event/revival-with-george-holley-evening-service-3/
LOCATION:Cornerstone C.C.C.U. Sanctuary
CATEGORIES:All-Age Event,Community Event
END:VEVENT
BEGIN:VEVENT
DTSTART;TZID=UTC:20251007T100000
DTEND;TZID=UTC:20251007T113000
DTSTAMP:20260424T161354
CREATED:20251229T152210Z
LAST-MODIFIED:20251229T152210Z
UID:1575-1759831200-1759836600@cornerstone3cu.org
SUMMARY:Senior Adult Group - Brunch
DESCRIPTION:Retired? Have some extra time on your hands? Want to fellowship with other believers in the Plain City area? \nJoin us Tuesday\, October 7th\, for the meeting of Cornerstone’s Senior Adults Group! We will now be meeting regularly for brunch at Der Dutchman at 10:00am on the first Tuesday of the month\, and other events are in the works. \nIf you are planning on attending\, please sign up at the Welcome Desk or let Pastor Mark Barth know directly\, as we need to know how many people are coming in order to request a big enough table when we first arrive. Thank you\, and Lord willing\, see you there.
URL:https://cornerstone3cu.org/event/senior-adult-group-brunch-10/
LOCATION:Der Dutchman\, 445 S. Jefferson Ave.\, Plain City\, Ohio\, 43064\, United States
CATEGORIES:Adult Event,Monthly Recurring Event
END:VEVENT
BEGIN:VEVENT
DTSTART;TZID=UTC:20251006T190000
DTEND;TZID=UTC:20251006T200000
DTSTAMP:20260424T161354
CREATED:20250211T170945Z
LAST-MODIFIED:20250211T195039Z
UID:964-1759777200-1759780800@cornerstone3cu.org
SUMMARY:Revival with George Holley - Evening Service
DESCRIPTION:Come hear Evangelist George Holley share the message the Lord has put on his heart! More details to come. \n  \nPlease note: George Holley’s preaching will take the place of regular Sunday morning and evening services on 10/5/2025 and the place of regular Wednesday evening service on 10/8/2025 (though at a different time Wednesday).
URL:https://cornerstone3cu.org/event/revival-with-george-holley-evening-service-2/
LOCATION:Cornerstone C.C.C.U. Sanctuary
CATEGORIES:All-Age Event,Community Event
END:VEVENT
BEGIN:VEVENT
DTSTART;TZID=UTC:20251005T180000
DTEND;TZID=UTC:20251005T190000
DTSTAMP:20260424T161354
CREATED:20250211T170546Z
LAST-MODIFIED:20250211T195102Z
UID:962-1759687200-1759690800@cornerstone3cu.org
SUMMARY:Revival with George Holley - Evening Service
DESCRIPTION:Come hear Evangelist George Holley share the message the Lord has put on his heart! More details to come. \n  \nPlease note: George Holley’s preaching will take the place of regular Sunday morning and evening services on 10/5/2025 and the place of regular Wednesday evening service on 10/8/2025 (though at a different time Wednesday).
URL:https://cornerstone3cu.org/event/revival-with-george-holley-evening-service/
LOCATION:Cornerstone C.C.C.U. Sanctuary
CATEGORIES:All-Age Event,Community Event
END:VEVENT
BEGIN:VEVENT
DTSTART;TZID=UTC:20251005T103000
DTEND;TZID=UTC:20251005T113000
DTSTAMP:20260424T161354
CREATED:20250211T170458Z
LAST-MODIFIED:20250211T195121Z
UID:960-1759660200-1759663800@cornerstone3cu.org
SUMMARY:Revival with George Holley - Morning Service
DESCRIPTION:Come hear Evangelist George Holley share the message the Lord has put on his heart! More details to come. \n  \nPlease note: George Holley’s preaching will take the place of regular Sunday morning and evening services on 10/5/2025 and the place of regular Wednesday evening service on 10/8/2025 (though at a different time Wednesday).
URL:https://cornerstone3cu.org/event/revival-with-george-holley-morning-service/
LOCATION:Cornerstone C.C.C.U. Sanctuary
CATEGORIES:All-Age Event,Community Event
END:VEVENT
BEGIN:VEVENT
DTSTART;TZID=UTC:20251005T103000
DTEND;TZID=UTC:20251005T113000
DTSTAMP:20260424T161354
CREATED:20240910T175445Z
LAST-MODIFIED:20240910T175445Z
UID:663-1759660200-1759663800@cornerstone3cu.org
SUMMARY:Kid Power Sunday
DESCRIPTION:The first Sunday of every month is Kid Power Sunday\, a Sunday where we remind our youth (and ourselves) the importance of supporting Missions around the world. Thank you for giving to Kid Power’s yearly goal!
URL:https://cornerstone3cu.org/event/kid-power-sunday-17/
LOCATION:Cornerstone C.C.C.U. Sanctuary
CATEGORIES:All-Age Event,Monthly Recurring Event
END:VEVENT
BEGIN:VEVENT
DTSTART;TZID=UTC:20251005T093000
DTEND;TZID=UTC:20251005T103000
DTSTAMP:20260424T161354
CREATED:20250811T233928Z
LAST-MODIFIED:20250811T233928Z
UID:1381-1759656600-1759660200@cornerstone3cu.org
SUMMARY:Adult and Youth Sunday Schools
DESCRIPTION:
URL:https://cornerstone3cu.org/event/adult-and-youth-sunday-schools-72/
CATEGORIES:Adult Event,Youth Event
END:VEVENT
BEGIN:VEVENT
DTSTART;TZID=UTC:20251001T180000
DTEND;TZID=UTC:20251001T190000
DTSTAMP:20260424T161354
CREATED:20250811T223655Z
LAST-MODIFIED:20250811T223655Z
UID:1311-1759341600-1759345200@cornerstone3cu.org
SUMMARY:Wednesday Evening Adult Prayer and Youth Services
DESCRIPTION:
URL:https://cornerstone3cu.org/event/wednesday-evening-adult-prayer-and-youth-services-62/
CATEGORIES:Adult Event,Youth Event
END:VEVENT
BEGIN:VEVENT
DTSTART;TZID=UTC:20250928T180000
DTEND;TZID=UTC:20250928T190000
DTSTAMP:20260424T161354
CREATED:20250811T225535Z
LAST-MODIFIED:20250811T225535Z
UID:1336-1759082400-1759086000@cornerstone3cu.org
SUMMARY:Adult and Youth Evening Services
DESCRIPTION:
URL:https://cornerstone3cu.org/event/adult-and-youth-evening-services-68/
CATEGORIES:Adult Event,Youth Event
END:VEVENT
BEGIN:VEVENT
DTSTART;TZID=UTC:20250928T103000
DTEND;TZID=UTC:20250928T113000
DTSTAMP:20260424T161354
CREATED:20250812T001913Z
LAST-MODIFIED:20250812T001913Z
UID:1415-1759055400-1759059000@cornerstone3cu.org
SUMMARY:Adult and Youth Morning Services
DESCRIPTION:
URL:https://cornerstone3cu.org/event/adult-and-youth-morning-services-62/
CATEGORIES:Adult Event,Youth Event
END:VEVENT
BEGIN:VEVENT
DTSTART;TZID=UTC:20250928T093000
DTEND;TZID=UTC:20250928T103000
DTSTAMP:20260424T161354
CREATED:20250811T233853Z
LAST-MODIFIED:20250811T233853Z
UID:1379-1759051800-1759055400@cornerstone3cu.org
SUMMARY:Adult and Youth Sunday Schools
DESCRIPTION:
URL:https://cornerstone3cu.org/event/adult-and-youth-sunday-schools-71/
CATEGORIES:Adult Event,Youth Event
END:VEVENT
BEGIN:VEVENT
DTSTART;TZID=UTC:20250924T180000
DTEND;TZID=UTC:20250924T190000
DTSTAMP:20260424T161354
CREATED:20250811T223520Z
LAST-MODIFIED:20250811T223520Z
UID:1309-1758736800-1758740400@cornerstone3cu.org
SUMMARY:Wednesday Evening Adult Prayer and Youth Services
DESCRIPTION:
URL:https://cornerstone3cu.org/event/wednesday-evening-adult-prayer-and-youth-services-61/
CATEGORIES:Adult Event,Youth Event
END:VEVENT
BEGIN:VEVENT
DTSTART;TZID=UTC:20250921T180000
DTEND;TZID=UTC:20250921T190000
DTSTAMP:20260424T161354
CREATED:20250811T225419Z
LAST-MODIFIED:20250811T225419Z
UID:1334-1758477600-1758481200@cornerstone3cu.org
SUMMARY:Adult and Youth Evening Services
DESCRIPTION:
URL:https://cornerstone3cu.org/event/adult-and-youth-evening-services-67/
CATEGORIES:Adult Event,Youth Event
END:VEVENT
BEGIN:VEVENT
DTSTART;TZID=UTC:20250921T103000
DTEND;TZID=UTC:20250921T113000
DTSTAMP:20260424T161354
CREATED:20250812T001526Z
LAST-MODIFIED:20250908T145035Z
UID:1413-1758450600-1758454200@cornerstone3cu.org
SUMMARY:Back to Church Sunday Services!
DESCRIPTION:This year\, Back to Church Sunday is September 21st. If you have not been to church in a while\, we invite you to visit us this Sunday especially\, to start getting to know people and reconnect with the Lord who loves you and made you. We so look forward to seeing you! And\, if you know of others who have been away from church for a while\, please invite them to join us–this day or any day! \n  \nLight refreshments will be passed out after this morning’s adult and youth services.
URL:https://cornerstone3cu.org/event/adult-and-youth-morning-services-61/
CATEGORIES:Adult Event,Youth Event
END:VEVENT
BEGIN:VEVENT
DTSTART;TZID=UTC:20250921T093000
DTEND;TZID=UTC:20250921T103000
DTSTAMP:20260424T161354
CREATED:20250811T232151Z
LAST-MODIFIED:20250811T232151Z
UID:1377-1758447000-1758450600@cornerstone3cu.org
SUMMARY:Adult and Youth Sunday Schools
DESCRIPTION:
URL:https://cornerstone3cu.org/event/adult-and-youth-sunday-schools-70/
CATEGORIES:Adult Event,Youth Event
END:VEVENT
BEGIN:VEVENT
DTSTART;TZID=UTC:20250920T080000
DTEND;TZID=UTC:20250920T130000
DTSTAMP:20260424T161354
CREATED:20250819T163314Z
LAST-MODIFIED:20250819T163555Z
UID:1438-1758355200-1758373200@cornerstone3cu.org
SUMMARY:Sprint for Survivors - She Dreams Again
DESCRIPTION:From the She Dreams Again website… “This is She Dreams Again’s 7th annual 5k walk/run\, just with a new name! Also\, this year there will be 1-Mile\, 5k and 10k walk/run options. She Dreams Again has partnered with Plain City Nutrition who will be bringing a variety of their teas; and Rocky Mountain Coffee Co will also be there with their trailer with coffee\, drinks\, and pastries. She Dreams Again is still looking for business sponsors.” To sign up for the race ($45 per person)\, please visit “Sprint” for Survivors – Raising Awareness for Human Trafficking ; check-in is at 8:00am. Or\, to volunteer at a water or registration table\, please visit https://www.signupgenius.com/go/10C0E45ADAB28AAF5C61-57000957-sprint . \n  \nThank you\, and see you there!
URL:https://cornerstone3cu.org/event/sprint-for-survivors-she-dreams-again/
LOCATION:Schwartzkopf Park\, 501 N. Maple St.\, Marysville\, OH\, 43040\, United States
CATEGORIES:Community Event
ORGANIZER;CN="She Dreams Again":MAILTO:info.shedreamsagain@gmail.com
END:VEVENT
BEGIN:VEVENT
DTSTART;TZID=UTC:20250917T180000
DTEND;TZID=UTC:20250917T190000
DTSTAMP:20260424T161354
CREATED:20250811T223451Z
LAST-MODIFIED:20250811T223451Z
UID:1307-1758132000-1758135600@cornerstone3cu.org
SUMMARY:Wednesday Evening Adult Prayer and Youth Services
DESCRIPTION:
URL:https://cornerstone3cu.org/event/wednesday-evening-adult-prayer-and-youth-services-60/
CATEGORIES:Adult Event,Youth Event
END:VEVENT
BEGIN:VEVENT
DTSTART;TZID=UTC:20250914T180000
DTEND;TZID=UTC:20250914T190000
DTSTAMP:20260424T161354
CREATED:20250811T225335Z
LAST-MODIFIED:20250915T152424Z
UID:1332-1757872800-1757876400@cornerstone3cu.org
SUMMARY:Adult and Youth Evening Services - Canceled/Moved
DESCRIPTION:There will be no service held at Cornerstone on the evening of September 14. Please join us instead for the first night of Revival at Hayden Enterprise Baptist in Hilliard at 6:00pm!
URL:https://cornerstone3cu.org/event/adult-and-youth-evening-services-66/
CATEGORIES:Adult Event,Youth Event
END:VEVENT
BEGIN:VEVENT
DTSTART;TZID=UTC:20250914T103000
DTEND;TZID=UTC:20250914T113000
DTSTAMP:20260424T161354
CREATED:20250812T001239Z
LAST-MODIFIED:20250812T001239Z
UID:1411-1757845800-1757849400@cornerstone3cu.org
SUMMARY:Adult and Youth Morning Services
DESCRIPTION:
URL:https://cornerstone3cu.org/event/adult-and-youth-morning-services-60/
CATEGORIES:Adult Event,Youth Event
END:VEVENT
BEGIN:VEVENT
DTSTART;TZID=UTC:20250914T093000
DTEND;TZID=UTC:20250914T103000
DTSTAMP:20260424T161354
CREATED:20250811T232006Z
LAST-MODIFIED:20250811T232006Z
UID:1375-1757842200-1757845800@cornerstone3cu.org
SUMMARY:Adult and Youth Sunday Schools
DESCRIPTION:
URL:https://cornerstone3cu.org/event/adult-and-youth-sunday-schools-69/
CATEGORIES:Adult Event,Youth Event
END:VEVENT
BEGIN:VEVENT
DTSTART;TZID=UTC:20250910T180000
DTEND;TZID=UTC:20250910T190000
DTSTAMP:20260424T161354
CREATED:20250811T223421Z
LAST-MODIFIED:20250811T223421Z
UID:1305-1757527200-1757530800@cornerstone3cu.org
SUMMARY:Wednesday Evening Adult Prayer and Youth Services
DESCRIPTION:
URL:https://cornerstone3cu.org/event/wednesday-evening-adult-prayer-and-youth-services-59/
CATEGORIES:Adult Event,Youth Event
END:VEVENT
BEGIN:VEVENT
DTSTART;TZID=UTC:20250908T180000
DTEND;TZID=UTC:20250908T203000
DTSTAMP:20260424T161354
CREATED:20240910T175959Z
LAST-MODIFIED:20240910T180000Z
UID:685-1757354400-1757363400@cornerstone3cu.org
SUMMARY:September 2025 Board Meeting
DESCRIPTION:(This event is usually held at 6:00pm on the second Monday of each month.)
URL:https://cornerstone3cu.org/event/september-2025-board-meeting/
LOCATION:Cornerstone C.C.C.U. Fellowship Hall​
CATEGORIES:Adult Event,Monthly Recurring Event
END:VEVENT
BEGIN:VEVENT
DTSTART;TZID=UTC:20250907T180000
DTEND;TZID=UTC:20250907T190000
DTSTAMP:20260424T161354
CREATED:20250811T224832Z
LAST-MODIFIED:20250811T224832Z
UID:1330-1757268000-1757271600@cornerstone3cu.org
SUMMARY:Adult and Youth Evening Services
DESCRIPTION:
URL:https://cornerstone3cu.org/event/adult-and-youth-evening-services-65/
CATEGORIES:Adult Event,Youth Event
END:VEVENT
BEGIN:VEVENT
DTSTART;TZID=UTC:20250907T103000
DTEND;TZID=UTC:20250907T113000
DTSTAMP:20260424T161354
CREATED:20250812T000836Z
LAST-MODIFIED:20250812T000836Z
UID:1409-1757241000-1757244600@cornerstone3cu.org
SUMMARY:Adult and Youth Morning Services
DESCRIPTION:
URL:https://cornerstone3cu.org/event/adult-and-youth-morning-services-59/
CATEGORIES:Adult Event,Youth Event
END:VEVENT
END:VCALENDAR