BEGIN:VCALENDAR
VERSION:2.0
PRODID:-//Cornerstone Church of Christ in Christian Union - ECPv6.15.20//NONSGML v1.0//EN
CALSCALE:GREGORIAN
METHOD:PUBLISH
X-ORIGINAL-URL:https://cornerstone3cu.org
X-WR-CALDESC:Events for Cornerstone Church of Christ in Christian Union
REFRESH-INTERVAL;VALUE=DURATION:PT1H
X-Robots-Tag:noindex
X-PUBLISHED-TTL:PT1H
BEGIN:VTIMEZONE
TZID:UTC
BEGIN:STANDARD
TZOFFSETFROM:+0000
TZOFFSETTO:+0000
TZNAME:UTC
DTSTART:20250101T000000
END:STANDARD
END:VTIMEZONE
BEGIN:VEVENT
DTSTART;TZID=UTC:20261018T180000
DTEND;TZID=UTC:20261018T190000
DTSTAMP:20260424T161519
CREATED:20251110T234530Z
LAST-MODIFIED:20251110T234530Z
UID:1499-1792346400-1792350000@cornerstone3cu.org
SUMMARY:Revival with Dr. C. Adam Buckler - Evening Service
DESCRIPTION:Come hear Dr. C. Adam Buckler\, president of Union Bible College\, share the message the Lord has put on his heart! More details to come. \n  \nPlease note: Dr. Buckler’s preaching will take the place of regular Sunday morning and evening services on 10/18/2026 and the place of regular Wednesday evening service on 10/21/2026 (though at a different time Wednesday).
URL:https://cornerstone3cu.org/event/revival-with-dr-c-adam-buckler-evening-service-5/
LOCATION:Cornerstone C.C.C.U. Sanctuary
CATEGORIES:All-Age Event,Community Event
END:VEVENT
BEGIN:VEVENT
DTSTART;TZID=UTC:20261019T190000
DTEND;TZID=UTC:20261019T200000
DTSTAMP:20260424T161519
CREATED:20251110T234618Z
LAST-MODIFIED:20251110T234618Z
UID:1500-1792436400-1792440000@cornerstone3cu.org
SUMMARY:Revival with Dr. C. Adam Buckler - Evening Service
DESCRIPTION:Come hear Dr. C. Adam Buckler\, president of Union Bible College\, share the message the Lord has put on his heart! More details to come. \n  \nPlease note: Dr. Buckler’s preaching will take the place of regular Sunday morning and evening services on 10/18/2026 and the place of regular Wednesday evening service on 10/21/2026 (though at a different time Wednesday).
URL:https://cornerstone3cu.org/event/revival-with-dr-c-adam-buckler-evening-service-6/
LOCATION:Cornerstone C.C.C.U. Sanctuary
CATEGORIES:All-Age Event,Community Event
END:VEVENT
BEGIN:VEVENT
DTSTART;TZID=UTC:20261020T190000
DTEND;TZID=UTC:20261020T200000
DTSTAMP:20260424T161519
CREATED:20251110T234702Z
LAST-MODIFIED:20251110T234702Z
UID:1501-1792522800-1792526400@cornerstone3cu.org
SUMMARY:Revival with Dr. C. Adam Buckler - Evening Service
DESCRIPTION:Come hear Dr. C. Adam Buckler\, president of Union Bible College\, share the message the Lord has put on his heart! More details to come. \n  \nPlease note: Dr. Buckler’s preaching will take the place of regular Sunday morning and evening services on 10/18/2026 and the place of regular Wednesday evening service on 10/21/2026 (though at a different time Wednesday).
URL:https://cornerstone3cu.org/event/revival-with-dr-c-adam-buckler-evening-service-7/
LOCATION:Cornerstone C.C.C.U. Sanctuary
CATEGORIES:All-Age Event,Community Event
END:VEVENT
BEGIN:VEVENT
DTSTART;TZID=UTC:20261021T180000
DTEND;TZID=UTC:20261021T190000
DTSTAMP:20260424T161519
CREATED:20260114T173556Z
LAST-MODIFIED:20260114T173556Z
UID:1999-1792605600-1792609200@cornerstone3cu.org
SUMMARY:Wednesday Evening Adult Prayer and Youth Services
DESCRIPTION:
URL:https://cornerstone3cu.org/event/wednesday-evening-adult-prayer-and-youth-services-113/
CATEGORIES:Adult Event,Youth Event
END:VEVENT
BEGIN:VEVENT
DTSTART;TZID=UTC:20261021T190000
DTEND;TZID=UTC:20261021T200000
DTSTAMP:20260424T161519
CREATED:20251110T234753Z
LAST-MODIFIED:20251110T234753Z
UID:1502-1792609200-1792612800@cornerstone3cu.org
SUMMARY:Revival with Dr. C. Adam Buckler - Evening Service
DESCRIPTION:Come hear Dr. C. Adam Buckler\, president of Union Bible College\, share the message the Lord has put on his heart! More details to come. \n  \nPlease note: Dr. Buckler’s preaching will take the place of regular Sunday morning and evening services on 10/18/2026 and the place of regular Wednesday evening service on 10/21/2026 (though at a different time Wednesday).
URL:https://cornerstone3cu.org/event/revival-with-dr-c-adam-buckler-evening-service-8/
LOCATION:Cornerstone C.C.C.U. Sanctuary
CATEGORIES:All-Age Event,Community Event
END:VEVENT
BEGIN:VEVENT
DTSTART;TZID=UTC:20261025T093000
DTEND;TZID=UTC:20261025T103000
DTSTAMP:20260424T161519
CREATED:20260113T233401Z
LAST-MODIFIED:20260113T233401Z
UID:1921-1792920600-1792924200@cornerstone3cu.org
SUMMARY:Adult and Youth Sunday Schools
DESCRIPTION:
URL:https://cornerstone3cu.org/event/adult-and-youth-sunday-schools-127/
CATEGORIES:Adult Event,Youth Event
END:VEVENT
BEGIN:VEVENT
DTSTART;TZID=UTC:20261025T103000
DTEND;TZID=UTC:20261025T113000
DTSTAMP:20260424T161519
CREATED:20260114T170800Z
LAST-MODIFIED:20260114T171018Z
UID:1950-1792924200-1792927800@cornerstone3cu.org
SUMMARY:Adult and Youth Morning Services
DESCRIPTION:
URL:https://cornerstone3cu.org/event/adult-and-youth-morning-services-115/
CATEGORIES:Adult Event,Youth Event
END:VEVENT
BEGIN:VEVENT
DTSTART;TZID=UTC:20261025T180000
DTEND;TZID=UTC:20261025T190000
DTSTAMP:20260424T161519
CREATED:20260114T172628Z
LAST-MODIFIED:20260114T172705Z
UID:1974-1792951200-1792954800@cornerstone3cu.org
SUMMARY:Adult and Youth Evening Services
DESCRIPTION:
URL:https://cornerstone3cu.org/event/adult-and-youth-evening-services-120/
CATEGORIES:Adult Event,Youth Event
END:VEVENT
BEGIN:VEVENT
DTSTART;TZID=UTC:20261028T180000
DTEND;TZID=UTC:20261028T190000
DTSTAMP:20260424T161519
CREATED:20260114T173620Z
LAST-MODIFIED:20260114T173620Z
UID:2001-1793210400-1793214000@cornerstone3cu.org
SUMMARY:Wednesday Evening Adult Prayer and Youth Services
DESCRIPTION:
URL:https://cornerstone3cu.org/event/wednesday-evening-adult-prayer-and-youth-services-114/
CATEGORIES:Adult Event,Youth Event
END:VEVENT
BEGIN:VEVENT
DTSTART;TZID=UTC:20261101T093000
DTEND;TZID=UTC:20261101T103000
DTSTAMP:20260424T161519
CREATED:20260114T190950Z
LAST-MODIFIED:20260114T190950Z
UID:2065-1793525400-1793529000@cornerstone3cu.org
SUMMARY:Adult and Youth Sunday Schools
DESCRIPTION:
URL:https://cornerstone3cu.org/event/adult-and-youth-sunday-schools-128/
CATEGORIES:Adult Event,Youth Event
END:VEVENT
BEGIN:VEVENT
DTSTART;TZID=UTC:20261101T103000
DTEND;TZID=UTC:20261101T113000
DTSTAMP:20260424T161519
CREATED:20251229T142754Z
LAST-MODIFIED:20251229T142754Z
UID:1531-1793529000-1793532600@cornerstone3cu.org
SUMMARY:Kid Power Sunday
DESCRIPTION:The first Sunday of every month is Kid Power Sunday\, a Sunday where we remind our youth (and ourselves) the importance of supporting Missions around the world. Thank you for giving to Kid Power’s yearly goal!
URL:https://cornerstone3cu.org/event/kid-power-sunday-30/
LOCATION:Cornerstone C.C.C.U. Sanctuary
CATEGORIES:All-Age Event,Monthly Recurring Event
END:VEVENT
BEGIN:VEVENT
DTSTART;TZID=UTC:20261101T103000
DTEND;TZID=UTC:20261101T113000
DTSTAMP:20260424T161519
CREATED:20260114T190530Z
LAST-MODIFIED:20260114T190530Z
UID:2047-1793529000-1793532600@cornerstone3cu.org
SUMMARY:Adult and Youth Morning Services
DESCRIPTION:
URL:https://cornerstone3cu.org/event/adult-and-youth-morning-services-95/
CATEGORIES:Adult Event,Youth Event
END:VEVENT
BEGIN:VEVENT
DTSTART;TZID=UTC:20261101T180000
DTEND;TZID=UTC:20261101T190000
DTSTAMP:20260424T161519
CREATED:20260114T173759Z
LAST-MODIFIED:20260114T173759Z
UID:1976-1793556000-1793559600@cornerstone3cu.org
SUMMARY:Adult and Youth Evening Services
DESCRIPTION:
URL:https://cornerstone3cu.org/event/adult-and-youth-evening-services-121/
CATEGORIES:Adult Event,Youth Event
END:VEVENT
BEGIN:VEVENT
DTSTART;TZID=UTC:20261103T100000
DTEND;TZID=UTC:20261103T113000
DTSTAMP:20260424T161519
CREATED:20251229T153053Z
LAST-MODIFIED:20251229T153053Z
UID:1601-1793700000-1793705400@cornerstone3cu.org
SUMMARY:Senior Adult Group - Brunch
DESCRIPTION:Retired? Have some extra time on your hands? Want to fellowship with other believers in the Plain City area? \nJoin us Tuesday\, November 3rd\, for the meeting of Cornerstone’s Senior Adults Group! We will now be meeting regularly for brunch at Der Dutchman at 10:00am on the first Tuesday of the month\, and other events are in the works. \nIf you are planning on attending\, please sign up at the Welcome Desk or let Pastor Mark Barth know directly\, as we need to know how many people are coming in order to request a big enough table when we first arrive. Thank you\, and Lord willing\, see you there.
URL:https://cornerstone3cu.org/event/senior-adult-group-brunch-23/
LOCATION:Der Dutchman\, 445 S. Jefferson Ave.\, Plain City\, Ohio\, 43064\, United States
CATEGORIES:Adult Event,Monthly Recurring Event
END:VEVENT
BEGIN:VEVENT
DTSTART;TZID=UTC:20261104T180000
DTEND;TZID=UTC:20261104T190000
DTSTAMP:20260424T161519
CREATED:20260114T184724Z
LAST-MODIFIED:20260114T184724Z
UID:2020-1793815200-1793818800@cornerstone3cu.org
SUMMARY:Wednesday Evening Adult Prayer and Youth Services
DESCRIPTION:
URL:https://cornerstone3cu.org/event/wednesday-evening-adult-prayer-and-youth-services-115/
CATEGORIES:Adult Event,Youth Event
END:VEVENT
BEGIN:VEVENT
DTSTART;TZID=UTC:20261108T093000
DTEND;TZID=UTC:20261108T103000
DTSTAMP:20260424T161519
CREATED:20260114T191017Z
LAST-MODIFIED:20260114T191017Z
UID:2067-1794130200-1794133800@cornerstone3cu.org
SUMMARY:Adult and Youth Sunday Schools
DESCRIPTION:
URL:https://cornerstone3cu.org/event/adult-and-youth-sunday-schools-129/
CATEGORIES:Adult Event,Youth Event
END:VEVENT
BEGIN:VEVENT
DTSTART;TZID=UTC:20261108T103000
DTEND;TZID=UTC:20261108T113000
DTSTAMP:20260424T161519
CREATED:20260114T190558Z
LAST-MODIFIED:20260114T190558Z
UID:2049-1794133800-1794137400@cornerstone3cu.org
SUMMARY:Adult and Youth Morning Services
DESCRIPTION:
URL:https://cornerstone3cu.org/event/adult-and-youth-morning-services-116/
CATEGORIES:Adult Event,Youth Event
END:VEVENT
BEGIN:VEVENT
DTSTART;TZID=UTC:20261108T180000
DTEND;TZID=UTC:20261108T190000
DTSTAMP:20260424T161519
CREATED:20260114T173848Z
LAST-MODIFIED:20260114T173848Z
UID:2004-1794160800-1794164400@cornerstone3cu.org
SUMMARY:Adult and Youth Evening Services
DESCRIPTION:
URL:https://cornerstone3cu.org/event/adult-and-youth-evening-services-122/
CATEGORIES:Adult Event,Youth Event
END:VEVENT
BEGIN:VEVENT
DTSTART;TZID=UTC:20261109T180000
DTEND;TZID=UTC:20261109T203000
DTSTAMP:20260424T161519
CREATED:20251229T143118Z
LAST-MODIFIED:20251229T143118Z
UID:1543-1794247200-1794256200@cornerstone3cu.org
SUMMARY:November 2026 Board Meeting
DESCRIPTION:(This event is usually held at 6:00pm on the second Monday of each month.)
URL:https://cornerstone3cu.org/event/november-2026-board-meeting/
LOCATION:Cornerstone C.C.C.U. Fellowship Hall​
CATEGORIES:Adult Event,Monthly Recurring Event
END:VEVENT
BEGIN:VEVENT
DTSTART;TZID=UTC:20261111T180000
DTEND;TZID=UTC:20261111T190000
DTSTAMP:20260424T161519
CREATED:20260114T184752Z
LAST-MODIFIED:20260114T184752Z
UID:2022-1794420000-1794423600@cornerstone3cu.org
SUMMARY:Wednesday Evening Adult Prayer and Youth Services
DESCRIPTION:
URL:https://cornerstone3cu.org/event/wednesday-evening-adult-prayer-and-youth-services-116/
CATEGORIES:Adult Event,Youth Event
END:VEVENT
BEGIN:VEVENT
DTSTART;TZID=UTC:20261115T093000
DTEND;TZID=UTC:20261115T103000
DTSTAMP:20260424T161519
CREATED:20260114T191101Z
LAST-MODIFIED:20260114T191101Z
UID:2069-1794735000-1794738600@cornerstone3cu.org
SUMMARY:Adult and Youth Sunday Schools
DESCRIPTION:
URL:https://cornerstone3cu.org/event/adult-and-youth-sunday-schools-130/
CATEGORIES:Adult Event,Youth Event
END:VEVENT
BEGIN:VEVENT
DTSTART;TZID=UTC:20261115T103000
DTEND;TZID=UTC:20261115T113000
DTSTAMP:20260424T161519
CREATED:20260114T190622Z
LAST-MODIFIED:20260114T190622Z
UID:2051-1794738600-1794742200@cornerstone3cu.org
SUMMARY:Adult and Youth Morning Services
DESCRIPTION:
URL:https://cornerstone3cu.org/event/adult-and-youth-morning-services-117/
CATEGORIES:Adult Event,Youth Event
END:VEVENT
BEGIN:VEVENT
DTSTART;TZID=UTC:20261115T180000
DTEND;TZID=UTC:20261115T190000
DTSTAMP:20260424T161519
CREATED:20260114T173915Z
LAST-MODIFIED:20260114T173915Z
UID:2006-1794765600-1794769200@cornerstone3cu.org
SUMMARY:Adult and Youth Evening Services
DESCRIPTION:
URL:https://cornerstone3cu.org/event/adult-and-youth-evening-services-123/
CATEGORIES:Adult Event,Youth Event
END:VEVENT
BEGIN:VEVENT
DTSTART;TZID=UTC:20261118T180000
DTEND;TZID=UTC:20261118T190000
DTSTAMP:20260424T161519
CREATED:20260114T184821Z
LAST-MODIFIED:20260114T184821Z
UID:2024-1795024800-1795028400@cornerstone3cu.org
SUMMARY:Wednesday Evening Adult Prayer and Youth Services
DESCRIPTION:
URL:https://cornerstone3cu.org/event/wednesday-evening-adult-prayer-and-youth-services-117/
CATEGORIES:Adult Event,Youth Event
END:VEVENT
BEGIN:VEVENT
DTSTART;TZID=UTC:20261122T093000
DTEND;TZID=UTC:20261122T103000
DTSTAMP:20260424T161519
CREATED:20260114T191127Z
LAST-MODIFIED:20260114T191127Z
UID:2071-1795339800-1795343400@cornerstone3cu.org
SUMMARY:Adult and Youth Sunday Schools
DESCRIPTION:
URL:https://cornerstone3cu.org/event/adult-and-youth-sunday-schools-131/
CATEGORIES:Adult Event,Youth Event
END:VEVENT
BEGIN:VEVENT
DTSTART;TZID=UTC:20261122T103000
DTEND;TZID=UTC:20261122T113000
DTSTAMP:20260424T161519
CREATED:20260114T190659Z
LAST-MODIFIED:20260114T190659Z
UID:2053-1795343400-1795347000@cornerstone3cu.org
SUMMARY:Adult and Youth Morning Services
DESCRIPTION:
URL:https://cornerstone3cu.org/event/adult-and-youth-morning-services-118/
CATEGORIES:Adult Event,Youth Event
END:VEVENT
BEGIN:VEVENT
DTSTART;TZID=UTC:20261122T180000
DTEND;TZID=UTC:20261122T190000
DTSTAMP:20260424T161519
CREATED:20260114T173946Z
LAST-MODIFIED:20260114T173946Z
UID:2008-1795370400-1795374000@cornerstone3cu.org
SUMMARY:Adult and Youth Evening Services
DESCRIPTION:
URL:https://cornerstone3cu.org/event/adult-and-youth-evening-services-124/
CATEGORIES:Adult Event,Youth Event
END:VEVENT
BEGIN:VEVENT
DTSTART;TZID=UTC:20261125T180000
DTEND;TZID=UTC:20261125T190000
DTSTAMP:20260424T161519
CREATED:20260114T184849Z
LAST-MODIFIED:20260114T184849Z
UID:2026-1795629600-1795633200@cornerstone3cu.org
SUMMARY:Wednesday Evening Adult Prayer and Youth Services
DESCRIPTION:
URL:https://cornerstone3cu.org/event/wednesday-evening-adult-prayer-and-youth-services-118/
CATEGORIES:Adult Event,Youth Event
END:VEVENT
BEGIN:VEVENT
DTSTART;TZID=UTC:20261129T093000
DTEND;TZID=UTC:20261129T103000
DTSTAMP:20260424T161519
CREATED:20260114T191220Z
LAST-MODIFIED:20260114T191220Z
UID:2073-1795944600-1795948200@cornerstone3cu.org
SUMMARY:Adult and Youth Sunday Schools
DESCRIPTION:
URL:https://cornerstone3cu.org/event/adult-and-youth-sunday-schools-132/
CATEGORIES:Adult Event,Youth Event
END:VEVENT
BEGIN:VEVENT
DTSTART;TZID=UTC:20261129T103000
DTEND;TZID=UTC:20261129T113000
DTSTAMP:20260424T161519
CREATED:20260114T190721Z
LAST-MODIFIED:20260114T190721Z
UID:2055-1795948200-1795951800@cornerstone3cu.org
SUMMARY:Adult and Youth Morning Services
DESCRIPTION:
URL:https://cornerstone3cu.org/event/adult-and-youth-morning-services-119/
CATEGORIES:Adult Event,Youth Event
END:VEVENT
END:VCALENDAR