BEGIN:VCALENDAR
VERSION:2.0
PRODID:-//Cornerstone Church of Christ in Christian Union - ECPv6.15.20//NONSGML v1.0//EN
CALSCALE:GREGORIAN
METHOD:PUBLISH
X-WR-CALNAME:Cornerstone Church of Christ in Christian Union
X-ORIGINAL-URL:https://cornerstone3cu.org
X-WR-CALDESC:Events for Cornerstone Church of Christ in Christian Union
REFRESH-INTERVAL;VALUE=DURATION:PT1H
X-Robots-Tag:noindex
X-PUBLISHED-TTL:PT1H
BEGIN:VTIMEZONE
TZID:UTC
BEGIN:STANDARD
TZOFFSETFROM:+0000
TZOFFSETTO:+0000
TZNAME:UTC
DTSTART:20240101T000000
END:STANDARD
END:VTIMEZONE
BEGIN:VEVENT
DTSTART;TZID=UTC:20250817T103000
DTEND;TZID=UTC:20250817T113000
DTSTAMP:20260426T024912
CREATED:20250812T000653Z
LAST-MODIFIED:20250812T000653Z
UID:1403-1755426600-1755430200@cornerstone3cu.org
SUMMARY:Adult and Youth Morning Services
DESCRIPTION:
URL:https://cornerstone3cu.org/event/adult-and-youth-morning-services-56/
CATEGORIES:Adult Event,Youth Event
END:VEVENT
BEGIN:VEVENT
DTSTART;TZID=UTC:20250817T093000
DTEND;TZID=UTC:20250817T103000
DTSTAMP:20260426T024912
CREATED:20250811T231452Z
LAST-MODIFIED:20250811T231452Z
UID:1367-1755423000-1755426600@cornerstone3cu.org
SUMMARY:Adult and Youth Sunday Schools
DESCRIPTION:
URL:https://cornerstone3cu.org/event/adult-and-youth-sunday-schools-65/
CATEGORIES:Adult Event,Youth Event
END:VEVENT
BEGIN:VEVENT
DTSTART;TZID=UTC:20250813T180000
DTEND;TZID=UTC:20250813T190000
DTSTAMP:20260426T024912
CREATED:20250811T223210Z
LAST-MODIFIED:20250811T223210Z
UID:1297-1755108000-1755111600@cornerstone3cu.org
SUMMARY:Wednesday Evening Adult Prayer and Youth Services
DESCRIPTION:
URL:https://cornerstone3cu.org/event/wednesday-evening-adult-prayer-and-youth-services-55/
CATEGORIES:Adult Event,Youth Event
END:VEVENT
BEGIN:VEVENT
DTSTART;TZID=UTC:20250811T180000
DTEND;TZID=UTC:20250811T203000
DTSTAMP:20260426T024912
CREATED:20240910T175932Z
LAST-MODIFIED:20240910T175932Z
UID:683-1754935200-1754944200@cornerstone3cu.org
SUMMARY:August 2025 Board Meeting
DESCRIPTION:(This event is usually held at 6:00pm on the second Monday of each month.)
URL:https://cornerstone3cu.org/event/august-2025-board-meeting/
LOCATION:Cornerstone C.C.C.U. Fellowship Hall​
CATEGORIES:Adult Event,Monthly Recurring Event
END:VEVENT
BEGIN:VEVENT
DTSTART;TZID=UTC:20250810T180000
DTEND;TZID=UTC:20250810T190000
DTSTAMP:20260426T024912
CREATED:20250811T224229Z
LAST-MODIFIED:20250811T224229Z
UID:1322-1754848800-1754852400@cornerstone3cu.org
SUMMARY:Adult and Youth Evening Services
DESCRIPTION:
URL:https://cornerstone3cu.org/event/adult-and-youth-evening-services-62/
CATEGORIES:Adult Event,Youth Event
END:VEVENT
BEGIN:VEVENT
DTSTART;TZID=UTC:20250810T103000
DTEND;TZID=UTC:20250810T113000
DTSTAMP:20260426T024912
CREATED:20250812T000506Z
LAST-MODIFIED:20250812T000506Z
UID:1401-1754821800-1754825400@cornerstone3cu.org
SUMMARY:Adult and Youth Morning Services
DESCRIPTION:
URL:https://cornerstone3cu.org/event/adult-and-youth-morning-services-55/
CATEGORIES:Adult Event,Youth Event
END:VEVENT
BEGIN:VEVENT
DTSTART;TZID=UTC:20250810T093000
DTEND;TZID=UTC:20250810T103000
DTSTAMP:20260426T024912
CREATED:20250811T231409Z
LAST-MODIFIED:20250811T231409Z
UID:1365-1754818200-1754821800@cornerstone3cu.org
SUMMARY:Adult and Youth Sunday Schools
DESCRIPTION:
URL:https://cornerstone3cu.org/event/adult-and-youth-sunday-schools-64/
CATEGORIES:Adult Event,Youth Event
END:VEVENT
BEGIN:VEVENT
DTSTART;TZID=UTC:20250806T180000
DTEND;TZID=UTC:20250806T190000
DTSTAMP:20260426T024912
CREATED:20250811T223131Z
LAST-MODIFIED:20250811T223131Z
UID:1295-1754503200-1754506800@cornerstone3cu.org
SUMMARY:Wednesday Evening Adult Prayer and Youth Services
DESCRIPTION:
URL:https://cornerstone3cu.org/event/wednesday-evening-adult-prayer-and-youth-services-54/
CATEGORIES:Adult Event,Youth Event
END:VEVENT
BEGIN:VEVENT
DTSTART;TZID=UTC:20250805T100000
DTEND;TZID=UTC:20250805T113000
DTSTAMP:20260426T024912
CREATED:20251229T152038Z
LAST-MODIFIED:20251229T152038Z
UID:1571-1754388000-1754393400@cornerstone3cu.org
SUMMARY:Senior Adult Group - Brunch
DESCRIPTION:Retired? Have some extra time on your hands? Want to fellowship with other believers in the Plain City area? \nJoin us Tuesday\, August 5th\, for the meeting of Cornerstone’s Senior Adults Group! We will now be meeting regularly for brunch at Der Dutchman at 10:00am on the first Tuesday of the month\, and other events are in the works. \nIf you are planning on attending\, please sign up at the Welcome Desk or let Pastor Mark Barth know directly\, as we need to know how many people are coming in order to request a big enough table when we first arrive. Thank you\, and Lord willing\, see you there.
URL:https://cornerstone3cu.org/event/senior-adult-group-brunch-8/
LOCATION:Der Dutchman\, 445 S. Jefferson Ave.\, Plain City\, Ohio\, 43064\, United States
CATEGORIES:Adult Event,Monthly Recurring Event
END:VEVENT
BEGIN:VEVENT
DTSTART;TZID=UTC:20250804T180000
DTEND;TZID=UTC:20250804T200000
DTSTAMP:20260426T024912
CREATED:20240910T175621Z
LAST-MODIFIED:20250521T160511Z
UID:671-1754330400-1754337600@cornerstone3cu.org
SUMMARY:Care Night - Held Offsite
DESCRIPTION:Care Nights during the summer of 2025 (June\, July\, August\, September) will not be held at Cornerstone Church. If you have questions\, please speak with Michele Husband. Thank you! \n(This event is usually scheduled for 6:00pm on the first Monday of every month.)
URL:https://cornerstone3cu.org/event/care-night-16/
LOCATION:Cornerstone C.C.C.U. Fellowship Hall​
CATEGORIES:Monthly Recurring Event
END:VEVENT
BEGIN:VEVENT
DTSTART;TZID=UTC:20250803T180000
DTEND;TZID=UTC:20250803T190000
DTSTAMP:20260426T024912
CREATED:20250811T224142Z
LAST-MODIFIED:20250811T224142Z
UID:1320-1754244000-1754247600@cornerstone3cu.org
SUMMARY:Adult and Youth Evening Services
DESCRIPTION:
URL:https://cornerstone3cu.org/event/adult-and-youth-evening-services-61/
CATEGORIES:Adult Event,Youth Event
END:VEVENT
BEGIN:VEVENT
DTSTART;TZID=UTC:20250803T103000
DTEND;TZID=UTC:20250803T113000
DTSTAMP:20260426T024912
CREATED:20250812T000439Z
LAST-MODIFIED:20250812T000439Z
UID:1399-1754217000-1754220600@cornerstone3cu.org
SUMMARY:Adult and Youth Morning Services
DESCRIPTION:
URL:https://cornerstone3cu.org/event/adult-and-youth-morning-services-54/
CATEGORIES:Adult Event,Youth Event
END:VEVENT
BEGIN:VEVENT
DTSTART;TZID=UTC:20250803T103000
DTEND;TZID=UTC:20250803T113000
DTSTAMP:20260426T024912
CREATED:20240910T175357Z
LAST-MODIFIED:20240910T175357Z
UID:659-1754217000-1754220600@cornerstone3cu.org
SUMMARY:Kid Power Sunday
DESCRIPTION:The first Sunday of every month is Kid Power Sunday\, a Sunday where we remind our youth (and ourselves) the importance of supporting Missions around the world. Thank you for giving to Kid Power’s yearly goal!
URL:https://cornerstone3cu.org/event/kid-power-sunday-15/
LOCATION:Cornerstone C.C.C.U. Sanctuary
CATEGORIES:All-Age Event,Monthly Recurring Event
END:VEVENT
BEGIN:VEVENT
DTSTART;TZID=UTC:20250803T093000
DTEND;TZID=UTC:20250803T103000
DTSTAMP:20260426T024912
CREATED:20250811T231315Z
LAST-MODIFIED:20250811T231315Z
UID:1363-1754213400-1754217000@cornerstone3cu.org
SUMMARY:Adult and Youth Sunday Schools
DESCRIPTION:
URL:https://cornerstone3cu.org/event/adult-and-youth-sunday-schools-63/
CATEGORIES:Adult Event,Youth Event
END:VEVENT
BEGIN:VEVENT
DTSTART;TZID=UTC:20250730T183000
DTEND;TZID=UTC:20250730T203000
DTSTAMP:20260426T024912
CREATED:20250513T000535Z
LAST-MODIFIED:20250513T000535Z
UID:1083-1753900200-1753907400@cornerstone3cu.org
SUMMARY:Cornerstone Kids VBS 2025! - Day 3
DESCRIPTION:Come join us the evenings of July 28th\, 29th\, and 30th\, from 6:30pm-8:30pm to have fun\, make new friends\, and (most importantly) learn about the love and power of Jesus Christ! This is a free event for children ages 4-12. Sign up on a Sunday morning or on any day of the event. We hope to see you there!
URL:https://cornerstone3cu.org/event/cornerstone-kids-vbs-2025-day-3/
LOCATION:Cornerstone C.C.C.U. Grounds\, 8280 Rickard Road\, Plain City\, OH\, 43064\, United States
CATEGORIES:Community Event,Youth Event
END:VEVENT
BEGIN:VEVENT
DTSTART;TZID=UTC:20250730T180000
DTEND;TZID=UTC:20250730T190000
DTSTAMP:20260426T024912
CREATED:20250521T181245Z
LAST-MODIFIED:20250527T180149Z
UID:1129-1753898400-1753902000@cornerstone3cu.org
SUMMARY:NO Wednesday Evening Services Due to VBS
DESCRIPTION:
URL:https://cornerstone3cu.org/event/wednesday-evening-adult-prayer-and-youth-services-53/
CATEGORIES:Adult Event,Youth Event
END:VEVENT
BEGIN:VEVENT
DTSTART;TZID=UTC:20250729T183000
DTEND;TZID=UTC:20250729T203000
DTSTAMP:20260426T024912
CREATED:20250513T000437Z
LAST-MODIFIED:20250513T000437Z
UID:1081-1753813800-1753821000@cornerstone3cu.org
SUMMARY:Cornerstone Kids VBS 2025! - Day 2
DESCRIPTION:Come join us the evenings of July 28th\, 29th\, and 30th\, from 6:30pm-8:30pm to have fun\, make new friends\, and (most importantly) learn about the love and power of Jesus Christ! This is a free event for children ages 4-12. Sign up on a Sunday morning or on any day of the event. We hope to see you there!
URL:https://cornerstone3cu.org/event/cornerstone-kids-vbs-2025-day-2/
LOCATION:Cornerstone C.C.C.U. Grounds\, 8280 Rickard Road\, Plain City\, OH\, 43064\, United States
CATEGORIES:Community Event,Youth Event
END:VEVENT
BEGIN:VEVENT
DTSTART;TZID=UTC:20250728T183000
DTEND;TZID=UTC:20250728T203000
DTSTAMP:20260426T024912
CREATED:20250513T000348Z
LAST-MODIFIED:20250513T000500Z
UID:1079-1753727400-1753734600@cornerstone3cu.org
SUMMARY:Cornerstone Kids VBS 2025! - Day 1
DESCRIPTION:Come join us the evenings of July 28th\, 29th\, and 30th\, from 6:30pm-8:30pm to have fun\, make new friends\, and (most importantly) learn about the love and power of Jesus Christ! This is a free event for children ages 4-12. Sign up on a Sunday morning or on any day of the event. We hope to see you there!
URL:https://cornerstone3cu.org/event/cornerstone-kids-vbs-2025-day-1/
LOCATION:Cornerstone C.C.C.U. Grounds\, 8280 Rickard Road\, Plain City\, OH\, 43064\, United States
CATEGORIES:Community Event,Youth Event
END:VEVENT
BEGIN:VEVENT
DTSTART;TZID=UTC:20250727T180000
DTEND;TZID=UTC:20250727T190000
DTSTAMP:20260426T024912
CREATED:20250521T183208Z
LAST-MODIFIED:20250521T183208Z
UID:1179-1753639200-1753642800@cornerstone3cu.org
SUMMARY:Adult and Youth Evening Services
DESCRIPTION:
URL:https://cornerstone3cu.org/event/adult-and-youth-evening-services-60/
CATEGORIES:Adult Event,Youth Event
END:VEVENT
BEGIN:VEVENT
DTSTART;TZID=UTC:20250727T103000
DTEND;TZID=UTC:20250727T113000
DTSTAMP:20260426T024912
CREATED:20250521T185558Z
LAST-MODIFIED:20250521T185558Z
UID:1205-1753612200-1753615800@cornerstone3cu.org
SUMMARY:Adult and Youth Morning Services
DESCRIPTION:
URL:https://cornerstone3cu.org/event/adult-and-youth-morning-services-53/
CATEGORIES:Adult Event,Youth Event
END:VEVENT
BEGIN:VEVENT
DTSTART;TZID=UTC:20250727T093000
DTEND;TZID=UTC:20250727T103000
DTSTAMP:20260426T024912
CREATED:20250521T182557Z
LAST-MODIFIED:20250521T182557Z
UID:1155-1753608600-1753612200@cornerstone3cu.org
SUMMARY:Adult and Youth Sunday Schools
DESCRIPTION:
URL:https://cornerstone3cu.org/event/adult-and-youth-sunday-schools-62/
CATEGORIES:Adult Event,Youth Event
END:VEVENT
BEGIN:VEVENT
DTSTART;TZID=UTC:20250723T180000
DTEND;TZID=UTC:20250723T190000
DTSTAMP:20260426T024912
CREATED:20250521T181224Z
LAST-MODIFIED:20250521T181224Z
UID:1127-1753293600-1753297200@cornerstone3cu.org
SUMMARY:Wednesday Evening Adult Prayer and Youth Services
DESCRIPTION:
URL:https://cornerstone3cu.org/event/wednesday-evening-adult-prayer-and-youth-services-52/
CATEGORIES:Adult Event,Youth Event
END:VEVENT
BEGIN:VEVENT
DTSTART;TZID=UTC:20250720T180000
DTEND;TZID=UTC:20250720T190000
DTSTAMP:20260426T024912
CREATED:20250521T183146Z
LAST-MODIFIED:20250521T183146Z
UID:1177-1753034400-1753038000@cornerstone3cu.org
SUMMARY:Adult and Youth Evening Services
DESCRIPTION:
URL:https://cornerstone3cu.org/event/adult-and-youth-evening-services-59/
CATEGORIES:Adult Event,Youth Event
END:VEVENT
BEGIN:VEVENT
DTSTART;TZID=UTC:20250720T103000
DTEND;TZID=UTC:20250720T113000
DTSTAMP:20260426T024912
CREATED:20250521T185535Z
LAST-MODIFIED:20250521T185535Z
UID:1203-1753007400-1753011000@cornerstone3cu.org
SUMMARY:Adult and Youth Morning Services
DESCRIPTION:
URL:https://cornerstone3cu.org/event/adult-and-youth-morning-services-52/
CATEGORIES:Adult Event,Youth Event
END:VEVENT
BEGIN:VEVENT
DTSTART;TZID=UTC:20250720T093000
DTEND;TZID=UTC:20250720T103000
DTSTAMP:20260426T024912
CREATED:20250521T182536Z
LAST-MODIFIED:20250521T182536Z
UID:1153-1753003800-1753007400@cornerstone3cu.org
SUMMARY:Adult and Youth Sunday Schools
DESCRIPTION:
URL:https://cornerstone3cu.org/event/adult-and-youth-sunday-schools-61/
CATEGORIES:Adult Event,Youth Event
END:VEVENT
BEGIN:VEVENT
DTSTART;TZID=UTC:20250720T080000
DTEND;TZID=UTC:20250720T090000
DTSTAMP:20260426T024912
CREATED:20250703T183759Z
LAST-MODIFIED:20250703T183759Z
UID:1249-1752998400-1753002000@cornerstone3cu.org
SUMMARY:Plain City Steam Threshers Service
DESCRIPTION:Come visit us before church Sunday at the youth building at Pastime Park in Plain City during the final day of Miami Valley’s 76th annual Steam Threshers Reunion! There will be a service with a message on God’s “harvest.” \nThe Miami Valley’s 76th annual Steam Threshers Reunion community event runs almost all day on Thursday\, Friday\, Saturday\, and Sunday. Be sure to check out the parade in downtown Plain City on Friday at 6:00pm\, and stop by the park during the entire weekend to see tractor and truck pulls\, food trucks\, flea market vendors\, kid-friendly races\, car shows\, and more. This year the Steam Threshers are highlighting Massey Harris / Massey Ferguson equipment.
URL:https://cornerstone3cu.org/event/plain-city-steam-threshers-service/
LOCATION:Youth Building of Pastime Park\, 370 N Chillicothe St.\, Plain City\, OH\, 43064\, United States
CATEGORIES:All-Age Event,Community Event
END:VEVENT
BEGIN:VEVENT
DTSTART;TZID=UTC:20250716T180000
DTEND;TZID=UTC:20250716T190000
DTSTAMP:20260426T024912
CREATED:20250521T181157Z
LAST-MODIFIED:20250521T181157Z
UID:1125-1752688800-1752692400@cornerstone3cu.org
SUMMARY:Wednesday Evening Adult Prayer and Youth Services
DESCRIPTION:
URL:https://cornerstone3cu.org/event/wednesday-evening-adult-prayer-and-youth-services-51/
CATEGORIES:Adult Event,Youth Event
END:VEVENT
BEGIN:VEVENT
DTSTART;TZID=UTC:20250714T180000
DTEND;TZID=UTC:20250714T203000
DTSTAMP:20260426T024912
CREATED:20240910T175908Z
LAST-MODIFIED:20240910T175908Z
UID:681-1752516000-1752525000@cornerstone3cu.org
SUMMARY:July 2025 Board Meeting
DESCRIPTION:(This event is usually held at 6:00pm on the second Monday of each month.)
URL:https://cornerstone3cu.org/event/july-2025-board-meeting/
LOCATION:Cornerstone C.C.C.U. Fellowship Hall​
CATEGORIES:Adult Event,Monthly Recurring Event
END:VEVENT
BEGIN:VEVENT
DTSTART;TZID=UTC:20250713T180000
DTEND;TZID=UTC:20250713T190000
DTSTAMP:20260426T024912
CREATED:20250521T183125Z
LAST-MODIFIED:20250521T183125Z
UID:1175-1752429600-1752433200@cornerstone3cu.org
SUMMARY:Adult and Youth Evening Services
DESCRIPTION:
URL:https://cornerstone3cu.org/event/adult-and-youth-evening-services-58/
CATEGORIES:Adult Event,Youth Event
END:VEVENT
BEGIN:VEVENT
DTSTART;TZID=UTC:20250713T120000
DTEND;TZID=UTC:20250713T140000
DTSTAMP:20260426T024912
CREATED:20250626T182337Z
LAST-MODIFIED:20250626T182337Z
UID:1242-1752408000-1752415200@cornerstone3cu.org
SUMMARY:Summer Potluck 2025!
DESCRIPTION:Join us after the morning service on July 13th for a potluck at the pavilion! More information and a sign-up sheet at the Welcome Desk should be coming soon. For now\, please invite your friends\, and we hope to see you there!
URL:https://cornerstone3cu.org/event/summer-potluck-2025/
LOCATION:Cornerstone C.C.C.U. Grounds\, 8280 Rickard Road\, Plain City\, OH\, 43064\, United States
END:VEVENT
END:VCALENDAR