BEGIN:VCALENDAR
VERSION:2.0
PRODID:-//Cornerstone Church of Christ in Christian Union - ECPv6.15.20//NONSGML v1.0//EN
CALSCALE:GREGORIAN
METHOD:PUBLISH
X-ORIGINAL-URL:https://cornerstone3cu.org
X-WR-CALDESC:Events for Cornerstone Church of Christ in Christian Union
REFRESH-INTERVAL;VALUE=DURATION:PT1H
X-Robots-Tag:noindex
X-PUBLISHED-TTL:PT1H
BEGIN:VTIMEZONE
TZID:UTC
BEGIN:STANDARD
TZOFFSETFROM:+0000
TZOFFSETTO:+0000
TZNAME:UTC
DTSTART:20250101T000000
END:STANDARD
END:VTIMEZONE
BEGIN:VEVENT
DTSTART;TZID=UTC:20260426T093000
DTEND;TZID=UTC:20260426T103000
DTSTAMP:20260423T161429
CREATED:20260112T225329Z
LAST-MODIFIED:20260112T225329Z
UID:1722-1777195800-1777199400@cornerstone3cu.org
SUMMARY:Adult and Youth Sunday Schools
DESCRIPTION:
URL:https://cornerstone3cu.org/event/adult-and-youth-sunday-schools-101/
CATEGORIES:Adult Event,Youth Event
END:VEVENT
BEGIN:VEVENT
DTSTART;TZID=UTC:20260426T103000
DTEND;TZID=UTC:20260426T113000
DTSTAMP:20260423T161429
CREATED:20260112T231242Z
LAST-MODIFIED:20260112T231242Z
UID:1755-1777199400-1777203000@cornerstone3cu.org
SUMMARY:Adult and Youth Morning Services
DESCRIPTION:
URL:https://cornerstone3cu.org/event/adult-and-youth-morning-services-89/
CATEGORIES:Adult Event,Youth Event
END:VEVENT
BEGIN:VEVENT
DTSTART;TZID=UTC:20260426T180000
DTEND;TZID=UTC:20260426T190000
DTSTAMP:20260423T161429
CREATED:20260112T232442Z
LAST-MODIFIED:20260112T232442Z
UID:1787-1777226400-1777230000@cornerstone3cu.org
SUMMARY:Adult and Youth Evening Services
DESCRIPTION:
URL:https://cornerstone3cu.org/event/adult-and-youth-evening-services-95/
CATEGORIES:Adult Event,Youth Event
END:VEVENT
BEGIN:VEVENT
DTSTART;TZID=UTC:20260429T180000
DTEND;TZID=UTC:20260429T190000
DTSTAMP:20260423T161429
CREATED:20260105T164535Z
LAST-MODIFIED:20260105T164535Z
UID:1687-1777485600-1777489200@cornerstone3cu.org
SUMMARY:Wednesday Evening Adult Prayer and Youth Services
DESCRIPTION:
URL:https://cornerstone3cu.org/event/wednesday-evening-adult-prayer-and-youth-services-89/
CATEGORIES:Adult Event,Youth Event
END:VEVENT
BEGIN:VEVENT
DTSTART;TZID=UTC:20260503T093000
DTEND;TZID=UTC:20260503T103000
DTSTAMP:20260423T161429
CREATED:20260112T233214Z
LAST-MODIFIED:20260112T233214Z
UID:1805-1777800600-1777804200@cornerstone3cu.org
SUMMARY:Adult and Youth Sunday Schools
DESCRIPTION:
URL:https://cornerstone3cu.org/event/adult-and-youth-sunday-schools-102/
CATEGORIES:Adult Event,Youth Event
END:VEVENT
BEGIN:VEVENT
DTSTART;TZID=UTC:20260503T103000
DTEND;TZID=UTC:20260503T113000
DTSTAMP:20260423T161429
CREATED:20260112T234347Z
LAST-MODIFIED:20260112T234347Z
UID:1823-1777804200-1777807800@cornerstone3cu.org
SUMMARY:Adult and Youth Morning Services
DESCRIPTION:
URL:https://cornerstone3cu.org/event/adult-and-youth-morning-services-90/
CATEGORIES:Adult Event,Youth Event
END:VEVENT
BEGIN:VEVENT
DTSTART;TZID=UTC:20260503T180000
DTEND;TZID=UTC:20260503T190000
DTSTAMP:20260423T161429
CREATED:20260112T235310Z
LAST-MODIFIED:20260112T235310Z
UID:1841-1777831200-1777834800@cornerstone3cu.org
SUMMARY:Adult and Youth Evening Services
DESCRIPTION:
URL:https://cornerstone3cu.org/event/adult-and-youth-evening-services-96/
CATEGORIES:Adult Event,Youth Event
END:VEVENT
BEGIN:VEVENT
DTSTART;TZID=UTC:20260506T180000
DTEND;TZID=UTC:20260506T190000
DTSTAMP:20260423T161429
CREATED:20260112T232713Z
LAST-MODIFIED:20260112T232713Z
UID:1789-1778090400-1778094000@cornerstone3cu.org
SUMMARY:Wednesday Evening Adult Prayer and Youth Services
DESCRIPTION:
URL:https://cornerstone3cu.org/event/wednesday-evening-adult-prayer-and-youth-services-90/
CATEGORIES:Adult Event,Youth Event
END:VEVENT
BEGIN:VEVENT
DTSTART;TZID=UTC:20260510T093000
DTEND;TZID=UTC:20260510T103000
DTSTAMP:20260423T161429
CREATED:20260112T233241Z
LAST-MODIFIED:20260112T233241Z
UID:1807-1778405400-1778409000@cornerstone3cu.org
SUMMARY:Adult and Youth Sunday Schools
DESCRIPTION:
URL:https://cornerstone3cu.org/event/adult-and-youth-sunday-schools-103/
CATEGORIES:Adult Event,Youth Event
END:VEVENT
BEGIN:VEVENT
DTSTART;TZID=UTC:20260510T103000
DTEND;TZID=UTC:20260510T113000
DTSTAMP:20260423T161429
CREATED:20260112T234419Z
LAST-MODIFIED:20260114T185721Z
UID:1825-1778409000-1778412600@cornerstone3cu.org
SUMMARY:Adult and Youth Morning Services
DESCRIPTION:Happy Mother’s Day!
URL:https://cornerstone3cu.org/event/adult-and-youth-morning-services-91/
CATEGORIES:Adult Event,Youth Event
END:VEVENT
BEGIN:VEVENT
DTSTART;TZID=UTC:20260510T180000
DTEND;TZID=UTC:20260510T190000
DTSTAMP:20260423T161429
CREATED:20260112T235340Z
LAST-MODIFIED:20260114T185625Z
UID:1843-1778436000-1778439600@cornerstone3cu.org
SUMMARY:Adult and Youth Evening Services - Canceled
DESCRIPTION:We will not be holding our regular Sunday night service on Mother’s Day\, as it is our hope that you will be able to spend this time celebrating those motherly women the Lord has blessed you with in your lives. Happy Mother’s Day\, to mothers seen and unseen.
URL:https://cornerstone3cu.org/event/adult-and-youth-evening-services-97/
CATEGORIES:Adult Event,Youth Event
END:VEVENT
BEGIN:VEVENT
DTSTART;TZID=UTC:20260513T180000
DTEND;TZID=UTC:20260513T190000
DTSTAMP:20260423T161429
CREATED:20260112T232746Z
LAST-MODIFIED:20260112T232746Z
UID:1791-1778695200-1778698800@cornerstone3cu.org
SUMMARY:Wednesday Evening Adult Prayer and Youth Services
DESCRIPTION:
URL:https://cornerstone3cu.org/event/wednesday-evening-adult-prayer-and-youth-services-91/
CATEGORIES:Adult Event,Youth Event
END:VEVENT
BEGIN:VEVENT
DTSTART;TZID=UTC:20260517T093000
DTEND;TZID=UTC:20260517T103000
DTSTAMP:20260423T161429
CREATED:20260112T233305Z
LAST-MODIFIED:20260112T233305Z
UID:1809-1779010200-1779013800@cornerstone3cu.org
SUMMARY:Adult and Youth Sunday Schools
DESCRIPTION:
URL:https://cornerstone3cu.org/event/adult-and-youth-sunday-schools-104/
CATEGORIES:Adult Event,Youth Event
END:VEVENT
BEGIN:VEVENT
DTSTART;TZID=UTC:20260517T103000
DTEND;TZID=UTC:20260517T113000
DTSTAMP:20260423T161429
CREATED:20260112T234449Z
LAST-MODIFIED:20260112T234449Z
UID:1827-1779013800-1779017400@cornerstone3cu.org
SUMMARY:Adult and Youth Morning Services
DESCRIPTION:
URL:https://cornerstone3cu.org/event/adult-and-youth-morning-services-92/
CATEGORIES:Adult Event,Youth Event
END:VEVENT
BEGIN:VEVENT
DTSTART;TZID=UTC:20260517T180000
DTEND;TZID=UTC:20260517T190000
DTSTAMP:20260423T161429
CREATED:20260112T235448Z
LAST-MODIFIED:20260112T235448Z
UID:1845-1779040800-1779044400@cornerstone3cu.org
SUMMARY:Adult and Youth Evening Services
DESCRIPTION:
URL:https://cornerstone3cu.org/event/adult-and-youth-evening-services-98/
CATEGORIES:Adult Event,Youth Event
END:VEVENT
BEGIN:VEVENT
DTSTART;TZID=UTC:20260520T180000
DTEND;TZID=UTC:20260520T190000
DTSTAMP:20260423T161429
CREATED:20260112T232843Z
LAST-MODIFIED:20260112T232843Z
UID:1793-1779300000-1779303600@cornerstone3cu.org
SUMMARY:Wednesday Evening Adult Prayer and Youth Services
DESCRIPTION:
URL:https://cornerstone3cu.org/event/wednesday-evening-adult-prayer-and-youth-services-92/
CATEGORIES:Adult Event,Youth Event
END:VEVENT
BEGIN:VEVENT
DTSTART;TZID=UTC:20260524T093000
DTEND;TZID=UTC:20260524T103000
DTSTAMP:20260423T161429
CREATED:20260112T233330Z
LAST-MODIFIED:20260112T233330Z
UID:1811-1779615000-1779618600@cornerstone3cu.org
SUMMARY:Adult and Youth Sunday Schools
DESCRIPTION:
URL:https://cornerstone3cu.org/event/adult-and-youth-sunday-schools-105/
CATEGORIES:Adult Event,Youth Event
END:VEVENT
BEGIN:VEVENT
DTSTART;TZID=UTC:20260524T103000
DTEND;TZID=UTC:20260524T113000
DTSTAMP:20260423T161429
CREATED:20260112T234743Z
LAST-MODIFIED:20260112T234743Z
UID:1829-1779618600-1779622200@cornerstone3cu.org
SUMMARY:Adult and Youth Morning Services
DESCRIPTION:
URL:https://cornerstone3cu.org/event/adult-and-youth-morning-services-93/
CATEGORIES:Adult Event,Youth Event
END:VEVENT
BEGIN:VEVENT
DTSTART;TZID=UTC:20260524T180000
DTEND;TZID=UTC:20260524T190000
DTSTAMP:20260423T161429
CREATED:20260112T235520Z
LAST-MODIFIED:20260112T235520Z
UID:1847-1779645600-1779649200@cornerstone3cu.org
SUMMARY:Adult and Youth Evening Services
DESCRIPTION:
URL:https://cornerstone3cu.org/event/adult-and-youth-evening-services-99/
CATEGORIES:Adult Event,Youth Event
END:VEVENT
BEGIN:VEVENT
DTSTART;TZID=UTC:20260527T180000
DTEND;TZID=UTC:20260527T190000
DTSTAMP:20260423T161429
CREATED:20260112T232913Z
LAST-MODIFIED:20260112T232913Z
UID:1795-1779904800-1779908400@cornerstone3cu.org
SUMMARY:Wednesday Evening Adult Prayer and Youth Services
DESCRIPTION:
URL:https://cornerstone3cu.org/event/wednesday-evening-adult-prayer-and-youth-services-93/
CATEGORIES:Adult Event,Youth Event
END:VEVENT
BEGIN:VEVENT
DTSTART;TZID=UTC:20260531T093000
DTEND;TZID=UTC:20260531T103000
DTSTAMP:20260423T161429
CREATED:20260112T233359Z
LAST-MODIFIED:20260112T233359Z
UID:1813-1780219800-1780223400@cornerstone3cu.org
SUMMARY:Adult and Youth Sunday Schools
DESCRIPTION:
URL:https://cornerstone3cu.org/event/adult-and-youth-sunday-schools-106/
CATEGORIES:Adult Event,Youth Event
END:VEVENT
BEGIN:VEVENT
DTSTART;TZID=UTC:20260531T103000
DTEND;TZID=UTC:20260531T113000
DTSTAMP:20260423T161429
CREATED:20260112T234811Z
LAST-MODIFIED:20260112T234811Z
UID:1831-1780223400-1780227000@cornerstone3cu.org
SUMMARY:Adult and Youth Morning Services
DESCRIPTION:
URL:https://cornerstone3cu.org/event/adult-and-youth-morning-services-94/
CATEGORIES:Adult Event,Youth Event
END:VEVENT
BEGIN:VEVENT
DTSTART;TZID=UTC:20260531T180000
DTEND;TZID=UTC:20260531T190000
DTSTAMP:20260423T161429
CREATED:20260112T235549Z
LAST-MODIFIED:20260112T235549Z
UID:1849-1780250400-1780254000@cornerstone3cu.org
SUMMARY:Adult and Youth Evening Services
DESCRIPTION:
URL:https://cornerstone3cu.org/event/adult-and-youth-evening-services-100/
CATEGORIES:Adult Event,Youth Event
END:VEVENT
BEGIN:VEVENT
DTSTART;TZID=UTC:20260603T180000
DTEND;TZID=UTC:20260603T190000
DTSTAMP:20260423T161429
CREATED:20260112T232943Z
LAST-MODIFIED:20260112T232943Z
UID:1797-1780509600-1780513200@cornerstone3cu.org
SUMMARY:Wednesday Evening Adult Prayer and Youth Services
DESCRIPTION:
URL:https://cornerstone3cu.org/event/wednesday-evening-adult-prayer-and-youth-services-94/
CATEGORIES:Adult Event,Youth Event
END:VEVENT
BEGIN:VEVENT
DTSTART;TZID=UTC:20260607T093000
DTEND;TZID=UTC:20260607T103000
DTSTAMP:20260423T161429
CREATED:20260112T233442Z
LAST-MODIFIED:20260112T233442Z
UID:1815-1780824600-1780828200@cornerstone3cu.org
SUMMARY:Adult and Youth Sunday Schools
DESCRIPTION:
URL:https://cornerstone3cu.org/event/adult-and-youth-sunday-schools-107/
CATEGORIES:Adult Event,Youth Event
END:VEVENT
BEGIN:VEVENT
DTSTART;TZID=UTC:20260607T180000
DTEND;TZID=UTC:20260607T190000
DTSTAMP:20260423T161429
CREATED:20260112T235621Z
LAST-MODIFIED:20260112T235621Z
UID:1851-1780855200-1780858800@cornerstone3cu.org
SUMMARY:Adult and Youth Evening Services
DESCRIPTION:
URL:https://cornerstone3cu.org/event/adult-and-youth-evening-services-101/
CATEGORIES:Adult Event,Youth Event
END:VEVENT
BEGIN:VEVENT
DTSTART;TZID=UTC:20260610T180000
DTEND;TZID=UTC:20260610T190000
DTSTAMP:20260423T161429
CREATED:20260112T233011Z
LAST-MODIFIED:20260112T233011Z
UID:1799-1781114400-1781118000@cornerstone3cu.org
SUMMARY:Wednesday Evening Adult Prayer and Youth Services
DESCRIPTION:
URL:https://cornerstone3cu.org/event/wednesday-evening-adult-prayer-and-youth-services-95/
CATEGORIES:Adult Event,Youth Event
END:VEVENT
BEGIN:VEVENT
DTSTART;TZID=UTC:20260614T093000
DTEND;TZID=UTC:20260614T103000
DTSTAMP:20260423T161429
CREATED:20260112T233508Z
LAST-MODIFIED:20260112T233508Z
UID:1817-1781429400-1781433000@cornerstone3cu.org
SUMMARY:Adult and Youth Sunday Schools
DESCRIPTION:
URL:https://cornerstone3cu.org/event/adult-and-youth-sunday-schools-108/
CATEGORIES:Adult Event,Youth Event
END:VEVENT
BEGIN:VEVENT
DTSTART;TZID=UTC:20260614T103000
DTEND;TZID=UTC:20260614T113000
DTSTAMP:20260423T161429
CREATED:20260112T234912Z
LAST-MODIFIED:20260112T234912Z
UID:1835-1781433000-1781436600@cornerstone3cu.org
SUMMARY:Adult and Youth Morning Services
DESCRIPTION:
URL:https://cornerstone3cu.org/event/adult-and-youth-morning-services-96/
CATEGORIES:Adult Event,Youth Event
END:VEVENT
BEGIN:VEVENT
DTSTART;TZID=UTC:20260614T180000
DTEND;TZID=UTC:20260614T190000
DTSTAMP:20260423T161429
CREATED:20260112T235646Z
LAST-MODIFIED:20260112T235646Z
UID:1853-1781460000-1781463600@cornerstone3cu.org
SUMMARY:Adult and Youth Evening Services
DESCRIPTION:
URL:https://cornerstone3cu.org/event/adult-and-youth-evening-services-102/
CATEGORIES:Adult Event,Youth Event
END:VEVENT
END:VCALENDAR