BEGIN:VCALENDAR
VERSION:2.0
PRODID:-//Cornerstone Church of Christ in Christian Union - ECPv6.15.20//NONSGML v1.0//EN
CALSCALE:GREGORIAN
METHOD:PUBLISH
X-ORIGINAL-URL:https://cornerstone3cu.org
X-WR-CALDESC:Events for Cornerstone Church of Christ in Christian Union
REFRESH-INTERVAL;VALUE=DURATION:PT1H
X-Robots-Tag:noindex
X-PUBLISHED-TTL:PT1H
BEGIN:VTIMEZONE
TZID:UTC
BEGIN:STANDARD
TZOFFSETFROM:+0000
TZOFFSETTO:+0000
TZNAME:UTC
DTSTART:20250101T000000
END:STANDARD
END:VTIMEZONE
BEGIN:VEVENT
DTSTART;TZID=UTC:20260422T180000
DTEND;TZID=UTC:20260422T190000
DTSTAMP:20260423T173923
CREATED:20260105T163554Z
LAST-MODIFIED:20260105T163554Z
UID:1685-1776880800-1776884400@cornerstone3cu.org
SUMMARY:Wednesday Evening Adult Prayer and Youth Services
DESCRIPTION:
URL:https://cornerstone3cu.org/event/wednesday-evening-adult-prayer-and-youth-services-88/
CATEGORIES:Adult Event,Youth Event
END:VEVENT
BEGIN:VEVENT
DTSTART;TZID=UTC:20260419T180000
DTEND;TZID=UTC:20260419T190000
DTSTAMP:20260423T173923
CREATED:20260112T232416Z
LAST-MODIFIED:20260112T232416Z
UID:1785-1776621600-1776625200@cornerstone3cu.org
SUMMARY:Adult and Youth Evening Services
DESCRIPTION:
URL:https://cornerstone3cu.org/event/adult-and-youth-evening-services-94/
CATEGORIES:Adult Event,Youth Event
END:VEVENT
BEGIN:VEVENT
DTSTART;TZID=UTC:20260419T103000
DTEND;TZID=UTC:20260419T113000
DTSTAMP:20260423T173923
CREATED:20260112T231209Z
LAST-MODIFIED:20260112T231209Z
UID:1753-1776594600-1776598200@cornerstone3cu.org
SUMMARY:Adult and Youth Morning Services
DESCRIPTION:
URL:https://cornerstone3cu.org/event/adult-and-youth-morning-services-88/
CATEGORIES:Adult Event,Youth Event
END:VEVENT
BEGIN:VEVENT
DTSTART;TZID=UTC:20260419T093000
DTEND;TZID=UTC:20260419T103000
DTSTAMP:20260423T173923
CREATED:20260112T225300Z
LAST-MODIFIED:20260112T225300Z
UID:1720-1776591000-1776594600@cornerstone3cu.org
SUMMARY:Adult and Youth Sunday Schools
DESCRIPTION:
URL:https://cornerstone3cu.org/event/adult-and-youth-sunday-schools-100/
CATEGORIES:Adult Event,Youth Event
END:VEVENT
BEGIN:VEVENT
DTSTART;TZID=UTC:20260415T180000
DTEND;TZID=UTC:20260415T190000
DTSTAMP:20260423T173923
CREATED:20260105T163510Z
LAST-MODIFIED:20260105T163510Z
UID:1683-1776276000-1776279600@cornerstone3cu.org
SUMMARY:Wednesday Evening Adult Prayer and Youth Services
DESCRIPTION:
URL:https://cornerstone3cu.org/event/wednesday-evening-adult-prayer-and-youth-services-87/
CATEGORIES:Adult Event,Youth Event
END:VEVENT
BEGIN:VEVENT
DTSTART;TZID=UTC:20260412T180000
DTEND;TZID=UTC:20260412T190000
DTSTAMP:20260423T173923
CREATED:20260112T232349Z
LAST-MODIFIED:20260112T232349Z
UID:1783-1776016800-1776020400@cornerstone3cu.org
SUMMARY:Adult and Youth Evening Services
DESCRIPTION:
URL:https://cornerstone3cu.org/event/adult-and-youth-evening-services-93/
CATEGORIES:Adult Event,Youth Event
END:VEVENT
BEGIN:VEVENT
DTSTART;TZID=UTC:20260412T103000
DTEND;TZID=UTC:20260412T113000
DTSTAMP:20260423T173923
CREATED:20260112T231141Z
LAST-MODIFIED:20260112T231141Z
UID:1751-1775989800-1775993400@cornerstone3cu.org
SUMMARY:Adult and Youth Morning Services
DESCRIPTION:
URL:https://cornerstone3cu.org/event/adult-and-youth-morning-services-87/
CATEGORIES:Adult Event,Youth Event
END:VEVENT
BEGIN:VEVENT
DTSTART;TZID=UTC:20260412T093000
DTEND;TZID=UTC:20260412T103000
DTSTAMP:20260423T173923
CREATED:20260112T225219Z
LAST-MODIFIED:20260112T225219Z
UID:1718-1775986200-1775989800@cornerstone3cu.org
SUMMARY:Adult and Youth Sunday Schools
DESCRIPTION:
URL:https://cornerstone3cu.org/event/adult-and-youth-sunday-schools-99/
CATEGORIES:Adult Event,Youth Event
END:VEVENT
BEGIN:VEVENT
DTSTART;TZID=UTC:20260408T180000
DTEND;TZID=UTC:20260408T190000
DTSTAMP:20260423T173923
CREATED:20260105T163438Z
LAST-MODIFIED:20260105T163438Z
UID:1681-1775671200-1775674800@cornerstone3cu.org
SUMMARY:Wednesday Evening Adult Prayer and Youth Services
DESCRIPTION:
URL:https://cornerstone3cu.org/event/wednesday-evening-adult-prayer-and-youth-services-86/
CATEGORIES:Adult Event,Youth Event
END:VEVENT
BEGIN:VEVENT
DTSTART;TZID=UTC:20260405T180000
DTEND;TZID=UTC:20260405T190000
DTSTAMP:20260423T173923
CREATED:20260112T232230Z
LAST-MODIFIED:20260112T232230Z
UID:1781-1775412000-1775415600@cornerstone3cu.org
SUMMARY:Adult and Youth Evening Services
DESCRIPTION:
URL:https://cornerstone3cu.org/event/adult-and-youth-evening-services-92/
CATEGORIES:Adult Event,Youth Event
END:VEVENT
BEGIN:VEVENT
DTSTART;TZID=UTC:20260405T103000
DTEND;TZID=UTC:20260405T113000
DTSTAMP:20260423T173923
CREATED:20260112T231111Z
LAST-MODIFIED:20260113T010600Z
UID:1749-1775385000-1775388600@cornerstone3cu.org
SUMMARY:Adult and Youth Easter Morning Services
DESCRIPTION:Mark 9:31 \nFor He taught His disciples and said to them\, “The Son of Man is being betrayed into the hands of men\, and they will kill Him. And after He is killed\, He will rise the third day.” \n \nCome celebrate Resurrection Sunday with us! King Jesus is alive!
URL:https://cornerstone3cu.org/event/adult-and-youth-morning-services-86/
CATEGORIES:Adult Event,Youth Event
END:VEVENT
BEGIN:VEVENT
DTSTART;TZID=UTC:20260405T093000
DTEND;TZID=UTC:20260405T103000
DTSTAMP:20260423T173923
CREATED:20260112T225151Z
LAST-MODIFIED:20260112T225151Z
UID:1716-1775381400-1775385000@cornerstone3cu.org
SUMMARY:Adult and Youth Sunday Schools
DESCRIPTION:
URL:https://cornerstone3cu.org/event/adult-and-youth-sunday-schools-98/
CATEGORIES:Adult Event,Youth Event
END:VEVENT
BEGIN:VEVENT
DTSTART;TZID=UTC:20260401T180000
DTEND;TZID=UTC:20260401T190000
DTSTAMP:20260423T173923
CREATED:20260105T163408Z
LAST-MODIFIED:20260105T163408Z
UID:1679-1775066400-1775070000@cornerstone3cu.org
SUMMARY:Wednesday Evening Adult Prayer and Youth Services
DESCRIPTION:
URL:https://cornerstone3cu.org/event/wednesday-evening-adult-prayer-and-youth-services-85/
CATEGORIES:Adult Event,Youth Event
END:VEVENT
BEGIN:VEVENT
DTSTART;TZID=UTC:20260329T180000
DTEND;TZID=UTC:20260329T190000
DTSTAMP:20260423T173923
CREATED:20260112T232158Z
LAST-MODIFIED:20260112T232158Z
UID:1779-1774807200-1774810800@cornerstone3cu.org
SUMMARY:Adult and Youth Evening Services
DESCRIPTION:
URL:https://cornerstone3cu.org/event/adult-and-youth-evening-services-91/
CATEGORIES:Adult Event,Youth Event
END:VEVENT
BEGIN:VEVENT
DTSTART;TZID=UTC:20260329T103000
DTEND;TZID=UTC:20260329T113000
DTSTAMP:20260423T173923
CREATED:20260112T231038Z
LAST-MODIFIED:20260112T231038Z
UID:1747-1774780200-1774783800@cornerstone3cu.org
SUMMARY:Adult and Youth Morning Services
DESCRIPTION:
URL:https://cornerstone3cu.org/event/adult-and-youth-morning-services-85/
CATEGORIES:Adult Event,Youth Event
END:VEVENT
BEGIN:VEVENT
DTSTART;TZID=UTC:20260329T093000
DTEND;TZID=UTC:20260329T103000
DTSTAMP:20260423T173923
CREATED:20260112T225123Z
LAST-MODIFIED:20260112T225123Z
UID:1714-1774776600-1774780200@cornerstone3cu.org
SUMMARY:Adult and Youth Sunday Schools
DESCRIPTION:
URL:https://cornerstone3cu.org/event/adult-and-youth-sunday-schools-97/
CATEGORIES:Adult Event,Youth Event
END:VEVENT
BEGIN:VEVENT
DTSTART;TZID=UTC:20260325T180000
DTEND;TZID=UTC:20260325T190000
DTSTAMP:20260423T173923
CREATED:20260105T160933Z
LAST-MODIFIED:20260105T163328Z
UID:1675-1774461600-1774465200@cornerstone3cu.org
SUMMARY:Wednesday Evening Adult Prayer and Youth Services
DESCRIPTION:
URL:https://cornerstone3cu.org/event/wednesday-evening-adult-prayer-and-youth-services-83/
CATEGORIES:Adult Event,Youth Event
END:VEVENT
BEGIN:VEVENT
DTSTART;TZID=UTC:20260322T180000
DTEND;TZID=UTC:20260322T190000
DTSTAMP:20260423T173923
CREATED:20260112T232131Z
LAST-MODIFIED:20260112T232131Z
UID:1777-1774202400-1774206000@cornerstone3cu.org
SUMMARY:Adult and Youth Evening Services
DESCRIPTION:
URL:https://cornerstone3cu.org/event/adult-and-youth-evening-services-90/
CATEGORIES:Adult Event,Youth Event
END:VEVENT
BEGIN:VEVENT
DTSTART;TZID=UTC:20260322T103000
DTEND;TZID=UTC:20260322T113000
DTSTAMP:20260423T173923
CREATED:20260112T230912Z
LAST-MODIFIED:20260112T230912Z
UID:1745-1774175400-1774179000@cornerstone3cu.org
SUMMARY:Adult and Youth Morning Services
DESCRIPTION:
URL:https://cornerstone3cu.org/event/adult-and-youth-morning-services-84/
CATEGORIES:Adult Event,Youth Event
END:VEVENT
BEGIN:VEVENT
DTSTART;TZID=UTC:20260322T093000
DTEND;TZID=UTC:20260322T103000
DTSTAMP:20260423T173923
CREATED:20260112T225049Z
LAST-MODIFIED:20260112T225049Z
UID:1712-1774171800-1774175400@cornerstone3cu.org
SUMMARY:Adult and Youth Sunday Schools
DESCRIPTION:
URL:https://cornerstone3cu.org/event/adult-and-youth-sunday-schools-96/
CATEGORIES:Adult Event,Youth Event
END:VEVENT
BEGIN:VEVENT
DTSTART;TZID=UTC:20260318T180000
DTEND;TZID=UTC:20260318T190000
DTSTAMP:20260423T173923
CREATED:20260105T161009Z
LAST-MODIFIED:20260105T161009Z
UID:1677-1773856800-1773860400@cornerstone3cu.org
SUMMARY:Wednesday Evening Adult Prayer and Youth Services
DESCRIPTION:
URL:https://cornerstone3cu.org/event/wednesday-evening-adult-prayer-and-youth-services-84/
CATEGORIES:Adult Event,Youth Event
END:VEVENT
BEGIN:VEVENT
DTSTART;TZID=UTC:20260315T180000
DTEND;TZID=UTC:20260315T190000
DTSTAMP:20260423T173923
CREATED:20260112T232053Z
LAST-MODIFIED:20260112T232053Z
UID:1775-1773597600-1773601200@cornerstone3cu.org
SUMMARY:Adult and Youth Evening Services
DESCRIPTION:
URL:https://cornerstone3cu.org/event/adult-and-youth-evening-services-89/
CATEGORIES:Adult Event,Youth Event
END:VEVENT
BEGIN:VEVENT
DTSTART;TZID=UTC:20260315T103000
DTEND;TZID=UTC:20260315T113000
DTSTAMP:20260423T173923
CREATED:20260112T230836Z
LAST-MODIFIED:20260112T230836Z
UID:1743-1773570600-1773574200@cornerstone3cu.org
SUMMARY:Adult and Youth Morning Services
DESCRIPTION:
URL:https://cornerstone3cu.org/event/adult-and-youth-morning-services-83/
CATEGORIES:Adult Event,Youth Event
END:VEVENT
BEGIN:VEVENT
DTSTART;TZID=UTC:20260315T093000
DTEND;TZID=UTC:20260315T103000
DTSTAMP:20260423T173923
CREATED:20260112T225015Z
LAST-MODIFIED:20260112T225015Z
UID:1710-1773567000-1773570600@cornerstone3cu.org
SUMMARY:Adult and Youth Sunday Schools
DESCRIPTION:
URL:https://cornerstone3cu.org/event/adult-and-youth-sunday-schools-95/
CATEGORIES:Adult Event,Youth Event
END:VEVENT
BEGIN:VEVENT
DTSTART;TZID=UTC:20260308T093000
DTEND;TZID=UTC:20260308T103000
DTSTAMP:20260423T173923
CREATED:20260112T224925Z
LAST-MODIFIED:20260112T224925Z
UID:1708-1772962200-1772965800@cornerstone3cu.org
SUMMARY:Adult and Youth Sunday Schools
DESCRIPTION:
URL:https://cornerstone3cu.org/event/adult-and-youth-sunday-schools-94/
CATEGORIES:Adult Event,Youth Event
END:VEVENT
BEGIN:VEVENT
DTSTART;TZID=UTC:20260304T180000
DTEND;TZID=UTC:20260304T190000
DTSTAMP:20260423T173923
CREATED:20260105T160833Z
LAST-MODIFIED:20260105T160833Z
UID:1673-1772647200-1772650800@cornerstone3cu.org
SUMMARY:Wednesday Evening Adult Prayer and Youth Services
DESCRIPTION:
URL:https://cornerstone3cu.org/event/wednesday-evening-adult-prayer-and-youth-services-82/
CATEGORIES:Adult Event,Youth Event
END:VEVENT
BEGIN:VEVENT
DTSTART;TZID=UTC:20260301T180000
DTEND;TZID=UTC:20260301T190000
DTSTAMP:20260423T173923
CREATED:20260112T232020Z
LAST-MODIFIED:20260112T232020Z
UID:1773-1772388000-1772391600@cornerstone3cu.org
SUMMARY:Adult and Youth Evening Services
DESCRIPTION:
URL:https://cornerstone3cu.org/event/adult-and-youth-evening-services-88/
CATEGORIES:Adult Event,Youth Event
END:VEVENT
BEGIN:VEVENT
DTSTART;TZID=UTC:20260301T103000
DTEND;TZID=UTC:20260301T113000
DTSTAMP:20260423T173923
CREATED:20260112T230806Z
LAST-MODIFIED:20260112T230806Z
UID:1741-1772361000-1772364600@cornerstone3cu.org
SUMMARY:Adult and Youth Morning Services
DESCRIPTION:
URL:https://cornerstone3cu.org/event/adult-and-youth-morning-services-82/
CATEGORIES:Adult Event,Youth Event
END:VEVENT
BEGIN:VEVENT
DTSTART;TZID=UTC:20260301T093000
DTEND;TZID=UTC:20260301T103000
DTSTAMP:20260423T173923
CREATED:20260112T224854Z
LAST-MODIFIED:20260112T224854Z
UID:1706-1772357400-1772361000@cornerstone3cu.org
SUMMARY:Adult and Youth Sunday Schools
DESCRIPTION:
URL:https://cornerstone3cu.org/event/adult-and-youth-sunday-schools-93/
CATEGORIES:Adult Event,Youth Event
END:VEVENT
BEGIN:VEVENT
DTSTART;TZID=UTC:20260225T180000
DTEND;TZID=UTC:20260225T190000
DTSTAMP:20260423T173923
CREATED:20260105T160751Z
LAST-MODIFIED:20260105T160751Z
UID:1671-1772042400-1772046000@cornerstone3cu.org
SUMMARY:Wednesday Evening Adult Prayer and Youth Services
DESCRIPTION:
URL:https://cornerstone3cu.org/event/wednesday-evening-adult-prayer-and-youth-services-81/
CATEGORIES:Adult Event,Youth Event
END:VEVENT
END:VCALENDAR