BEGIN:VCALENDAR
VERSION:2.0
PRODID:-//Cornerstone Church of Christ in Christian Union - ECPv6.15.20//NONSGML v1.0//EN
CALSCALE:GREGORIAN
METHOD:PUBLISH
X-WR-CALNAME:Cornerstone Church of Christ in Christian Union
X-ORIGINAL-URL:https://cornerstone3cu.org
X-WR-CALDESC:Events for Cornerstone Church of Christ in Christian Union
REFRESH-INTERVAL;VALUE=DURATION:PT1H
X-Robots-Tag:noindex
X-PUBLISHED-TTL:PT1H
BEGIN:VTIMEZONE
TZID:UTC
BEGIN:STANDARD
TZOFFSETFROM:+0000
TZOFFSETTO:+0000
TZNAME:UTC
DTSTART:20240101T000000
END:STANDARD
END:VTIMEZONE
BEGIN:VEVENT
DTSTART;TZID=UTC:20250805T100000
DTEND;TZID=UTC:20250805T113000
DTSTAMP:20260424T014123
CREATED:20251229T152038Z
LAST-MODIFIED:20251229T152038Z
UID:1571-1754388000-1754393400@cornerstone3cu.org
SUMMARY:Senior Adult Group - Brunch
DESCRIPTION:Retired? Have some extra time on your hands? Want to fellowship with other believers in the Plain City area? \nJoin us Tuesday\, August 5th\, for the meeting of Cornerstone’s Senior Adults Group! We will now be meeting regularly for brunch at Der Dutchman at 10:00am on the first Tuesday of the month\, and other events are in the works. \nIf you are planning on attending\, please sign up at the Welcome Desk or let Pastor Mark Barth know directly\, as we need to know how many people are coming in order to request a big enough table when we first arrive. Thank you\, and Lord willing\, see you there.
URL:https://cornerstone3cu.org/event/senior-adult-group-brunch-8/
LOCATION:Der Dutchman\, 445 S. Jefferson Ave.\, Plain City\, Ohio\, 43064\, United States
CATEGORIES:Adult Event,Monthly Recurring Event
END:VEVENT
BEGIN:VEVENT
DTSTART;TZID=UTC:20250804T180000
DTEND;TZID=UTC:20250804T200000
DTSTAMP:20260424T014123
CREATED:20240910T175621Z
LAST-MODIFIED:20250521T160511Z
UID:671-1754330400-1754337600@cornerstone3cu.org
SUMMARY:Care Night - Held Offsite
DESCRIPTION:Care Nights during the summer of 2025 (June\, July\, August\, September) will not be held at Cornerstone Church. If you have questions\, please speak with Michele Husband. Thank you! \n(This event is usually scheduled for 6:00pm on the first Monday of every month.)
URL:https://cornerstone3cu.org/event/care-night-16/
LOCATION:Cornerstone C.C.C.U. Fellowship Hall​
CATEGORIES:Monthly Recurring Event
END:VEVENT
BEGIN:VEVENT
DTSTART;TZID=UTC:20250803T103000
DTEND;TZID=UTC:20250803T113000
DTSTAMP:20260424T014123
CREATED:20240910T175357Z
LAST-MODIFIED:20240910T175357Z
UID:659-1754217000-1754220600@cornerstone3cu.org
SUMMARY:Kid Power Sunday
DESCRIPTION:The first Sunday of every month is Kid Power Sunday\, a Sunday where we remind our youth (and ourselves) the importance of supporting Missions around the world. Thank you for giving to Kid Power’s yearly goal!
URL:https://cornerstone3cu.org/event/kid-power-sunday-15/
LOCATION:Cornerstone C.C.C.U. Sanctuary
CATEGORIES:All-Age Event,Monthly Recurring Event
END:VEVENT
BEGIN:VEVENT
DTSTART;TZID=UTC:20250714T180000
DTEND;TZID=UTC:20250714T203000
DTSTAMP:20260424T014123
CREATED:20240910T175908Z
LAST-MODIFIED:20240910T175908Z
UID:681-1752516000-1752525000@cornerstone3cu.org
SUMMARY:July 2025 Board Meeting
DESCRIPTION:(This event is usually held at 6:00pm on the second Monday of each month.)
URL:https://cornerstone3cu.org/event/july-2025-board-meeting/
LOCATION:Cornerstone C.C.C.U. Fellowship Hall​
CATEGORIES:Adult Event,Monthly Recurring Event
END:VEVENT
BEGIN:VEVENT
DTSTART;TZID=UTC:20250707T180000
DTEND;TZID=UTC:20250707T200000
DTSTAMP:20260424T014123
CREATED:20240910T175558Z
LAST-MODIFIED:20250521T160444Z
UID:669-1751911200-1751918400@cornerstone3cu.org
SUMMARY:Care Night - Held Offsite
DESCRIPTION:Care Nights during the summer of 2025 (June\, July\, August\, September) will not be held at Cornerstone Church. If you have questions\, please speak with Michele Husband. Thank you! \n(This event is usually scheduled for 6:00pm on the first Monday of every month.)
URL:https://cornerstone3cu.org/event/care-night-15/
LOCATION:Cornerstone C.C.C.U. Fellowship Hall​
CATEGORIES:Monthly Recurring Event
END:VEVENT
BEGIN:VEVENT
DTSTART;TZID=UTC:20250706T103000
DTEND;TZID=UTC:20250706T113000
DTSTAMP:20260424T014123
CREATED:20240910T175250Z
LAST-MODIFIED:20240910T175323Z
UID:656-1751797800-1751801400@cornerstone3cu.org
SUMMARY:Kid Power Sunday
DESCRIPTION:The first Sunday of every month is Kid Power Sunday\, a Sunday where we remind our youth (and ourselves) the importance of supporting Missions around the world. Thank you for giving to Kid Power’s yearly goal! \nThis particular Kid Power Sunday is the first in the new church fiscal year\, 2025-2026.
URL:https://cornerstone3cu.org/event/kid-power-sunday-14/
LOCATION:Cornerstone C.C.C.U. Sanctuary
CATEGORIES:All-Age Event,Monthly Recurring Event
END:VEVENT
BEGIN:VEVENT
DTSTART;TZID=UTC:20250701T100000
DTEND;TZID=UTC:20250701T113000
DTSTAMP:20260424T014123
CREATED:20251229T151850Z
LAST-MODIFIED:20251229T151850Z
UID:1569-1751364000-1751369400@cornerstone3cu.org
SUMMARY:Senior Adult Group - Brunch
DESCRIPTION:Retired? Have some extra time on your hands? Want to fellowship with other believers in the Plain City area? \nJoin us Tuesday\, July 1st\, for the meeting of Cornerstone’s Senior Adults Group! We will now be meeting regularly for brunch at Der Dutchman at 10:00am on the first Tuesday of the month\, and other events are in the works. \nIf you are planning on attending\, please sign up at the Welcome Desk or let Pastor Mark Barth know directly\, as we need to know how many people are coming in order to request a big enough table when we first arrive. Thank you\, and Lord willing\, see you there.
URL:https://cornerstone3cu.org/event/senior-adult-group-brunch-7/
LOCATION:Der Dutchman\, 445 S. Jefferson Ave.\, Plain City\, Ohio\, 43064\, United States
CATEGORIES:Adult Event,Monthly Recurring Event
END:VEVENT
BEGIN:VEVENT
DTSTART;TZID=UTC:20250630T180000
DTEND;TZID=UTC:20250630T190000
DTSTAMP:20260424T014123
CREATED:20250605T203209Z
LAST-MODIFIED:20250605T203209Z
UID:1219-1751306400-1751310000@cornerstone3cu.org
SUMMARY:Women's Bible Study - Meeting 5
DESCRIPTION:Please speak to Debby Barth for more details; we hope to see you there\, ladies!
URL:https://cornerstone3cu.org/event/womens-bible-study-meeting-5/
LOCATION:Cornerstone C.C.C.U. Fellowship Hall​
CATEGORIES:Adult Event,Monthly Recurring Event
END:VEVENT
BEGIN:VEVENT
DTSTART;TZID=UTC:20250616T180000
DTEND;TZID=UTC:20250616T190000
DTSTAMP:20260424T014123
CREATED:20250605T203136Z
LAST-MODIFIED:20250605T203136Z
UID:1217-1750096800-1750100400@cornerstone3cu.org
SUMMARY:Women's Bible Study - Meeting 4
DESCRIPTION:Please speak to Debby Barth for more details; we hope to see you there\, ladies!
URL:https://cornerstone3cu.org/event/womens-bible-study-meeting-4/
LOCATION:Cornerstone C.C.C.U. Fellowship Hall​
CATEGORIES:Adult Event,Monthly Recurring Event
END:VEVENT
BEGIN:VEVENT
DTSTART;TZID=UTC:20250609T180000
DTEND;TZID=UTC:20250609T203000
DTSTAMP:20260424T014123
CREATED:20240528T140322Z
LAST-MODIFIED:20240528T140322Z
UID:345-1749492000-1749501000@cornerstone3cu.org
SUMMARY:June 2025 Board Meeting
DESCRIPTION:(This event is usually held at 6:00pm on the second Monday of each month.)
URL:https://cornerstone3cu.org/event/june-2025-board-meeting/
LOCATION:Cornerstone C.C.C.U. Fellowship Hall​
CATEGORIES:Adult Event,Monthly Recurring Event
END:VEVENT
BEGIN:VEVENT
DTSTART;TZID=UTC:20250603T100000
DTEND;TZID=UTC:20250603T113000
DTSTAMP:20260424T014123
CREATED:20251229T151808Z
LAST-MODIFIED:20251229T151808Z
UID:1567-1748944800-1748950200@cornerstone3cu.org
SUMMARY:Senior Adult Group - Brunch
DESCRIPTION:Retired? Have some extra time on your hands? Want to fellowship with other believers in the Plain City area? \nJoin us Tuesday\, June 3rd\, for the meeting of Cornerstone’s Senior Adults Group! We will now be meeting regularly for brunch at Der Dutchman at 10:00am on the first Tuesday of the month\, and other events are in the works. \nIf you are planning on attending\, please sign up at the Welcome Desk or let Pastor Mark Barth know directly\, as we need to know how many people are coming in order to request a big enough table when we first arrive. Thank you\, and Lord willing\, see you there.
URL:https://cornerstone3cu.org/event/senior-adult-group-brunch-6/
LOCATION:Der Dutchman\, 445 S. Jefferson Ave.\, Plain City\, Ohio\, 43064\, United States
CATEGORIES:Adult Event,Monthly Recurring Event
END:VEVENT
BEGIN:VEVENT
DTSTART;TZID=UTC:20250602T180000
DTEND;TZID=UTC:20250602T200000
DTSTAMP:20260424T014123
CREATED:20240528T135136Z
LAST-MODIFIED:20250521T160416Z
UID:321-1748887200-1748894400@cornerstone3cu.org
SUMMARY:Care Night - Held Offsite
DESCRIPTION:Care Nights during the summer of 2025 (June\, July\, August\, September) will not be held at Cornerstone Church. If you have questions\, please speak with Michele Husband. Thank you! \n(This event is usually scheduled for 6:00pm on the first Monday of every month.)
URL:https://cornerstone3cu.org/event/care-night-14/
LOCATION:Cornerstone C.C.C.U. Fellowship Hall​
CATEGORIES:Monthly Recurring Event
END:VEVENT
BEGIN:VEVENT
DTSTART;TZID=UTC:20250602T180000
DTEND;TZID=UTC:20250602T190000
DTSTAMP:20260424T014123
CREATED:20250521T154451Z
LAST-MODIFIED:20250521T154451Z
UID:1094-1748887200-1748890800@cornerstone3cu.org
SUMMARY:Women's Bible Study - Meeting 3
DESCRIPTION:Please speak to Debby Barth for more details; we hope to see you there\, ladies!
URL:https://cornerstone3cu.org/event/womens-bible-study-meeting-3/
LOCATION:Cornerstone C.C.C.U. Fellowship Hall​
CATEGORIES:Adult Event,Monthly Recurring Event
END:VEVENT
BEGIN:VEVENT
DTSTART;TZID=UTC:20250601T103000
DTEND;TZID=UTC:20250601T113000
DTSTAMP:20260424T014123
CREATED:20240521T181232Z
LAST-MODIFIED:20240521T181232Z
UID:206-1748773800-1748777400@cornerstone3cu.org
SUMMARY:Kid Power Sunday
DESCRIPTION:The first Sunday of every month is Kid Power Sunday\, a Sunday where we remind our youth (and ourselves) the importance of supporting Missions around the world. Thank you for giving to Kid Power’s yearly goal! \nThis particular Kid Power Sunday is the last in the church 2024-2025 fiscal year.
URL:https://cornerstone3cu.org/event/kid-power-sunday-6/
LOCATION:Cornerstone C.C.C.U. Sanctuary
CATEGORIES:All-Age Event,Monthly Recurring Event
END:VEVENT
BEGIN:VEVENT
DTSTART;TZID=UTC:20250519T180000
DTEND;TZID=UTC:20250519T190000
DTSTAMP:20260424T014123
CREATED:20250521T154405Z
LAST-MODIFIED:20250521T154606Z
UID:1092-1747677600-1747681200@cornerstone3cu.org
SUMMARY:Women's Bible Study - Meeting 2
DESCRIPTION:Please speak to Debby Barth for more details; we hope to see you there\, ladies!
URL:https://cornerstone3cu.org/event/womens-bible-study-meeting-2/
LOCATION:Cornerstone C.C.C.U. Fellowship Hall​
CATEGORIES:Adult Event,Monthly Recurring Event
END:VEVENT
BEGIN:VEVENT
DTSTART;TZID=UTC:20250512T180000
DTEND;TZID=UTC:20250512T203000
DTSTAMP:20260424T014123
CREATED:20240528T140257Z
LAST-MODIFIED:20240528T140257Z
UID:343-1747072800-1747081800@cornerstone3cu.org
SUMMARY:May 2025 Board Meeting
DESCRIPTION:(This event is usually held at 6:00pm on the second Monday of each month.)
URL:https://cornerstone3cu.org/event/may-2025-board-meeting/
LOCATION:Cornerstone C.C.C.U. Fellowship Hall​
CATEGORIES:Adult Event,Monthly Recurring Event
END:VEVENT
BEGIN:VEVENT
DTSTART;TZID=UTC:20250506T100000
DTEND;TZID=UTC:20250506T113000
DTSTAMP:20260424T014123
CREATED:20251229T151711Z
LAST-MODIFIED:20251229T151711Z
UID:1565-1746525600-1746531000@cornerstone3cu.org
SUMMARY:Senior Adult Group - Brunch
DESCRIPTION:Retired? Have some extra time on your hands? Want to fellowship with other believers in the Plain City area? \nJoin us Tuesday\, May 6th\, for the meeting of Cornerstone’s Senior Adults Group! We will now be meeting regularly for brunch at Der Dutchman at 10:00am on the first Tuesday of the month\, and other events are in the works. \nIf you are planning on attending\, please sign up at the Welcome Desk or let Pastor Mark Barth know directly\, as we need to know how many people are coming in order to request a big enough table when we first arrive. Thank you\, and Lord willing\, see you there.
URL:https://cornerstone3cu.org/event/senior-adult-group-brunch-5/
LOCATION:Der Dutchman\, 445 S. Jefferson Ave.\, Plain City\, Ohio\, 43064\, United States
CATEGORIES:Adult Event,Monthly Recurring Event
END:VEVENT
BEGIN:VEVENT
DTSTART;TZID=UTC:20250505T180000
DTEND;TZID=UTC:20250505T200000
DTSTAMP:20260424T014123
CREATED:20240528T135108Z
LAST-MODIFIED:20240528T135108Z
UID:319-1746468000-1746475200@cornerstone3cu.org
SUMMARY:Care Night
DESCRIPTION:Join us as we gather to take “care” of those in our church! This involves writing birthday\, get-well\, congratulatory\, and sympathy cards; planning visits to see homebound church members; making phone calls to check in on those the Lord has placed on our hearts; and praying together for the needs in our community. \n(This event is usually scheduled for 6:00pm on the first Monday of every month.)
URL:https://cornerstone3cu.org/event/care-night-13/
LOCATION:Cornerstone C.C.C.U. Fellowship Hall​
CATEGORIES:Monthly Recurring Event
END:VEVENT
BEGIN:VEVENT
DTSTART;TZID=UTC:20250504T103000
DTEND;TZID=UTC:20250504T113000
DTSTAMP:20260424T014123
CREATED:20240521T181848Z
LAST-MODIFIED:20240521T181848Z
UID:220-1746354600-1746358200@cornerstone3cu.org
SUMMARY:Kid Power Sunday
DESCRIPTION:The first Sunday of every month is Kid Power Sunday\, a Sunday where we remind our youth (and ourselves) the importance of supporting Missions around the world. Thank you for giving to Kid Power’s yearly goal!
URL:https://cornerstone3cu.org/event/kid-power-sunday-13/
LOCATION:Cornerstone C.C.C.U. Sanctuary
CATEGORIES:All-Age Event,Monthly Recurring Event
END:VEVENT
BEGIN:VEVENT
DTSTART;TZID=UTC:20250428T180000
DTEND;TZID=UTC:20250428T190000
DTSTAMP:20260424T014123
CREATED:20250521T154232Z
LAST-MODIFIED:20250521T154633Z
UID:1090-1745863200-1745866800@cornerstone3cu.org
SUMMARY:Women's Bible Study - Meeting 1
DESCRIPTION:Please speak to Debby Barth for more details; we hope to see you there\, ladies!
URL:https://cornerstone3cu.org/event/womens-bible-study-meeting-1/
LOCATION:Cornerstone C.C.C.U. Fellowship Hall​
CATEGORIES:Adult Event,Monthly Recurring Event
END:VEVENT
BEGIN:VEVENT
DTSTART;TZID=UTC:20250414T180000
DTEND;TZID=UTC:20250414T203000
DTSTAMP:20260424T014123
CREATED:20240528T140234Z
LAST-MODIFIED:20240528T140234Z
UID:341-1744653600-1744662600@cornerstone3cu.org
SUMMARY:April 2025 Board Meeting
DESCRIPTION:(This event is usually held at 6:00pm on the second Monday of each month.)
URL:https://cornerstone3cu.org/event/april-2025-board-meeting/
LOCATION:Cornerstone C.C.C.U. Fellowship Hall​
CATEGORIES:Adult Event,Monthly Recurring Event
END:VEVENT
BEGIN:VEVENT
DTSTART;TZID=UTC:20250407T180000
DTEND;TZID=UTC:20250407T200000
DTSTAMP:20260424T014123
CREATED:20240528T135047Z
LAST-MODIFIED:20240528T135047Z
UID:317-1744048800-1744056000@cornerstone3cu.org
SUMMARY:Care Night
DESCRIPTION:Join us as we gather to take “care” of those in our church! This involves writing birthday\, get-well\, congratulatory\, and sympathy cards; planning visits to see homebound church members; making phone calls to check in on those the Lord has placed on our hearts; and praying together for the needs in our community. \n(This event is usually scheduled for 6:00pm on the first Monday of every month.)
URL:https://cornerstone3cu.org/event/care-night-12/
LOCATION:Cornerstone C.C.C.U. Fellowship Hall​
CATEGORIES:Monthly Recurring Event
END:VEVENT
BEGIN:VEVENT
DTSTART;TZID=UTC:20250406T103000
DTEND;TZID=UTC:20250406T113000
DTSTAMP:20260424T014123
CREATED:20240521T181110Z
LAST-MODIFIED:20240521T181110Z
UID:203-1743935400-1743939000@cornerstone3cu.org
SUMMARY:Kid Power Sunday
DESCRIPTION:The first Sunday of every month is Kid Power Sunday\, a Sunday where we remind our youth (and ourselves) the importance of supporting Missions around the world. Thank you for giving to Kid Power’s yearly goal! \nThis particular Kid Power Sunday marks the beginning of the Fourth Quarter of Missions Giving.
URL:https://cornerstone3cu.org/event/kid-power-sunday-5/
LOCATION:Cornerstone C.C.C.U. Sanctuary
CATEGORIES:All-Age Event,Monthly Recurring Event
END:VEVENT
BEGIN:VEVENT
DTSTART;TZID=UTC:20250403T100000
DTEND;TZID=UTC:20250403T113000
DTSTAMP:20260424T014123
CREATED:20250210T233958Z
LAST-MODIFIED:20250327T150923Z
UID:956-1743674400-1743679800@cornerstone3cu.org
SUMMARY:Senior Adult Group - Brunch - Postponed until Thursday\, 4/3
DESCRIPTION:Retired? Have some extra time on your hands? Want to fellowship with other believers in the Plain City area? \nJoin us Thursday\, April 3rd (rather than our usual first Tuesday of the month)\, for the meeting of Cornerstone’s Senior Adults Group at Der Dutchman! \nIf you are planning on attending\, please let Pastor Mark Barth or Byron Husband know\, as we need to have numbers in order to reserve a table. Thank you\, and Lord willing\, see you there.
URL:https://cornerstone3cu.org/event/senior-adult-group-brunch-4/
LOCATION:Der Dutchman\, 445 S. Jefferson Ave.\, Plain City\, Ohio\, 43064\, United States
CATEGORIES:Adult Event,Monthly Recurring Event
END:VEVENT
BEGIN:VEVENT
DTSTART;TZID=UTC:20250310T180000
DTEND;TZID=UTC:20250310T203000
DTSTAMP:20260424T014123
CREATED:20240528T140116Z
LAST-MODIFIED:20240528T140116Z
UID:339-1741629600-1741638600@cornerstone3cu.org
SUMMARY:March 2025 Board Meeting
DESCRIPTION:(This event is usually held at 6:00pm on the second Monday of each month.)
URL:https://cornerstone3cu.org/event/march-2025-board-meeting/
LOCATION:Cornerstone C.C.C.U. Fellowship Hall​
CATEGORIES:Adult Event,Monthly Recurring Event
END:VEVENT
BEGIN:VEVENT
DTSTART;TZID=UTC:20250304T100000
DTEND;TZID=UTC:20250304T113000
DTSTAMP:20260424T014123
CREATED:20250210T232851Z
LAST-MODIFIED:20250210T232851Z
UID:954-1741082400-1741087800@cornerstone3cu.org
SUMMARY:Senior Adult Group - Brunch
DESCRIPTION:Retired? Have some extra time on your hands? Want to fellowship with other believers in the Plain City area? \nJoin us Tuesday\, March 4th\, for the meeting of Cornerstone’s Senior Adults Group! We will now be meeting regularly for brunch at Der Dutchman at 10:00am on the first Tuesday of the month\, and other events are in the works. \nIf you are planning on attending\, please let Pastor Mark Barth or Byron Husband know\, as we need to have numbers in order to reserve a table. Thank you\, and Lord willing\, see you there.
URL:https://cornerstone3cu.org/event/senior-adult-group-brunch-3/
LOCATION:Der Dutchman\, 445 S. Jefferson Ave.\, Plain City\, Ohio\, 43064\, United States
CATEGORIES:Adult Event,Monthly Recurring Event
END:VEVENT
BEGIN:VEVENT
DTSTART;TZID=UTC:20250303T180000
DTEND;TZID=UTC:20250303T200000
DTSTAMP:20260424T014123
CREATED:20240528T135026Z
LAST-MODIFIED:20250225T164501Z
UID:315-1741024800-1741032000@cornerstone3cu.org
SUMMARY:Care Night - Canceled
DESCRIPTION:Due to scheduling conflicts\, this month’s Care Night has been canceled. We hope you can join us in April! \n  \n(This event is usually scheduled for 6:00pm on the first Monday of every month.)
URL:https://cornerstone3cu.org/event/care-night-11/
LOCATION:Cornerstone C.C.C.U. Fellowship Hall​
CATEGORIES:Monthly Recurring Event
END:VEVENT
BEGIN:VEVENT
DTSTART;TZID=UTC:20250302T103000
DTEND;TZID=UTC:20250302T113000
DTSTAMP:20260424T014123
CREATED:20240521T181804Z
LAST-MODIFIED:20240521T181804Z
UID:218-1740911400-1740915000@cornerstone3cu.org
SUMMARY:Kid Power Sunday
DESCRIPTION:The first Sunday of every month is Kid Power Sunday\, a Sunday where we remind our youth (and ourselves) the importance of supporting Missions around the world. Thank you for giving to Kid Power’s yearly goal!
URL:https://cornerstone3cu.org/event/kid-power-sunday-12/
LOCATION:Cornerstone C.C.C.U. Sanctuary
CATEGORIES:All-Age Event,Monthly Recurring Event
END:VEVENT
BEGIN:VEVENT
DTSTART;TZID=UTC:20250210T180000
DTEND;TZID=UTC:20250210T203000
DTSTAMP:20260424T014123
CREATED:20240528T140045Z
LAST-MODIFIED:20240528T140045Z
UID:337-1739210400-1739219400@cornerstone3cu.org
SUMMARY:February 2025 Board Meeting
DESCRIPTION:(This event is usually held at 6:00pm on the second Monday of each month.)
URL:https://cornerstone3cu.org/event/february-2025-board-meeting/
LOCATION:Cornerstone C.C.C.U. Fellowship Hall​
CATEGORIES:Adult Event,Monthly Recurring Event
END:VEVENT
BEGIN:VEVENT
DTSTART;TZID=UTC:20250204T100000
DTEND;TZID=UTC:20250204T113000
DTSTAMP:20260424T014123
CREATED:20250210T231958Z
LAST-MODIFIED:20250210T233011Z
UID:952-1738663200-1738668600@cornerstone3cu.org
SUMMARY:Senior Adult Group - Brunch
DESCRIPTION:Retired? Have some extra time on your hands? Want to fellowship with other believers in the Plain City area? \nJoin us Tuesday\, February 4th\, for the meeting of Cornerstone’s Senior Adults Group! We will now be meeting regularly for brunch at Der Dutchman at 10:00am on the first Tuesday of the month\, and other events are in the works. \nIf you are planning on attending\, please let Pastor Mark Barth or Byron Husband know\, as we need to have numbers in order to reserve a table. Thank you\, and Lord willing\, see you there.
URL:https://cornerstone3cu.org/event/senior-adult-group-brunch-2/
LOCATION:Der Dutchman\, 445 S. Jefferson Ave.\, Plain City\, Ohio\, 43064\, United States
CATEGORIES:Adult Event,Monthly Recurring Event
END:VEVENT
END:VCALENDAR