BEGIN:VCALENDAR
VERSION:2.0
PRODID:-//Cornerstone Church of Christ in Christian Union - ECPv6.15.20//NONSGML v1.0//EN
CALSCALE:GREGORIAN
METHOD:PUBLISH
X-ORIGINAL-URL:https://cornerstone3cu.org
X-WR-CALDESC:Events for Cornerstone Church of Christ in Christian Union
REFRESH-INTERVAL;VALUE=DURATION:PT1H
X-Robots-Tag:noindex
X-PUBLISHED-TTL:PT1H
BEGIN:VTIMEZONE
TZID:UTC
BEGIN:STANDARD
TZOFFSETFROM:+0000
TZOFFSETTO:+0000
TZNAME:UTC
DTSTART:20240101T000000
END:STANDARD
END:VTIMEZONE
BEGIN:VEVENT
DTSTART;TZID=UTC:20260413T180000
DTEND;TZID=UTC:20260413T203000
DTSTAMP:20260423T203221
CREATED:20250811T222000Z
LAST-MODIFIED:20250811T222000Z
UID:1274-1776103200-1776112200@cornerstone3cu.org
SUMMARY:April 2026 Board Meeting
DESCRIPTION:(This event is usually held at 6:00pm on the second Monday of each month.)
URL:https://cornerstone3cu.org/event/april-2026-board-meeting/
LOCATION:Cornerstone C.C.C.U. Fellowship Hall​
CATEGORIES:Adult Event,Monthly Recurring Event
END:VEVENT
BEGIN:VEVENT
DTSTART;TZID=UTC:20260407T100000
DTEND;TZID=UTC:20260407T113000
DTSTAMP:20260423T203221
CREATED:20251229T152621Z
LAST-MODIFIED:20251229T152621Z
UID:1587-1775556000-1775561400@cornerstone3cu.org
SUMMARY:Senior Adult Group - Brunch
DESCRIPTION:Retired? Have some extra time on your hands? Want to fellowship with other believers in the Plain City area? \nJoin us Tuesday\, April 7th\, for the meeting of Cornerstone’s Senior Adults Group! We will now be meeting regularly for brunch at Der Dutchman at 10:00am on the first Tuesday of the month\, and other events are in the works. \nIf you are planning on attending\, please sign up at the Welcome Desk or let Pastor Mark Barth know directly\, as we need to know how many people are coming in order to request a big enough table when we first arrive. Thank you\, and Lord willing\, see you there.
URL:https://cornerstone3cu.org/event/senior-adult-group-brunch-16/
LOCATION:Der Dutchman\, 445 S. Jefferson Ave.\, Plain City\, Ohio\, 43064\, United States
CATEGORIES:Adult Event,Monthly Recurring Event
END:VEVENT
BEGIN:VEVENT
DTSTART;TZID=UTC:20260406T180000
DTEND;TZID=UTC:20260406T190000
DTSTAMP:20260423T203221
CREATED:20260114T191649Z
LAST-MODIFIED:20260114T191649Z
UID:2083-1775498400-1775502000@cornerstone3cu.org
SUMMARY:Women's Bible Study - Tentative Restart 2026!
DESCRIPTION:Our women’s Bible study is starting back up in the spring! While the actual meeting date is tentative at this point\, we will likely stick with our usual Monday evening schedule (like last summer and fall). Please speak with Debby Barth for more details\, and we hope to see you there\, ladies\, when the time comes!
URL:https://cornerstone3cu.org/event/womens-bible-study-tentative-restart-2026/
LOCATION:Cornerstone C.C.C.U. Fellowship Hall​
CATEGORIES:Adult Event,Monthly Recurring Event
END:VEVENT
BEGIN:VEVENT
DTSTART;TZID=UTC:20260405T103000
DTEND;TZID=UTC:20260405T113000
DTSTAMP:20260423T203221
CREATED:20250811T222600Z
LAST-MODIFIED:20250811T222600Z
UID:1287-1775385000-1775388600@cornerstone3cu.org
SUMMARY:Kid Power Sunday
DESCRIPTION:The first Sunday of every month is Kid Power Sunday\, a Sunday where we remind our youth (and ourselves) the importance of supporting Missions around the world. Thank you for giving to Kid Power’s yearly goal!
URL:https://cornerstone3cu.org/event/kid-power-sunday-23/
LOCATION:Cornerstone C.C.C.U. Sanctuary
CATEGORIES:All-Age Event,Monthly Recurring Event
END:VEVENT
BEGIN:VEVENT
DTSTART;TZID=UTC:20260309T180000
DTEND;TZID=UTC:20260309T203000
DTSTAMP:20260423T203221
CREATED:20250811T221928Z
LAST-MODIFIED:20260112T225743Z
UID:1273-1773079200-1773088200@cornerstone3cu.org
SUMMARY:March 2026 Board Meeting - Postponed
DESCRIPTION:Due to Revival this month\, March’s board meeting will be postponed. Thank you! \n  \n(This event is usually held at 6:00pm on the second Monday of each month.)
URL:https://cornerstone3cu.org/event/march-2026-board-meeting/
LOCATION:Cornerstone C.C.C.U. Fellowship Hall​
CATEGORIES:Adult Event,Monthly Recurring Event
END:VEVENT
BEGIN:VEVENT
DTSTART;TZID=UTC:20260303T100000
DTEND;TZID=UTC:20260303T113000
DTSTAMP:20260423T203221
CREATED:20251229T152540Z
LAST-MODIFIED:20251229T152540Z
UID:1585-1772532000-1772537400@cornerstone3cu.org
SUMMARY:Senior Adult Group - Brunch
DESCRIPTION:Retired? Have some extra time on your hands? Want to fellowship with other believers in the Plain City area? \nJoin us Tuesday\, March 3rd\, for the meeting of Cornerstone’s Senior Adults Group! We will now be meeting regularly for brunch at Der Dutchman at 10:00am on the first Tuesday of the month\, and other events are in the works. \nIf you are planning on attending\, please sign up at the Welcome Desk or let Pastor Mark Barth know directly\, as we need to know how many people are coming in order to request a big enough table when we first arrive. Thank you\, and Lord willing\, see you there.
URL:https://cornerstone3cu.org/event/senior-adult-group-brunch-15/
LOCATION:Der Dutchman\, 445 S. Jefferson Ave.\, Plain City\, Ohio\, 43064\, United States
CATEGORIES:Adult Event,Monthly Recurring Event
END:VEVENT
BEGIN:VEVENT
DTSTART;TZID=UTC:20260301T103000
DTEND;TZID=UTC:20260301T113000
DTSTAMP:20260423T203221
CREATED:20250811T222504Z
LAST-MODIFIED:20250811T222504Z
UID:1288-1772361000-1772364600@cornerstone3cu.org
SUMMARY:Kid Power Sunday
DESCRIPTION:The first Sunday of every month is Kid Power Sunday\, a Sunday where we remind our youth (and ourselves) the importance of supporting Missions around the world. Thank you for giving to Kid Power’s yearly goal!
URL:https://cornerstone3cu.org/event/kid-power-sunday-22/
LOCATION:Cornerstone C.C.C.U. Sanctuary
CATEGORIES:All-Age Event,Monthly Recurring Event
END:VEVENT
BEGIN:VEVENT
DTSTART;TZID=UTC:20260209T180000
DTEND;TZID=UTC:20260209T203000
DTSTAMP:20260423T203221
CREATED:20250811T221858Z
LAST-MODIFIED:20250811T221858Z
UID:1272-1770660000-1770669000@cornerstone3cu.org
SUMMARY:February 2026 Board Meeting
DESCRIPTION:(This event is usually held at 6:00pm on the second Monday of each month.)
URL:https://cornerstone3cu.org/event/february-2026-board-meeting/
LOCATION:Cornerstone C.C.C.U. Fellowship Hall​
CATEGORIES:Adult Event,Monthly Recurring Event
END:VEVENT
BEGIN:VEVENT
DTSTART;TZID=UTC:20260203T100000
DTEND;TZID=UTC:20260203T113000
DTSTAMP:20260423T203221
CREATED:20251229T152503Z
LAST-MODIFIED:20251229T152503Z
UID:1583-1770112800-1770118200@cornerstone3cu.org
SUMMARY:Senior Adult Group - Brunch
DESCRIPTION:Retired? Have some extra time on your hands? Want to fellowship with other believers in the Plain City area? \nJoin us Tuesday\, February 3rd\, for the meeting of Cornerstone’s Senior Adults Group! We will now be meeting regularly for brunch at Der Dutchman at 10:00am on the first Tuesday of the month\, and other events are in the works. \nIf you are planning on attending\, please sign up at the Welcome Desk or let Pastor Mark Barth know directly\, as we need to know how many people are coming in order to request a big enough table when we first arrive. Thank you\, and Lord willing\, see you there.
URL:https://cornerstone3cu.org/event/senior-adult-group-brunch-14/
LOCATION:Der Dutchman\, 445 S. Jefferson Ave.\, Plain City\, Ohio\, 43064\, United States
CATEGORIES:Adult Event,Monthly Recurring Event
END:VEVENT
BEGIN:VEVENT
DTSTART;TZID=UTC:20260201T103000
DTEND;TZID=UTC:20260201T113000
DTSTAMP:20260423T203221
CREATED:20250811T222430Z
LAST-MODIFIED:20250811T222430Z
UID:1284-1769941800-1769945400@cornerstone3cu.org
SUMMARY:Kid Power Sunday
DESCRIPTION:The first Sunday of every month is Kid Power Sunday\, a Sunday where we remind our youth (and ourselves) the importance of supporting Missions around the world. Thank you for giving to Kid Power’s yearly goal!
URL:https://cornerstone3cu.org/event/kid-power-sunday-21/
LOCATION:Cornerstone C.C.C.U. Sanctuary
CATEGORIES:All-Age Event,Monthly Recurring Event
END:VEVENT
BEGIN:VEVENT
DTSTART;TZID=UTC:20260112T180000
DTEND;TZID=UTC:20260112T203000
DTSTAMP:20260423T203221
CREATED:20250811T221827Z
LAST-MODIFIED:20250811T221827Z
UID:1271-1768240800-1768249800@cornerstone3cu.org
SUMMARY:January 2026 Board Meeting
DESCRIPTION:(This event is usually held at 6:00pm on the second Monday of each month.)
URL:https://cornerstone3cu.org/event/january-2026-board-meeting/
LOCATION:Cornerstone C.C.C.U. Fellowship Hall​
CATEGORIES:Adult Event,Monthly Recurring Event
END:VEVENT
BEGIN:VEVENT
DTSTART;TZID=UTC:20260106T100000
DTEND;TZID=UTC:20260106T113000
DTSTAMP:20260423T203221
CREATED:20251229T152420Z
LAST-MODIFIED:20251229T152420Z
UID:1581-1767693600-1767699000@cornerstone3cu.org
SUMMARY:Senior Adult Group - Brunch
DESCRIPTION:Retired? Have some extra time on your hands? Want to fellowship with other believers in the Plain City area? \nJoin us Tuesday\, January 6th\, for the meeting of Cornerstone’s Senior Adults Group! We will now be meeting regularly for brunch at Der Dutchman at 10:00am on the first Tuesday of the month\, and other events are in the works. \nIf you are planning on attending\, please sign up at the Welcome Desk or let Pastor Mark Barth know directly\, as we need to know how many people are coming in order to request a big enough table when we first arrive. Thank you\, and Lord willing\, see you there.
URL:https://cornerstone3cu.org/event/senior-adult-group-brunch-13/
LOCATION:Der Dutchman\, 445 S. Jefferson Ave.\, Plain City\, Ohio\, 43064\, United States
CATEGORIES:Adult Event,Monthly Recurring Event
END:VEVENT
BEGIN:VEVENT
DTSTART;TZID=UTC:20260104T103000
DTEND;TZID=UTC:20260104T113000
DTSTAMP:20260423T203221
CREATED:20250811T222359Z
LAST-MODIFIED:20250811T222359Z
UID:1283-1767522600-1767526200@cornerstone3cu.org
SUMMARY:Kid Power Sunday
DESCRIPTION:The first Sunday of every month is Kid Power Sunday\, a Sunday where we remind our youth (and ourselves) the importance of supporting Missions around the world. Thank you for giving to Kid Power’s yearly goal!
URL:https://cornerstone3cu.org/event/kid-power-sunday-20/
LOCATION:Cornerstone C.C.C.U. Sanctuary
CATEGORIES:All-Age Event,Monthly Recurring Event
END:VEVENT
BEGIN:VEVENT
DTSTART;TZID=UTC:20251208T180000
DTEND;TZID=UTC:20251208T203000
DTSTAMP:20260423T203221
CREATED:20240910T180121Z
LAST-MODIFIED:20240910T180121Z
UID:691-1765216800-1765225800@cornerstone3cu.org
SUMMARY:December 2025 Board Meeting
DESCRIPTION:(This event is usually held at 6:00pm on the second Monday of each month.)
URL:https://cornerstone3cu.org/event/december-2025-board-meeting/
LOCATION:Cornerstone C.C.C.U. Fellowship Hall​
CATEGORIES:Adult Event,Monthly Recurring Event
END:VEVENT
BEGIN:VEVENT
DTSTART;TZID=UTC:20251207T103000
DTEND;TZID=UTC:20251207T113000
DTSTAMP:20260423T203221
CREATED:20240910T175527Z
LAST-MODIFIED:20240910T175527Z
UID:667-1765103400-1765107000@cornerstone3cu.org
SUMMARY:Kid Power Sunday
DESCRIPTION:The first Sunday of every month is Kid Power Sunday\, a Sunday where we remind our youth (and ourselves) the importance of supporting Missions around the world. Thank you for giving to Kid Power’s yearly goal!
URL:https://cornerstone3cu.org/event/kid-power-sunday-19/
LOCATION:Cornerstone C.C.C.U. Sanctuary
CATEGORIES:All-Age Event,Monthly Recurring Event
END:VEVENT
BEGIN:VEVENT
DTSTART;TZID=UTC:20251202T100000
DTEND;TZID=UTC:20251202T113000
DTSTAMP:20260423T203221
CREATED:20251229T152333Z
LAST-MODIFIED:20251229T152333Z
UID:1579-1764669600-1764675000@cornerstone3cu.org
SUMMARY:Senior Adult Group - Brunch
DESCRIPTION:Retired? Have some extra time on your hands? Want to fellowship with other believers in the Plain City area? \nJoin us Tuesday\, December 2nd\, for the meeting of Cornerstone’s Senior Adults Group! We will now be meeting regularly for brunch at Der Dutchman at 10:00am on the first Tuesday of the month\, and other events are in the works. \nIf you are planning on attending\, please sign up at the Welcome Desk or let Pastor Mark Barth know directly\, as we need to know how many people are coming in order to request a big enough table when we first arrive. Thank you\, and Lord willing\, see you there.
URL:https://cornerstone3cu.org/event/senior-adult-group-brunch-12/
LOCATION:Der Dutchman\, 445 S. Jefferson Ave.\, Plain City\, Ohio\, 43064\, United States
CATEGORIES:Adult Event,Monthly Recurring Event
END:VEVENT
BEGIN:VEVENT
DTSTART;TZID=UTC:20251110T180000
DTEND;TZID=UTC:20251110T203000
DTSTAMP:20260423T203221
CREATED:20240910T180055Z
LAST-MODIFIED:20240910T180055Z
UID:689-1762797600-1762806600@cornerstone3cu.org
SUMMARY:November 2025 Board Meeting
DESCRIPTION:(This event is usually held at 6:00pm on the second Monday of each month.)
URL:https://cornerstone3cu.org/event/november-2025-board-meeting/
LOCATION:Cornerstone C.C.C.U. Fellowship Hall​
CATEGORIES:Adult Event,Monthly Recurring Event
END:VEVENT
BEGIN:VEVENT
DTSTART;TZID=UTC:20251104T100000
DTEND;TZID=UTC:20251104T113000
DTSTAMP:20260423T203221
CREATED:20251229T152255Z
LAST-MODIFIED:20251229T152255Z
UID:1577-1762250400-1762255800@cornerstone3cu.org
SUMMARY:Senior Adult Group - Brunch
DESCRIPTION:Retired? Have some extra time on your hands? Want to fellowship with other believers in the Plain City area? \nJoin us Tuesday\, November 4th\, for the meeting of Cornerstone’s Senior Adults Group! We will now be meeting regularly for brunch at Der Dutchman at 10:00am on the first Tuesday of the month\, and other events are in the works. \nIf you are planning on attending\, please sign up at the Welcome Desk or let Pastor Mark Barth know directly\, as we need to know how many people are coming in order to request a big enough table when we first arrive. Thank you\, and Lord willing\, see you there.
URL:https://cornerstone3cu.org/event/senior-adult-group-brunch-11/
LOCATION:Der Dutchman\, 445 S. Jefferson Ave.\, Plain City\, Ohio\, 43064\, United States
CATEGORIES:Adult Event,Monthly Recurring Event
END:VEVENT
BEGIN:VEVENT
DTSTART;TZID=UTC:20251103T180000
DTEND;TZID=UTC:20251103T200000
DTSTAMP:20260423T203221
CREATED:20240910T175811Z
LAST-MODIFIED:20240910T175811Z
UID:677-1762192800-1762200000@cornerstone3cu.org
SUMMARY:Care Night
DESCRIPTION:Join us as we gather to take “care” of those in our church! This involves writing birthday\, get-well\, congratulatory\, and sympathy cards; planning visits to see homebound church members; making phone calls to check in on those the Lord has placed on our hearts; and praying together for the needs in our community. \n(This event is usually scheduled for 6:00pm on the first Monday of every month.)
URL:https://cornerstone3cu.org/event/care-night-19/
LOCATION:Cornerstone C.C.C.U. Fellowship Hall​
CATEGORIES:Monthly Recurring Event
END:VEVENT
BEGIN:VEVENT
DTSTART;TZID=UTC:20251102T103000
DTEND;TZID=UTC:20251102T113000
DTSTAMP:20260423T203221
CREATED:20240910T175509Z
LAST-MODIFIED:20240910T175509Z
UID:665-1762079400-1762083000@cornerstone3cu.org
SUMMARY:Kid Power Sunday
DESCRIPTION:The first Sunday of every month is Kid Power Sunday\, a Sunday where we remind our youth (and ourselves) the importance of supporting Missions around the world. Thank you for giving to Kid Power’s yearly goal!
URL:https://cornerstone3cu.org/event/kid-power-sunday-18/
LOCATION:Cornerstone C.C.C.U. Sanctuary
CATEGORIES:All-Age Event,Monthly Recurring Event
END:VEVENT
BEGIN:VEVENT
DTSTART;TZID=UTC:20251013T180000
DTEND;TZID=UTC:20251013T203000
DTSTAMP:20260423T203221
CREATED:20240910T180025Z
LAST-MODIFIED:20240910T180025Z
UID:687-1760378400-1760387400@cornerstone3cu.org
SUMMARY:October 2025 Board Meeting
DESCRIPTION:(This event is usually held at 6:00pm on the second Monday of each month.)
URL:https://cornerstone3cu.org/event/october-2025-board-meeting/
LOCATION:Cornerstone C.C.C.U. Fellowship Hall​
CATEGORIES:Adult Event,Monthly Recurring Event
END:VEVENT
BEGIN:VEVENT
DTSTART;TZID=UTC:20251013T180000
DTEND;TZID=UTC:20251013T200000
DTSTAMP:20260423T203221
CREATED:20240910T175747Z
LAST-MODIFIED:20250211T193743Z
UID:675-1760378400-1760385600@cornerstone3cu.org
SUMMARY:Care Night - Postponed
DESCRIPTION:Join us as we gather to take “care” of those in our church! This involves writing birthday\, get-well\, congratulatory\, and sympathy cards; planning visits to see homebound church members; making phone calls to check in on those the Lord has placed on our hearts; and praying together for the needs in our community. \n(This event is usually scheduled for 6:00pm on the first Monday of every month\, but it has been moved to the second Monday of this month due to the revival service on 10/6/2025. We hope\, thus\, that you are able to make it to both events!)
URL:https://cornerstone3cu.org/event/care-night-18/
LOCATION:Cornerstone C.C.C.U. Fellowship Hall​
CATEGORIES:Monthly Recurring Event
END:VEVENT
BEGIN:VEVENT
DTSTART;TZID=UTC:20251007T100000
DTEND;TZID=UTC:20251007T113000
DTSTAMP:20260423T203221
CREATED:20251229T152210Z
LAST-MODIFIED:20251229T152210Z
UID:1575-1759831200-1759836600@cornerstone3cu.org
SUMMARY:Senior Adult Group - Brunch
DESCRIPTION:Retired? Have some extra time on your hands? Want to fellowship with other believers in the Plain City area? \nJoin us Tuesday\, October 7th\, for the meeting of Cornerstone’s Senior Adults Group! We will now be meeting regularly for brunch at Der Dutchman at 10:00am on the first Tuesday of the month\, and other events are in the works. \nIf you are planning on attending\, please sign up at the Welcome Desk or let Pastor Mark Barth know directly\, as we need to know how many people are coming in order to request a big enough table when we first arrive. Thank you\, and Lord willing\, see you there.
URL:https://cornerstone3cu.org/event/senior-adult-group-brunch-10/
LOCATION:Der Dutchman\, 445 S. Jefferson Ave.\, Plain City\, Ohio\, 43064\, United States
CATEGORIES:Adult Event,Monthly Recurring Event
END:VEVENT
BEGIN:VEVENT
DTSTART;TZID=UTC:20251005T103000
DTEND;TZID=UTC:20251005T113000
DTSTAMP:20260423T203221
CREATED:20240910T175445Z
LAST-MODIFIED:20240910T175445Z
UID:663-1759660200-1759663800@cornerstone3cu.org
SUMMARY:Kid Power Sunday
DESCRIPTION:The first Sunday of every month is Kid Power Sunday\, a Sunday where we remind our youth (and ourselves) the importance of supporting Missions around the world. Thank you for giving to Kid Power’s yearly goal!
URL:https://cornerstone3cu.org/event/kid-power-sunday-17/
LOCATION:Cornerstone C.C.C.U. Sanctuary
CATEGORIES:All-Age Event,Monthly Recurring Event
END:VEVENT
BEGIN:VEVENT
DTSTART;TZID=UTC:20250908T180000
DTEND;TZID=UTC:20250908T203000
DTSTAMP:20260423T203221
CREATED:20240910T175959Z
LAST-MODIFIED:20240910T180000Z
UID:685-1757354400-1757363400@cornerstone3cu.org
SUMMARY:September 2025 Board Meeting
DESCRIPTION:(This event is usually held at 6:00pm on the second Monday of each month.)
URL:https://cornerstone3cu.org/event/september-2025-board-meeting/
LOCATION:Cornerstone C.C.C.U. Fellowship Hall​
CATEGORIES:Adult Event,Monthly Recurring Event
END:VEVENT
BEGIN:VEVENT
DTSTART;TZID=UTC:20250907T103000
DTEND;TZID=UTC:20250907T113000
DTSTAMP:20260423T203221
CREATED:20240910T175418Z
LAST-MODIFIED:20240910T175418Z
UID:661-1757241000-1757244600@cornerstone3cu.org
SUMMARY:Kid Power Sunday
DESCRIPTION:The first Sunday of every month is Kid Power Sunday\, a Sunday where we remind our youth (and ourselves) the importance of supporting Missions around the world. Thank you for giving to Kid Power’s yearly goal!
URL:https://cornerstone3cu.org/event/kid-power-sunday-16/
LOCATION:Cornerstone C.C.C.U. Sanctuary
CATEGORIES:All-Age Event,Monthly Recurring Event
END:VEVENT
BEGIN:VEVENT
DTSTART;TZID=UTC:20250902T100000
DTEND;TZID=UTC:20250902T113000
DTSTAMP:20260423T203221
CREATED:20251229T152116Z
LAST-MODIFIED:20251229T152116Z
UID:1573-1756807200-1756812600@cornerstone3cu.org
SUMMARY:Senior Adult Group - Brunch
DESCRIPTION:Retired? Have some extra time on your hands? Want to fellowship with other believers in the Plain City area? \nJoin us Tuesday\, September 2nd\, for the meeting of Cornerstone’s Senior Adults Group! We will now be meeting regularly for brunch at Der Dutchman at 10:00am on the first Tuesday of the month\, and other events are in the works. \nIf you are planning on attending\, please sign up at the Welcome Desk or let Pastor Mark Barth know directly\, as we need to know how many people are coming in order to request a big enough table when we first arrive. Thank you\, and Lord willing\, see you there.
URL:https://cornerstone3cu.org/event/senior-adult-group-brunch-9/
LOCATION:Der Dutchman\, 445 S. Jefferson Ave.\, Plain City\, Ohio\, 43064\, United States
CATEGORIES:Adult Event,Monthly Recurring Event
END:VEVENT
BEGIN:VEVENT
DTSTART;TZID=UTC:20250901T180000
DTEND;TZID=UTC:20250901T200000
DTSTAMP:20260423T203221
CREATED:20240910T175640Z
LAST-MODIFIED:20250521T160530Z
UID:673-1756749600-1756756800@cornerstone3cu.org
SUMMARY:Care Night - Held Offsite
DESCRIPTION:Care Nights during the summer of 2025 (June\, July\, August\, September) will not be held at Cornerstone Church. If you have questions\, please speak with Michele Husband. Thank you! \n(This event is usually scheduled for 6:00pm on the first Monday of every month.)
URL:https://cornerstone3cu.org/event/care-night-17/
LOCATION:Cornerstone C.C.C.U. Fellowship Hall​
CATEGORIES:Monthly Recurring Event
END:VEVENT
BEGIN:VEVENT
DTSTART;TZID=UTC:20250825T180000
DTEND;TZID=UTC:20250825T190000
DTSTAMP:20260423T203221
CREATED:20250703T183913Z
LAST-MODIFIED:20250811T215828Z
UID:1251-1756144800-1756148400@cornerstone3cu.org
SUMMARY:Women's Bible Study - Meeting 6
DESCRIPTION:The meeting previously scheduled for August 11th has been moved to August 25th. \nPlease speak to Debby Barth for more details; we hope to see you there\, ladies!
URL:https://cornerstone3cu.org/event/womens-bible-study-meeting-6/
LOCATION:Cornerstone C.C.C.U. Fellowship Hall​
CATEGORIES:Adult Event,Monthly Recurring Event
END:VEVENT
BEGIN:VEVENT
DTSTART;TZID=UTC:20250811T180000
DTEND;TZID=UTC:20250811T203000
DTSTAMP:20260423T203221
CREATED:20240910T175932Z
LAST-MODIFIED:20240910T175932Z
UID:683-1754935200-1754944200@cornerstone3cu.org
SUMMARY:August 2025 Board Meeting
DESCRIPTION:(This event is usually held at 6:00pm on the second Monday of each month.)
URL:https://cornerstone3cu.org/event/august-2025-board-meeting/
LOCATION:Cornerstone C.C.C.U. Fellowship Hall​
CATEGORIES:Adult Event,Monthly Recurring Event
END:VEVENT
END:VCALENDAR