BEGIN:VCALENDAR
VERSION:2.0
PRODID:-//Cornerstone Church of Christ in Christian Union - ECPv6.15.20//NONSGML v1.0//EN
CALSCALE:GREGORIAN
METHOD:PUBLISH
X-WR-CALNAME:Cornerstone Church of Christ in Christian Union
X-ORIGINAL-URL:https://cornerstone3cu.org
X-WR-CALDESC:Events for Cornerstone Church of Christ in Christian Union
REFRESH-INTERVAL;VALUE=DURATION:PT1H
X-Robots-Tag:noindex
X-PUBLISHED-TTL:PT1H
BEGIN:VTIMEZONE
TZID:UTC
BEGIN:STANDARD
TZOFFSETFROM:+0000
TZOFFSETTO:+0000
TZNAME:UTC
DTSTART:20230101T000000
END:STANDARD
END:VTIMEZONE
BEGIN:VEVENT
DTSTART;TZID=UTC:20240915T123000
DTEND;TZID=UTC:20240915T173000
DTSTAMP:20260424T060042
CREATED:20240820T181311Z
LAST-MODIFIED:20240820T181531Z
UID:538-1726403400-1726421400@cornerstone3cu.org
SUMMARY:Back to Church Cookout and Bonfire
DESCRIPTION:Join us after our morning service for a day of fun and fellowship out at the pavilion. Food will be provided and games will be played; all ages are encouraged to attend! And please consider staying later in the day for our Fresh Encounter prayer service around the bonfire.
URL:https://cornerstone3cu.org/event/back-to-church-cookout-and-bonfire/
CATEGORIES:All-Age Event,Community Event
END:VEVENT
BEGIN:VEVENT
DTSTART;TZID=UTC:20240915T103000
DTEND;TZID=UTC:20240915T113000
DTSTAMP:20260424T060042
CREATED:20240704T210736Z
LAST-MODIFIED:20240910T165049Z
UID:464-1726396200-1726399800@cornerstone3cu.org
SUMMARY:Back to Church Sunday and Baptisms!
DESCRIPTION:If you have not been to church in a while\, there is no need to fear and no time like the present. We would love for you to start joining us\, especially on the 3rd Sunday of September – a service especially designed for those who have been absent for a while from church. Join us then\, before\, or after – whenever you come\, we look forward to seeing you!
URL:https://cornerstone3cu.org/event/adult-and-youth-morning-services-15/
CATEGORIES:Adult Event,Community Event,Youth Event
END:VEVENT
BEGIN:VEVENT
DTSTART;TZID=UTC:20240721T080000
DTEND;TZID=UTC:20240721T090000
DTSTAMP:20260424T060042
CREATED:20240528T133351Z
LAST-MODIFIED:20240627T184742Z
UID:297-1721548800-1721552400@cornerstone3cu.org
SUMMARY:Plain City Steam Threshers Service
DESCRIPTION:Come visit us before church Sunday at the youth building at Pastime Park in Plain City during the final day of Miami Valley’s 75th annual Steam Threshers Reunion! There will be a service with a message on God’s “harvest.” \nThe Miami Valley’s 75th annual Steam Threshers Reunion community event runs almost all day on Thursday\, Friday\, Saturday\, and Sunday. Be sure to check out the parade in downtown Plain City on Friday at 6:00pm\, and stop by the park during the entire weekend to see tractor and truck pulls\, food trucks\, flea market vendors\, kid-friendly races\, car shows\, and more. This year the Steam Threshers are highlighting John Deere equipment.
URL:https://cornerstone3cu.org/event/plain-city-steam-threshers-reunion-3/
LOCATION:Youth Building of Pastime Park\, 370 N Chillicothe St.\, Plain City\, OH\, 43064\, United States
CATEGORIES:All-Age Event,Community Event
END:VEVENT
BEGIN:VEVENT
DTSTART;TZID=UTC:20240616T103000
DTEND;TZID=UTC:20240616T113000
DTSTAMP:20260424T060042
CREATED:20240521T184709Z
LAST-MODIFIED:20240521T184709Z
UID:233-1718533800-1718537400@cornerstone3cu.org
SUMMARY:Father's Day Morning Services
DESCRIPTION:Happy Father’s Day! There will be no evening church services tonight at Cornerstone\, as we hope you are able to spend tonight celebrating your fathers\, your grandfathers\, and all the fatherly men in your life.
URL:https://cornerstone3cu.org/event/fathers-day-morning-services/
CATEGORIES:Adult Event,Community Event,Youth Event
END:VEVENT
BEGIN:VEVENT
DTSTART;TZID=UTC:20240522T190000
DTEND;TZID=UTC:20240522T203000
DTSTAMP:20260424T060042
CREATED:20240521T174012Z
LAST-MODIFIED:20240521T174012Z
UID:184-1716404400-1716409800@cornerstone3cu.org
SUMMARY:Hayden Baptist Church Revival Service
DESCRIPTION:Remember\, there are no Wednesday night services this week at Cornerstone. Instead\, please join us at 7:00pm at Hayden Baptist Church\, 6729 Hayden Run Rd\, Hilliard\, OH\, as we listen to the revival service led by George Holley. We are grateful for our brothers and sisters in Christ at Hayden!
URL:https://cornerstone3cu.org/event/hayden-baptist-church-revival-service/
CATEGORIES:Community Event
END:VEVENT
END:VCALENDAR