BEGIN:VCALENDAR
VERSION:2.0
PRODID:-//Cornerstone Church of Christ in Christian Union - ECPv6.15.20//NONSGML v1.0//EN
CALSCALE:GREGORIAN
METHOD:PUBLISH
X-ORIGINAL-URL:https://cornerstone3cu.org
X-WR-CALDESC:Events for Cornerstone Church of Christ in Christian Union
REFRESH-INTERVAL;VALUE=DURATION:PT1H
X-Robots-Tag:noindex
X-PUBLISHED-TTL:PT1H
BEGIN:VTIMEZONE
TZID:UTC
BEGIN:STANDARD
TZOFFSETFROM:+0000
TZOFFSETTO:+0000
TZNAME:UTC
DTSTART:20230101T000000
END:STANDARD
END:VTIMEZONE
BEGIN:VEVENT
DTSTART;TZID=UTC:20250729T183000
DTEND;TZID=UTC:20250729T203000
DTSTAMP:20260424T033748
CREATED:20250513T000437Z
LAST-MODIFIED:20250513T000437Z
UID:1081-1753813800-1753821000@cornerstone3cu.org
SUMMARY:Cornerstone Kids VBS 2025! - Day 2
DESCRIPTION:Come join us the evenings of July 28th\, 29th\, and 30th\, from 6:30pm-8:30pm to have fun\, make new friends\, and (most importantly) learn about the love and power of Jesus Christ! This is a free event for children ages 4-12. Sign up on a Sunday morning or on any day of the event. We hope to see you there!
URL:https://cornerstone3cu.org/event/cornerstone-kids-vbs-2025-day-2/
LOCATION:Cornerstone C.C.C.U. Grounds\, 8280 Rickard Road\, Plain City\, OH\, 43064\, United States
CATEGORIES:Community Event,Youth Event
END:VEVENT
BEGIN:VEVENT
DTSTART;TZID=UTC:20250728T183000
DTEND;TZID=UTC:20250728T203000
DTSTAMP:20260424T033748
CREATED:20250513T000348Z
LAST-MODIFIED:20250513T000500Z
UID:1079-1753727400-1753734600@cornerstone3cu.org
SUMMARY:Cornerstone Kids VBS 2025! - Day 1
DESCRIPTION:Come join us the evenings of July 28th\, 29th\, and 30th\, from 6:30pm-8:30pm to have fun\, make new friends\, and (most importantly) learn about the love and power of Jesus Christ! This is a free event for children ages 4-12. Sign up on a Sunday morning or on any day of the event. We hope to see you there!
URL:https://cornerstone3cu.org/event/cornerstone-kids-vbs-2025-day-1/
LOCATION:Cornerstone C.C.C.U. Grounds\, 8280 Rickard Road\, Plain City\, OH\, 43064\, United States
CATEGORIES:Community Event,Youth Event
END:VEVENT
BEGIN:VEVENT
DTSTART;TZID=UTC:20250720T080000
DTEND;TZID=UTC:20250720T090000
DTSTAMP:20260424T033748
CREATED:20250703T183759Z
LAST-MODIFIED:20250703T183759Z
UID:1249-1752998400-1753002000@cornerstone3cu.org
SUMMARY:Plain City Steam Threshers Service
DESCRIPTION:Come visit us before church Sunday at the youth building at Pastime Park in Plain City during the final day of Miami Valley’s 76th annual Steam Threshers Reunion! There will be a service with a message on God’s “harvest.” \nThe Miami Valley’s 76th annual Steam Threshers Reunion community event runs almost all day on Thursday\, Friday\, Saturday\, and Sunday. Be sure to check out the parade in downtown Plain City on Friday at 6:00pm\, and stop by the park during the entire weekend to see tractor and truck pulls\, food trucks\, flea market vendors\, kid-friendly races\, car shows\, and more. This year the Steam Threshers are highlighting Massey Harris / Massey Ferguson equipment.
URL:https://cornerstone3cu.org/event/plain-city-steam-threshers-service/
LOCATION:Youth Building of Pastime Park\, 370 N Chillicothe St.\, Plain City\, OH\, 43064\, United States
CATEGORIES:All-Age Event,Community Event
END:VEVENT
BEGIN:VEVENT
DTSTART;TZID=UTC:20250517T110000
DTEND;TZID=UTC:20250517T130000
DTSTAMP:20260424T033748
CREATED:20250321T191946Z
LAST-MODIFIED:20250501T180207Z
UID:1048-1747479600-1747486800@cornerstone3cu.org
SUMMARY:Mother's Day Luncheon - Rescheduled
DESCRIPTION:For those who have signed up by 4/13\, please join us Saturday\, May 17th\, for a luncheon held at 11:30am at Olive Garden\, 7160 Sawmill Road. Some of us will be meeting at the church at 11:00am (for those needing rides to Olive Garden)\, while others of us will be meeting directly at Olive Garden at 11:00am to get seating for our group. The church will be covering the costs of meals for those unable to do so. Otherwise\, the estimated cost is about $10 per person. \nIf you have any questions\, please speak with Debby Barth for more details about what the luncheon will entail. \nPlease note that this event was previously scheduled for Saturday\, May 3rd\, but has since been moved due to other events. Thank you.
URL:https://cornerstone3cu.org/event/mothers-day-luncheon/
LOCATION:OH
CATEGORIES:Adult Event,All-Age Event,Community Event
END:VEVENT
BEGIN:VEVENT
DTSTART;TZID=UTC:20250420T120000
DTEND;TZID=UTC:20250420T123000
DTSTAMP:20260424T033748
CREATED:20250403T173446Z
LAST-MODIFIED:20250403T173446Z
UID:1060-1745150400-1745152200@cornerstone3cu.org
SUMMARY:Easter Egg Hunt
DESCRIPTION:After our Resurrection Sunday morning service\, we invite children ages 2-12 to stay for a brief Easter egg hunt on the grounds. Please bring your own baskets and come ready to have fun!
URL:https://cornerstone3cu.org/event/easter-egg-hunt/
LOCATION:Cornerstone C.C.C.U. Grounds\, 8280 Rickard Road\, Plain City\, OH\, 43064\, United States
CATEGORIES:Community Event,Youth Event
END:VEVENT
BEGIN:VEVENT
DTSTART;TZID=UTC:20241224T180000
DTEND;TZID=UTC:20241224T190000
DTSTAMP:20260424T033748
CREATED:20240820T182743Z
LAST-MODIFIED:20240910T180908Z
UID:548-1735063200-1735066800@cornerstone3cu.org
SUMMARY:Christmas Eve Evening Service
DESCRIPTION:
URL:https://cornerstone3cu.org/event/christmas-eve-evening-service-and-communion/
LOCATION:OH
CATEGORIES:All-Age Event,Community Event
END:VEVENT
BEGIN:VEVENT
DTSTART;TZID=UTC:20241210T183000
DTEND;TZID=UTC:20241210T203000
DTSTAMP:20260424T033748
CREATED:20240820T194331Z
LAST-MODIFIED:20240820T194331Z
UID:576-1733855400-1733862600@cornerstone3cu.org
SUMMARY:Grief Share - 13 of 13
DESCRIPTION:Cornerstone is starting a 13-week program using Grief Share 4.0. With in-person discussions held in English\, Cornerstone’s use of Grief Share is meant to “help people cope with the loss of a loved one [through] videos\, discussions\, and a book with tips\, encouragement\, and guidance on grief-related topics” (text taken directly from Grief Share’s website). There are no registration fees for this program\, and the workbook will be provided by the church\, which is why it is important to register\, even if you just join part-way through the program. \nTo register\, please use the direct Grief Share link below\, contact Pastor Mark via email\, or speak directly to Mark on a Sunday after service. \nPlease note\, too\, that this program is open to the public\, meaning you do not have to attend Cornerstone C.C.C.U. to attend Grief Share here. \nThis week’s session is called “What Do I Live for Now?” and is the final session for this program.
URL:https://cornerstone3cu.org/event/grief-share-13-of-13/
LOCATION:Cornerstone C.C.C.U. Fellowship Hall​
CATEGORIES:Adult Event,Community Event
ORGANIZER;CN="Mark Barth":MAILTO:markbarth2012@gmail.com
END:VEVENT
BEGIN:VEVENT
DTSTART;TZID=UTC:20241203T183000
DTEND;TZID=UTC:20241203T203000
DTSTAMP:20260424T033748
CREATED:20240820T194235Z
LAST-MODIFIED:20240820T194235Z
UID:574-1733250600-1733257800@cornerstone3cu.org
SUMMARY:Grief Share - 12 of 13
DESCRIPTION:Cornerstone is starting a 13-week program using Grief Share 4.0. With in-person discussions held in English\, Cornerstone’s use of Grief Share is meant to “help people cope with the loss of a loved one [through] videos\, discussions\, and a book with tips\, encouragement\, and guidance on grief-related topics” (text taken directly from Grief Share’s website). There are no registration fees for this program\, and the workbook will be provided by the church\, which is why it is important to register\, even if you just join part-way through the program. \nTo register\, please use the direct Grief Share link below\, contact Pastor Mark via email\, or speak directly to Mark on a Sunday after service. \nPlease note\, too\, that this program is open to the public\, meaning you do not have to attend Cornerstone C.C.C.U. to attend Grief Share here. \nThis week’s session is called “Hope & Resilience.”
URL:https://cornerstone3cu.org/event/grief-share-12-of-13/
LOCATION:Cornerstone C.C.C.U. Fellowship Hall​
CATEGORIES:Adult Event,Community Event
ORGANIZER;CN="Mark Barth":MAILTO:markbarth2012@gmail.com
END:VEVENT
BEGIN:VEVENT
DTSTART;TZID=UTC:20241126T183000
DTEND;TZID=UTC:20241126T203000
DTSTAMP:20260424T033748
CREATED:20240820T194159Z
LAST-MODIFIED:20240820T194159Z
UID:572-1732645800-1732653000@cornerstone3cu.org
SUMMARY:Grief Share - 11 of 13
DESCRIPTION:Cornerstone is starting a 13-week program using Grief Share 4.0. With in-person discussions held in English\, Cornerstone’s use of Grief Share is meant to “help people cope with the loss of a loved one [through] videos\, discussions\, and a book with tips\, encouragement\, and guidance on grief-related topics” (text taken directly from Grief Share’s website). There are no registration fees for this program\, and the workbook will be provided by the church\, which is why it is important to register\, even if you just join part-way through the program. \nTo register\, please use the direct Grief Share link below\, contact Pastor Mark via email\, or speak directly to Mark on a Sunday after service. \nPlease note\, too\, that this program is open to the public\, meaning you do not have to attend Cornerstone C.C.C.U. to attend Grief Share here. \nThis week’s session is called “Stuck in Grief.”
URL:https://cornerstone3cu.org/event/grief-share-11-of-13/
LOCATION:Cornerstone C.C.C.U. Fellowship Hall​
CATEGORIES:Adult Event,Community Event
ORGANIZER;CN="Mark Barth":MAILTO:markbarth2012@gmail.com
END:VEVENT
BEGIN:VEVENT
DTSTART;TZID=UTC:20241119T183000
DTEND;TZID=UTC:20241119T203000
DTSTAMP:20260424T033748
CREATED:20240820T194135Z
LAST-MODIFIED:20240820T194135Z
UID:570-1732041000-1732048200@cornerstone3cu.org
SUMMARY:Grief Share - 10 of 13
DESCRIPTION:Cornerstone is starting a 13-week program using Grief Share 4.0. With in-person discussions held in English\, Cornerstone’s use of Grief Share is meant to “help people cope with the loss of a loved one [through] videos\, discussions\, and a book with tips\, encouragement\, and guidance on grief-related topics” (text taken directly from Grief Share’s website). There are no registration fees for this program\, and the workbook will be provided by the church\, which is why it is important to register\, even if you just join part-way through the program. \nTo register\, please use the direct Grief Share link below\, contact Pastor Mark via email\, or speak directly to Mark on a Sunday after service. \nPlease note\, too\, that this program is open to the public\, meaning you do not have to attend Cornerstone C.C.C.U. to attend Grief Share here. \nThis week’s session is called “Questions for God.”
URL:https://cornerstone3cu.org/event/grief-share-10-of-13/
LOCATION:Cornerstone C.C.C.U. Fellowship Hall​
CATEGORIES:Adult Event,Community Event
ORGANIZER;CN="Mark Barth":MAILTO:markbarth2012@gmail.com
END:VEVENT
BEGIN:VEVENT
DTSTART;TZID=UTC:20241112T183000
DTEND;TZID=UTC:20241112T203000
DTSTAMP:20260424T033748
CREATED:20240820T194108Z
LAST-MODIFIED:20240820T194108Z
UID:568-1731436200-1731443400@cornerstone3cu.org
SUMMARY:Grief Share - 9 of 13
DESCRIPTION:Cornerstone is starting a 13-week program using Grief Share 4.0. With in-person discussions held in English\, Cornerstone’s use of Grief Share is meant to “help people cope with the loss of a loved one [through] videos\, discussions\, and a book with tips\, encouragement\, and guidance on grief-related topics” (text taken directly from Grief Share’s website). There are no registration fees for this program\, and the workbook will be provided by the church\, which is why it is important to register\, even if you just join part-way through the program. \nTo register\, please use the direct Grief Share link below\, contact Pastor Mark via email\, or speak directly to Mark on a Sunday after service. \nPlease note\, too\, that this program is open to the public\, meaning you do not have to attend Cornerstone C.C.C.U. to attend Grief Share here. \nThis week’s session is called “Grief & Your Friendships.”
URL:https://cornerstone3cu.org/event/grief-share-9-of-13/
LOCATION:Cornerstone C.C.C.U. Fellowship Hall​
CATEGORIES:Adult Event,Community Event
ORGANIZER;CN="Mark Barth":MAILTO:markbarth2012@gmail.com
END:VEVENT
BEGIN:VEVENT
DTSTART;TZID=UTC:20241105T183000
DTEND;TZID=UTC:20241105T203000
DTSTAMP:20260424T033748
CREATED:20240820T194040Z
LAST-MODIFIED:20240820T194040Z
UID:566-1730831400-1730838600@cornerstone3cu.org
SUMMARY:Grief Share - 8 of 13
DESCRIPTION:Cornerstone is starting a 13-week program using Grief Share 4.0. With in-person discussions held in English\, Cornerstone’s use of Grief Share is meant to “help people cope with the loss of a loved one [through] videos\, discussions\, and a book with tips\, encouragement\, and guidance on grief-related topics” (text taken directly from Grief Share’s website). There are no registration fees for this program\, and the workbook will be provided by the church\, which is why it is important to register\, even if you just join part-way through the program. \nTo register\, please use the direct Grief Share link below\, contact Pastor Mark via email\, or speak directly to Mark on a Sunday after service. \nPlease note\, too\, that this program is open to the public\, meaning you do not have to attend Cornerstone C.C.C.U. to attend Grief Share here. \nThis week’s session is called “Grief & Your Household.”
URL:https://cornerstone3cu.org/event/grief-share-8-of-13/
LOCATION:Cornerstone C.C.C.U. Fellowship Hall​
CATEGORIES:Adult Event,Community Event
ORGANIZER;CN="Mark Barth":MAILTO:markbarth2012@gmail.com
END:VEVENT
BEGIN:VEVENT
DTSTART;TZID=UTC:20241029T183000
DTEND;TZID=UTC:20241029T203000
DTSTAMP:20260424T033748
CREATED:20240820T194007Z
LAST-MODIFIED:20240820T194007Z
UID:564-1730226600-1730233800@cornerstone3cu.org
SUMMARY:Grief Share - 7 of 13
DESCRIPTION:Cornerstone is starting a 13-week program using Grief Share 4.0. With in-person discussions held in English\, Cornerstone’s use of Grief Share is meant to “help people cope with the loss of a loved one [through] videos\, discussions\, and a book with tips\, encouragement\, and guidance on grief-related topics” (text taken directly from Grief Share’s website). There are no registration fees for this program\, and the workbook will be provided by the church\, which is why it is important to register\, even if you just join part-way through the program. \nTo register\, please use the direct Grief Share link below\, contact Pastor Mark via email\, or speak directly to Mark on a Sunday after service. \nPlease note\, too\, that this program is open to the public\, meaning you do not have to attend Cornerstone C.C.C.U. to attend Grief Share here. \nThis week’s session is called “Regrets.”
URL:https://cornerstone3cu.org/event/grief-share-7-of-13/
LOCATION:Cornerstone C.C.C.U. Fellowship Hall​
CATEGORIES:Adult Event,Community Event
ORGANIZER;CN="Mark Barth":MAILTO:markbarth2012@gmail.com
END:VEVENT
BEGIN:VEVENT
DTSTART;TZID=UTC:20241022T183000
DTEND;TZID=UTC:20241022T203000
DTSTAMP:20260424T033748
CREATED:20240820T193940Z
LAST-MODIFIED:20240820T193940Z
UID:562-1729621800-1729629000@cornerstone3cu.org
SUMMARY:Grief Share - 6 of 13
DESCRIPTION:Cornerstone is starting a 13-week program using Grief Share 4.0. With in-person discussions held in English\, Cornerstone’s use of Grief Share is meant to “help people cope with the loss of a loved one [through] videos\, discussions\, and a book with tips\, encouragement\, and guidance on grief-related topics” (text taken directly from Grief Share’s website). There are no registration fees for this program\, and the workbook will be provided by the church\, which is why it is important to register\, even if you just join part-way through the program. \nTo register\, please use the direct Grief Share link below\, contact Pastor Mark via email\, or speak directly to Mark on a Sunday after service. \nPlease note\, too\, that this program is open to the public\, meaning you do not have to attend Cornerstone C.C.C.U. to attend Grief Share here. \nThis week’s session is called “Anger.”
URL:https://cornerstone3cu.org/event/grief-share-6-of-13/
LOCATION:Cornerstone C.C.C.U. Fellowship Hall​
CATEGORIES:Adult Event,Community Event
ORGANIZER;CN="Mark Barth":MAILTO:markbarth2012@gmail.com
END:VEVENT
BEGIN:VEVENT
DTSTART;TZID=UTC:20241015T183000
DTEND;TZID=UTC:20241015T203000
DTSTAMP:20260424T033748
CREATED:20240820T193916Z
LAST-MODIFIED:20240820T193916Z
UID:560-1729017000-1729024200@cornerstone3cu.org
SUMMARY:Grief Share - 5 of 13
DESCRIPTION:Cornerstone is starting a 13-week program using Grief Share 4.0. With in-person discussions held in English\, Cornerstone’s use of Grief Share is meant to “help people cope with the loss of a loved one [through] videos\, discussions\, and a book with tips\, encouragement\, and guidance on grief-related topics” (text taken directly from Grief Share’s website). There are no registration fees for this program\, and the workbook will be provided by the church\, which is why it is important to register\, even if you just join part-way through the program. \nTo register\, please use the direct Grief Share link below\, contact Pastor Mark via email\, or speak directly to Mark on a Sunday after service. \nPlease note\, too\, that this program is open to the public\, meaning you do not have to attend Cornerstone C.C.C.U. to attend Grief Share here. \nThis week’s session is called “Fearful & Overwhelmed.”
URL:https://cornerstone3cu.org/event/grief-share-5-of-13/
LOCATION:Cornerstone C.C.C.U. Fellowship Hall​
CATEGORIES:Adult Event,Community Event
ORGANIZER;CN="Mark Barth":MAILTO:markbarth2012@gmail.com
END:VEVENT
BEGIN:VEVENT
DTSTART;TZID=UTC:20241008T183000
DTEND;TZID=UTC:20241008T203000
DTSTAMP:20260424T033748
CREATED:20240820T193831Z
LAST-MODIFIED:20240820T193831Z
UID:558-1728412200-1728419400@cornerstone3cu.org
SUMMARY:Grief Share - 4 of 13
DESCRIPTION:Cornerstone is starting a 13-week program using Grief Share 4.0. With in-person discussions held in English\, Cornerstone’s use of Grief Share is meant to “help people cope with the loss of a loved one [through] videos\, discussions\, and a book with tips\, encouragement\, and guidance on grief-related topics” (text taken directly from Grief Share’s website). There are no registration fees for this program\, and the workbook will be provided by the church\, which is why it is important to register\, even if you just join part-way through the program. \nTo register\, please use the direct Grief Share link below\, contact Pastor Mark via email\, or speak directly to Mark on a Sunday after service. \nPlease note\, too\, that this program is open to the public\, meaning you do not have to attend Cornerstone C.C.C.U. to attend Grief Share here. \nThis week’s session is called “Self-Care.”
URL:https://cornerstone3cu.org/event/grief-share-4-of-13/
LOCATION:Cornerstone C.C.C.U. Fellowship Hall​
CATEGORIES:Adult Event,Community Event
ORGANIZER;CN="Mark Barth":MAILTO:markbarth2012@gmail.com
END:VEVENT
BEGIN:VEVENT
DTSTART;TZID=UTC:20241005T150000
DTEND;TZID=UTC:20241005T190000
DTSTAMP:20260424T033748
CREATED:20240910T170928Z
LAST-MODIFIED:20240910T170929Z
UID:635-1728140400-1728154800@cornerstone3cu.org
SUMMARY:Community Missions Hog Roast & Festival
DESCRIPTION:To help support Christian organizations in our community\, Cornerstone invites you to an upcoming Missions Hog Roast & Festival on Saturday\, October 5th\, from 3:00pm to 7:00pm at Sharon Mennonite Church in Plain City! This is “[a] fun event for the whole family\,” and “[a]dmission is free!” \nThroughout the day\, there will a hog roast (dine-in or take-out\, served until gone)\, a silent auction\, a Cornhole tournament (with check-in starting at 2:30pm and a registration fee of $20 per individual or $40 per team\, sign up at www.dnaplaincity.org/missionsfestival)\, food trucks (from Miller’s Olde Fashioned Ice Cream and Der Dutchman)\, a Kid Zone (with a bounce house\, a petting zoo\, face painting\, and more)\, and a live auction (starting at 5:00pm). \nAll proceeds from this event will go to support She Dreams Again\, Let Love Farms\, Daily Needs Assistance (DNA)\, and Lifewise Academy\, all charitable\, faith-based groups operating in the Plain City area! \nFinally\, if you are interested in volunteering at this event\, or with one of the Christian organizations associated with it\, please visit the event website for more information (again\, that website is www.dnaplaincity.org/missionsfestival).
URL:https://cornerstone3cu.org/event/community-missions-hog-roast-festival/
LOCATION:Sharon Mennonite Church\, 7675 Amity Pike\, Plain City\, OH\, 43064\, United States
CATEGORIES:All-Age Event,Community Event
END:VEVENT
BEGIN:VEVENT
DTSTART;TZID=UTC:20241001T183000
DTEND;TZID=UTC:20241001T203000
DTSTAMP:20260424T033748
CREATED:20240820T193743Z
LAST-MODIFIED:20240820T193754Z
UID:554-1727807400-1727814600@cornerstone3cu.org
SUMMARY:Grief Share - 3 of 13
DESCRIPTION:Cornerstone is starting a 13-week program using Grief Share 4.0. With in-person discussions held in English\, Cornerstone’s use of Grief Share is meant to “help people cope with the loss of a loved one [through] videos\, discussions\, and a book with tips\, encouragement\, and guidance on grief-related topics” (text taken directly from Grief Share’s website). There are no registration fees for this program\, and the workbook will be provided by the church\, which is why it is important to register\, even if you just join part-way through the program. \nTo register\, please use the direct Grief Share link below\, contact Pastor Mark via email\, or speak directly to Mark on a Sunday after service. \nPlease note\, too\, that this program is open to the public\, meaning you do not have to attend Cornerstone C.C.C.U. to attend Grief Share here. \nThis week’s session is called “Loneliness & Sadness.”
URL:https://cornerstone3cu.org/event/grief-share-2-of-13-2/
LOCATION:Cornerstone C.C.C.U. Fellowship Hall​
CATEGORIES:Adult Event,Community Event
ORGANIZER;CN="Mark Barth":MAILTO:markbarth2012@gmail.com
END:VEVENT
BEGIN:VEVENT
DTSTART;TZID=UTC:20240924T183000
DTEND;TZID=UTC:20240924T203000
DTSTAMP:20260424T033748
CREATED:20240820T193505Z
LAST-MODIFIED:20240820T193626Z
UID:552-1727202600-1727209800@cornerstone3cu.org
SUMMARY:Grief Share - 2 of 13
DESCRIPTION:Cornerstone is starting a 13-week program using Grief Share 4.0. With in-person discussions held in English\, Cornerstone’s use of Grief Share is meant to “help people cope with the loss of a loved one [through] videos\, discussions\, and a book with tips\, encouragement\, and guidance on grief-related topics” (text taken directly from Grief Share’s website). There are no registration fees for this program\, and the workbook will be provided by the church\, which is why it is important to register\, even if you just join part-way through the program. \nTo register\, please use the direct Grief Share link below\, contact Pastor Mark via email\, or speak directly to Mark on a Sunday after service. \nPlease note\, too\, that this program is open to the public\, meaning you do not have to attend Cornerstone C.C.C.U. to attend Grief Share here. \nThis week’s session is called “Your Grief Journey.”
URL:https://cornerstone3cu.org/event/grief-share-2-of-13/
LOCATION:Cornerstone C.C.C.U. Fellowship Hall​
CATEGORIES:Adult Event,Community Event
ORGANIZER;CN="Mark Barth":MAILTO:markbarth2012@gmail.com
END:VEVENT
BEGIN:VEVENT
DTSTART;TZID=UTC:20240917T183000
DTEND;TZID=UTC:20240917T203000
DTSTAMP:20260424T033748
CREATED:20240820T193405Z
LAST-MODIFIED:20240820T193700Z
UID:550-1726597800-1726605000@cornerstone3cu.org
SUMMARY:Grief Share - 1 of 13
DESCRIPTION:Cornerstone is starting a 13-week program using Grief Share 4.0. With in-person discussions held in English\, Cornerstone’s use of Grief Share is meant to “help people cope with the loss of a loved one [through] videos\, discussions\, and a book with tips\, encouragement\, and guidance on grief-related topics” (text taken directly from Grief Share’s website). There are no registration fees for this program\, and the workbook will be provided by the church\, which is why it is important to register\, even if you just join part-way through the program. \nTo register\, please use the direct Grief Share link below\, contact Pastor Mark via email\, or speak directly to Mark on a Sunday after service. \nPlease note\, too\, that this program is open to the public\, meaning you do not have to attend Cornerstone C.C.C.U. to attend Grief Share here. \nThis week’s session is called “Is This Normal?”
URL:https://cornerstone3cu.org/event/grief-share-1-of-13/
LOCATION:Cornerstone C.C.C.U. Fellowship Hall​
CATEGORIES:Adult Event,Community Event
ORGANIZER;CN="Mark Barth":MAILTO:markbarth2012@gmail.com
END:VEVENT
BEGIN:VEVENT
DTSTART;TZID=UTC:20240915T123000
DTEND;TZID=UTC:20240915T173000
DTSTAMP:20260424T033748
CREATED:20240820T181311Z
LAST-MODIFIED:20240820T181531Z
UID:538-1726403400-1726421400@cornerstone3cu.org
SUMMARY:Back to Church Cookout and Bonfire
DESCRIPTION:Join us after our morning service for a day of fun and fellowship out at the pavilion. Food will be provided and games will be played; all ages are encouraged to attend! And please consider staying later in the day for our Fresh Encounter prayer service around the bonfire.
URL:https://cornerstone3cu.org/event/back-to-church-cookout-and-bonfire/
LOCATION:OH
CATEGORIES:All-Age Event,Community Event
END:VEVENT
BEGIN:VEVENT
DTSTART;TZID=UTC:20240915T103000
DTEND;TZID=UTC:20240915T113000
DTSTAMP:20260424T033748
CREATED:20240704T210736Z
LAST-MODIFIED:20240910T165049Z
UID:464-1726396200-1726399800@cornerstone3cu.org
SUMMARY:Back to Church Sunday and Baptisms!
DESCRIPTION:If you have not been to church in a while\, there is no need to fear and no time like the present. We would love for you to start joining us\, especially on the 3rd Sunday of September – a service especially designed for those who have been absent for a while from church. Join us then\, before\, or after – whenever you come\, we look forward to seeing you!
URL:https://cornerstone3cu.org/event/adult-and-youth-morning-services-15/
LOCATION:OH
CATEGORIES:Adult Event,Community Event,Youth Event
END:VEVENT
BEGIN:VEVENT
DTSTART;TZID=UTC:20240721T080000
DTEND;TZID=UTC:20240721T090000
DTSTAMP:20260424T033748
CREATED:20240528T133351Z
LAST-MODIFIED:20240627T184742Z
UID:297-1721548800-1721552400@cornerstone3cu.org
SUMMARY:Plain City Steam Threshers Service
DESCRIPTION:Come visit us before church Sunday at the youth building at Pastime Park in Plain City during the final day of Miami Valley’s 75th annual Steam Threshers Reunion! There will be a service with a message on God’s “harvest.” \nThe Miami Valley’s 75th annual Steam Threshers Reunion community event runs almost all day on Thursday\, Friday\, Saturday\, and Sunday. Be sure to check out the parade in downtown Plain City on Friday at 6:00pm\, and stop by the park during the entire weekend to see tractor and truck pulls\, food trucks\, flea market vendors\, kid-friendly races\, car shows\, and more. This year the Steam Threshers are highlighting John Deere equipment.
URL:https://cornerstone3cu.org/event/plain-city-steam-threshers-reunion-3/
LOCATION:Youth Building of Pastime Park\, 370 N Chillicothe St.\, Plain City\, OH\, 43064\, United States
CATEGORIES:All-Age Event,Community Event
END:VEVENT
BEGIN:VEVENT
DTSTART;TZID=UTC:20240616T103000
DTEND;TZID=UTC:20240616T113000
DTSTAMP:20260424T033748
CREATED:20240521T184709Z
LAST-MODIFIED:20240521T184709Z
UID:233-1718533800-1718537400@cornerstone3cu.org
SUMMARY:Father's Day Morning Services
DESCRIPTION:Happy Father’s Day! There will be no evening church services tonight at Cornerstone\, as we hope you are able to spend tonight celebrating your fathers\, your grandfathers\, and all the fatherly men in your life.
URL:https://cornerstone3cu.org/event/fathers-day-morning-services/
LOCATION:OH
CATEGORIES:Adult Event,Community Event,Youth Event
END:VEVENT
BEGIN:VEVENT
DTSTART;TZID=UTC:20240522T190000
DTEND;TZID=UTC:20240522T203000
DTSTAMP:20260424T033748
CREATED:20240521T174012Z
LAST-MODIFIED:20240521T174012Z
UID:184-1716404400-1716409800@cornerstone3cu.org
SUMMARY:Hayden Baptist Church Revival Service
DESCRIPTION:Remember\, there are no Wednesday night services this week at Cornerstone. Instead\, please join us at 7:00pm at Hayden Baptist Church\, 6729 Hayden Run Rd\, Hilliard\, OH\, as we listen to the revival service led by George Holley. We are grateful for our brothers and sisters in Christ at Hayden!
URL:https://cornerstone3cu.org/event/hayden-baptist-church-revival-service/
LOCATION:OH
CATEGORIES:Community Event
END:VEVENT
END:VCALENDAR