BEGIN:VCALENDAR
VERSION:2.0
PRODID:-//Cornerstone Church of Christ in Christian Union - ECPv6.15.20//NONSGML v1.0//EN
CALSCALE:GREGORIAN
METHOD:PUBLISH
X-WR-CALNAME:Cornerstone Church of Christ in Christian Union
X-ORIGINAL-URL:https://cornerstone3cu.org
X-WR-CALDESC:Events for Cornerstone Church of Christ in Christian Union
REFRESH-INTERVAL;VALUE=DURATION:PT1H
X-Robots-Tag:noindex
X-PUBLISHED-TTL:PT1H
BEGIN:VTIMEZONE
TZID:UTC
BEGIN:STANDARD
TZOFFSETFROM:+0000
TZOFFSETTO:+0000
TZNAME:UTC
DTSTART:20250101T000000
END:STANDARD
END:VTIMEZONE
BEGIN:VEVENT
DTSTART;TZID=UTC:20260719T080000
DTEND;TZID=UTC:20260719T090000
DTSTAMP:20260424T005149
CREATED:20251229T144018Z
LAST-MODIFIED:20251229T144018Z
UID:1547-1784448000-1784451600@cornerstone3cu.org
SUMMARY:Plain City Steam Threshers Service
DESCRIPTION:Come visit us before church Sunday at the youth building at Pastime Park in Plain City during the final day of Miami Valley’s 77th annual Steam Threshers Reunion! There will be a service with a message on God’s “harvest.” \nThe Miami Valley’s 77th annual Steam Threshers Reunion community event runs almost all day on Thursday\, Friday\, Saturday\, and Sunday. Be sure to check out the parade in downtown Plain City on Friday at 6:00pm\, and stop by the park during the entire weekend to see tractor and truck pulls\, food trucks\, flea market vendors\, kid-friendly races\, car shows\, and more. This year the Steam Threshers are highlighting Minneapolis Moline equipment.
URL:https://cornerstone3cu.org/event/plain-city-steam-threshers-service-2/
LOCATION:Youth Building of Pastime Park\, 370 N Chillicothe St.\, Plain City\, OH\, 43064\, United States
CATEGORIES:All-Age Event,Community Event
END:VEVENT
END:VCALENDAR