BEGIN:VCALENDAR
VERSION:2.0
PRODID:-//Cornerstone Church of Christ in Christian Union - ECPv6.15.20//NONSGML v1.0//EN
CALSCALE:GREGORIAN
METHOD:PUBLISH
X-ORIGINAL-URL:https://cornerstone3cu.org
X-WR-CALDESC:Events for Cornerstone Church of Christ in Christian Union
REFRESH-INTERVAL;VALUE=DURATION:PT1H
X-Robots-Tag:noindex
X-PUBLISHED-TTL:PT1H
BEGIN:VTIMEZONE
TZID:UTC
BEGIN:STANDARD
TZOFFSETFROM:+0000
TZOFFSETTO:+0000
TZNAME:UTC
DTSTART:20250101T000000
END:STANDARD
END:VTIMEZONE
BEGIN:VEVENT
DTSTART;TZID=UTC:20261019T190000
DTEND;TZID=UTC:20261019T200000
DTSTAMP:20260423T214738
CREATED:20251110T234618Z
LAST-MODIFIED:20251110T234618Z
UID:1500-1792436400-1792440000@cornerstone3cu.org
SUMMARY:Revival with Dr. C. Adam Buckler - Evening Service
DESCRIPTION:Come hear Dr. C. Adam Buckler\, president of Union Bible College\, share the message the Lord has put on his heart! More details to come. \n  \nPlease note: Dr. Buckler’s preaching will take the place of regular Sunday morning and evening services on 10/18/2026 and the place of regular Wednesday evening service on 10/21/2026 (though at a different time Wednesday).
URL:https://cornerstone3cu.org/event/revival-with-dr-c-adam-buckler-evening-service-6/
LOCATION:Cornerstone C.C.C.U. Sanctuary
CATEGORIES:All-Age Event,Community Event
END:VEVENT
BEGIN:VEVENT
DTSTART;TZID=UTC:20261020T190000
DTEND;TZID=UTC:20261020T200000
DTSTAMP:20260423T214738
CREATED:20251110T234702Z
LAST-MODIFIED:20251110T234702Z
UID:1501-1792522800-1792526400@cornerstone3cu.org
SUMMARY:Revival with Dr. C. Adam Buckler - Evening Service
DESCRIPTION:Come hear Dr. C. Adam Buckler\, president of Union Bible College\, share the message the Lord has put on his heart! More details to come. \n  \nPlease note: Dr. Buckler’s preaching will take the place of regular Sunday morning and evening services on 10/18/2026 and the place of regular Wednesday evening service on 10/21/2026 (though at a different time Wednesday).
URL:https://cornerstone3cu.org/event/revival-with-dr-c-adam-buckler-evening-service-7/
LOCATION:Cornerstone C.C.C.U. Sanctuary
CATEGORIES:All-Age Event,Community Event
END:VEVENT
BEGIN:VEVENT
DTSTART;TZID=UTC:20261021T190000
DTEND;TZID=UTC:20261021T200000
DTSTAMP:20260423T214738
CREATED:20251110T234753Z
LAST-MODIFIED:20251110T234753Z
UID:1502-1792609200-1792612800@cornerstone3cu.org
SUMMARY:Revival with Dr. C. Adam Buckler - Evening Service
DESCRIPTION:Come hear Dr. C. Adam Buckler\, president of Union Bible College\, share the message the Lord has put on his heart! More details to come. \n  \nPlease note: Dr. Buckler’s preaching will take the place of regular Sunday morning and evening services on 10/18/2026 and the place of regular Wednesday evening service on 10/21/2026 (though at a different time Wednesday).
URL:https://cornerstone3cu.org/event/revival-with-dr-c-adam-buckler-evening-service-8/
LOCATION:Cornerstone C.C.C.U. Sanctuary
CATEGORIES:All-Age Event,Community Event
END:VEVENT
BEGIN:VEVENT
DTSTART;TZID=UTC:20261101T103000
DTEND;TZID=UTC:20261101T113000
DTSTAMP:20260423T214738
CREATED:20251229T142754Z
LAST-MODIFIED:20251229T142754Z
UID:1531-1793529000-1793532600@cornerstone3cu.org
SUMMARY:Kid Power Sunday
DESCRIPTION:The first Sunday of every month is Kid Power Sunday\, a Sunday where we remind our youth (and ourselves) the importance of supporting Missions around the world. Thank you for giving to Kid Power’s yearly goal!
URL:https://cornerstone3cu.org/event/kid-power-sunday-30/
LOCATION:Cornerstone C.C.C.U. Sanctuary
CATEGORIES:All-Age Event,Monthly Recurring Event
END:VEVENT
BEGIN:VEVENT
DTSTART;TZID=UTC:20261206T103000
DTEND;TZID=UTC:20261206T113000
DTSTAMP:20260423T214738
CREATED:20251229T142822Z
LAST-MODIFIED:20251229T142822Z
UID:1533-1796553000-1796556600@cornerstone3cu.org
SUMMARY:Kid Power Sunday
DESCRIPTION:The first Sunday of every month is Kid Power Sunday\, a Sunday where we remind our youth (and ourselves) the importance of supporting Missions around the world. Thank you for giving to Kid Power’s yearly goal!
URL:https://cornerstone3cu.org/event/kid-power-sunday-31/
LOCATION:Cornerstone C.C.C.U. Sanctuary
CATEGORIES:All-Age Event,Monthly Recurring Event
END:VEVENT
BEGIN:VEVENT
DTSTART;TZID=UTC:20261224T180000
DTEND;TZID=UTC:20261224T190000
DTSTAMP:20260423T214738
CREATED:20251229T150353Z
LAST-MODIFIED:20260114T185323Z
UID:1558-1798135200-1798138800@cornerstone3cu.org
SUMMARY:Christmas Eve Evening Service
DESCRIPTION:Join us for a special candlelight service as we remember and celebrate the birth of our Savior Jesus. \n  \n(Please note: there will be no Wednesday evening service the week of Christmas this year\, as the Christmas Eve Service the following night will take its place.)
URL:https://cornerstone3cu.org/event/christmas-eve-evening-service-2/
CATEGORIES:All-Age Event,Community Event
END:VEVENT
END:VCALENDAR