BEGIN:VCALENDAR
VERSION:2.0
PRODID:-//Cornerstone Church of Christ in Christian Union - ECPv6.15.20//NONSGML v1.0//EN
CALSCALE:GREGORIAN
METHOD:PUBLISH
X-ORIGINAL-URL:https://cornerstone3cu.org
X-WR-CALDESC:Events for Cornerstone Church of Christ in Christian Union
REFRESH-INTERVAL;VALUE=DURATION:PT1H
X-Robots-Tag:noindex
X-PUBLISHED-TTL:PT1H
BEGIN:VTIMEZONE
TZID:UTC
BEGIN:STANDARD
TZOFFSETFROM:+0000
TZOFFSETTO:+0000
TZNAME:UTC
DTSTART:20250101T000000
END:STANDARD
END:VTIMEZONE
BEGIN:VEVENT
DTSTART;TZID=UTC:20260920T093000
DTEND;TZID=UTC:20260920T103000
DTSTAMP:20260424T110959
CREATED:20260113T232846Z
LAST-MODIFIED:20260113T232846Z
UID:1911-1789896600-1789900200@cornerstone3cu.org
SUMMARY:Adult and Youth Sunday Schools
DESCRIPTION:
URL:https://cornerstone3cu.org/event/adult-and-youth-sunday-schools-122/
CATEGORIES:Adult Event,Youth Event
END:VEVENT
BEGIN:VEVENT
DTSTART;TZID=UTC:20260920T103000
DTEND;TZID=UTC:20260920T113000
DTSTAMP:20260424T110959
CREATED:20251229T150513Z
LAST-MODIFIED:20251229T150513Z
UID:1553-1789900200-1789903800@cornerstone3cu.org
SUMMARY:Back to Church Sunday Services!
DESCRIPTION:This year\, Back to Church Sunday is September 20th. If you have not been to church in a while\, we invite you to visit us this Sunday especially\, to start getting to know people and reconnect with the Lord who loves you and made you. We so look forward to seeing you! And\, if you know of others who have been away from church for a while\, please invite them to join us–this day or any day! \n  \nLight refreshments will be passed out after this morning’s adult and youth services.
URL:https://cornerstone3cu.org/event/back-to-church-sunday-services/
CATEGORIES:Adult Event,Youth Event
END:VEVENT
BEGIN:VEVENT
DTSTART;TZID=UTC:20260920T103000
DTEND;TZID=UTC:20260920T113000
DTSTAMP:20260424T110959
CREATED:20260114T170538Z
LAST-MODIFIED:20260114T171444Z
UID:1940-1789900200-1789903800@cornerstone3cu.org
SUMMARY:Adult and Youth Morning Services
DESCRIPTION:
URL:https://cornerstone3cu.org/event/adult-and-youth-morning-services-110/
CATEGORIES:Adult Event,Youth Event
END:VEVENT
BEGIN:VEVENT
DTSTART;TZID=UTC:20260920T180000
DTEND;TZID=UTC:20260920T190000
DTSTAMP:20260424T110959
CREATED:20260114T172431Z
LAST-MODIFIED:20260114T172431Z
UID:1966-1789927200-1789930800@cornerstone3cu.org
SUMMARY:Adult and Youth Evening Services
DESCRIPTION:
URL:https://cornerstone3cu.org/event/adult-and-youth-evening-services-116/
CATEGORIES:Adult Event,Youth Event
END:VEVENT
BEGIN:VEVENT
DTSTART;TZID=UTC:20260923T180000
DTEND;TZID=UTC:20260923T190000
DTSTAMP:20260424T110959
CREATED:20260114T173347Z
LAST-MODIFIED:20260114T173347Z
UID:1991-1790186400-1790190000@cornerstone3cu.org
SUMMARY:Wednesday Evening Adult Prayer and Youth Services
DESCRIPTION:
URL:https://cornerstone3cu.org/event/wednesday-evening-adult-prayer-and-youth-services-109/
CATEGORIES:Adult Event,Youth Event
END:VEVENT
BEGIN:VEVENT
DTSTART;TZID=UTC:20260927T093000
DTEND;TZID=UTC:20260927T103000
DTSTAMP:20260424T110959
CREATED:20260113T232911Z
LAST-MODIFIED:20260113T232911Z
UID:1913-1790501400-1790505000@cornerstone3cu.org
SUMMARY:Adult and Youth Sunday Schools
DESCRIPTION:
URL:https://cornerstone3cu.org/event/adult-and-youth-sunday-schools-123/
CATEGORIES:Adult Event,Youth Event
END:VEVENT
BEGIN:VEVENT
DTSTART;TZID=UTC:20260927T103000
DTEND;TZID=UTC:20260927T113000
DTSTAMP:20260424T110959
CREATED:20260114T170607Z
LAST-MODIFIED:20260114T171404Z
UID:1942-1790505000-1790508600@cornerstone3cu.org
SUMMARY:Adult and Youth Morning Services
DESCRIPTION:
URL:https://cornerstone3cu.org/event/adult-and-youth-morning-services-111/
CATEGORIES:Adult Event,Youth Event
END:VEVENT
BEGIN:VEVENT
DTSTART;TZID=UTC:20260927T180000
DTEND;TZID=UTC:20260927T190000
DTSTAMP:20260424T110959
CREATED:20260114T172457Z
LAST-MODIFIED:20260114T172457Z
UID:1968-1790532000-1790535600@cornerstone3cu.org
SUMMARY:Adult and Youth Evening Services
DESCRIPTION:
URL:https://cornerstone3cu.org/event/adult-and-youth-evening-services-117/
CATEGORIES:Adult Event,Youth Event
END:VEVENT
BEGIN:VEVENT
DTSTART;TZID=UTC:20260930T180000
DTEND;TZID=UTC:20260930T190000
DTSTAMP:20260424T110959
CREATED:20260114T173418Z
LAST-MODIFIED:20260114T173418Z
UID:1993-1790791200-1790794800@cornerstone3cu.org
SUMMARY:Wednesday Evening Adult Prayer and Youth Services
DESCRIPTION:
URL:https://cornerstone3cu.org/event/wednesday-evening-adult-prayer-and-youth-services-110/
CATEGORIES:Adult Event,Youth Event
END:VEVENT
BEGIN:VEVENT
DTSTART;TZID=UTC:20261004T093000
DTEND;TZID=UTC:20261004T103000
DTSTAMP:20260424T110959
CREATED:20260113T233143Z
LAST-MODIFIED:20260113T233143Z
UID:1915-1791106200-1791109800@cornerstone3cu.org
SUMMARY:Adult and Youth Sunday Schools
DESCRIPTION:
URL:https://cornerstone3cu.org/event/adult-and-youth-sunday-schools-124/
CATEGORIES:Adult Event,Youth Event
END:VEVENT
BEGIN:VEVENT
DTSTART;TZID=UTC:20261004T103000
DTEND;TZID=UTC:20261004T113000
DTSTAMP:20260424T110959
CREATED:20260114T170635Z
LAST-MODIFIED:20260114T171236Z
UID:1944-1791109800-1791113400@cornerstone3cu.org
SUMMARY:Adult and Youth Morning Services
DESCRIPTION:
URL:https://cornerstone3cu.org/event/adult-and-youth-morning-services-112/
CATEGORIES:Adult Event,Youth Event
END:VEVENT
BEGIN:VEVENT
DTSTART;TZID=UTC:20261004T180000
DTEND;TZID=UTC:20261004T190000
DTSTAMP:20260424T110959
CREATED:20260114T172527Z
LAST-MODIFIED:20260114T172527Z
UID:1970-1791136800-1791140400@cornerstone3cu.org
SUMMARY:Adult and Youth Evening Services
DESCRIPTION:
URL:https://cornerstone3cu.org/event/adult-and-youth-evening-services-118/
CATEGORIES:Adult Event,Youth Event
END:VEVENT
BEGIN:VEVENT
DTSTART;TZID=UTC:20261006T100000
DTEND;TZID=UTC:20261006T113000
DTSTAMP:20260424T110959
CREATED:20251229T153018Z
LAST-MODIFIED:20251229T153018Z
UID:1599-1791280800-1791286200@cornerstone3cu.org
SUMMARY:Senior Adult Group - Brunch
DESCRIPTION:Retired? Have some extra time on your hands? Want to fellowship with other believers in the Plain City area? \nJoin us Tuesday\, October 6th\, for the meeting of Cornerstone’s Senior Adults Group! We will now be meeting regularly for brunch at Der Dutchman at 10:00am on the first Tuesday of the month\, and other events are in the works. \nIf you are planning on attending\, please sign up at the Welcome Desk or let Pastor Mark Barth know directly\, as we need to know how many people are coming in order to request a big enough table when we first arrive. Thank you\, and Lord willing\, see you there.
URL:https://cornerstone3cu.org/event/senior-adult-group-brunch-22/
LOCATION:Der Dutchman\, 445 S. Jefferson Ave.\, Plain City\, Ohio\, 43064\, United States
CATEGORIES:Adult Event,Monthly Recurring Event
END:VEVENT
BEGIN:VEVENT
DTSTART;TZID=UTC:20261007T180000
DTEND;TZID=UTC:20261007T190000
DTSTAMP:20260424T110959
CREATED:20260114T173449Z
LAST-MODIFIED:20260114T173449Z
UID:1995-1791396000-1791399600@cornerstone3cu.org
SUMMARY:Wednesday Evening Adult Prayer and Youth Services
DESCRIPTION:
URL:https://cornerstone3cu.org/event/wednesday-evening-adult-prayer-and-youth-services-111/
CATEGORIES:Adult Event,Youth Event
END:VEVENT
BEGIN:VEVENT
DTSTART;TZID=UTC:20261011T093000
DTEND;TZID=UTC:20261011T103000
DTSTAMP:20260424T110959
CREATED:20260113T233206Z
LAST-MODIFIED:20260113T233206Z
UID:1916-1791711000-1791714600@cornerstone3cu.org
SUMMARY:Adult and Youth Sunday Schools
DESCRIPTION:
URL:https://cornerstone3cu.org/event/adult-and-youth-sunday-schools-125/
CATEGORIES:Adult Event,Youth Event
END:VEVENT
BEGIN:VEVENT
DTSTART;TZID=UTC:20261011T103000
DTEND;TZID=UTC:20261011T113000
DTSTAMP:20260424T110959
CREATED:20260114T170659Z
LAST-MODIFIED:20260114T171153Z
UID:1946-1791714600-1791718200@cornerstone3cu.org
SUMMARY:Adult and Youth Morning Services
DESCRIPTION:
URL:https://cornerstone3cu.org/event/adult-and-youth-morning-services-113/
CATEGORIES:Adult Event,Youth Event
END:VEVENT
BEGIN:VEVENT
DTSTART;TZID=UTC:20261011T180000
DTEND;TZID=UTC:20261011T190000
DTSTAMP:20260424T110959
CREATED:20260114T172557Z
LAST-MODIFIED:20260114T172557Z
UID:1972-1791741600-1791745200@cornerstone3cu.org
SUMMARY:Adult and Youth Evening Services
DESCRIPTION:
URL:https://cornerstone3cu.org/event/adult-and-youth-evening-services-119/
CATEGORIES:Adult Event,Youth Event
END:VEVENT
BEGIN:VEVENT
DTSTART;TZID=UTC:20261012T180000
DTEND;TZID=UTC:20261012T203000
DTSTAMP:20260424T110959
CREATED:20251229T143047Z
LAST-MODIFIED:20251229T143047Z
UID:1541-1791828000-1791837000@cornerstone3cu.org
SUMMARY:October 2026 Board Meeting
DESCRIPTION:(This event is usually held at 6:00pm on the second Monday of each month.)
URL:https://cornerstone3cu.org/event/october-2026-board-meeting/
LOCATION:Cornerstone C.C.C.U. Fellowship Hall​
CATEGORIES:Adult Event,Monthly Recurring Event
END:VEVENT
BEGIN:VEVENT
DTSTART;TZID=UTC:20261014T180000
DTEND;TZID=UTC:20261014T190000
DTSTAMP:20260424T110959
CREATED:20260114T173523Z
LAST-MODIFIED:20260114T173523Z
UID:1997-1792000800-1792004400@cornerstone3cu.org
SUMMARY:Wednesday Evening Adult Prayer and Youth Services
DESCRIPTION:
URL:https://cornerstone3cu.org/event/wednesday-evening-adult-prayer-and-youth-services-112/
CATEGORIES:Adult Event,Youth Event
END:VEVENT
BEGIN:VEVENT
DTSTART;TZID=UTC:20261018T093000
DTEND;TZID=UTC:20261018T103000
DTSTAMP:20260424T110959
CREATED:20260113T233254Z
LAST-MODIFIED:20260113T233254Z
UID:1919-1792315800-1792319400@cornerstone3cu.org
SUMMARY:Adult and Youth Sunday Schools
DESCRIPTION:
URL:https://cornerstone3cu.org/event/adult-and-youth-sunday-schools-126/
CATEGORIES:Adult Event,Youth Event
END:VEVENT
BEGIN:VEVENT
DTSTART;TZID=UTC:20261018T103000
DTEND;TZID=UTC:20261018T113000
DTSTAMP:20260424T110959
CREATED:20260114T170724Z
LAST-MODIFIED:20260114T171126Z
UID:1948-1792319400-1792323000@cornerstone3cu.org
SUMMARY:Adult and Youth Morning Services
DESCRIPTION:
URL:https://cornerstone3cu.org/event/adult-and-youth-morning-services-114/
CATEGORIES:Adult Event,Youth Event
END:VEVENT
BEGIN:VEVENT
DTSTART;TZID=UTC:20261021T180000
DTEND;TZID=UTC:20261021T190000
DTSTAMP:20260424T110959
CREATED:20260114T173556Z
LAST-MODIFIED:20260114T173556Z
UID:1999-1792605600-1792609200@cornerstone3cu.org
SUMMARY:Wednesday Evening Adult Prayer and Youth Services
DESCRIPTION:
URL:https://cornerstone3cu.org/event/wednesday-evening-adult-prayer-and-youth-services-113/
CATEGORIES:Adult Event,Youth Event
END:VEVENT
BEGIN:VEVENT
DTSTART;TZID=UTC:20261025T093000
DTEND;TZID=UTC:20261025T103000
DTSTAMP:20260424T110959
CREATED:20260113T233401Z
LAST-MODIFIED:20260113T233401Z
UID:1921-1792920600-1792924200@cornerstone3cu.org
SUMMARY:Adult and Youth Sunday Schools
DESCRIPTION:
URL:https://cornerstone3cu.org/event/adult-and-youth-sunday-schools-127/
CATEGORIES:Adult Event,Youth Event
END:VEVENT
BEGIN:VEVENT
DTSTART;TZID=UTC:20261025T103000
DTEND;TZID=UTC:20261025T113000
DTSTAMP:20260424T110959
CREATED:20260114T170800Z
LAST-MODIFIED:20260114T171018Z
UID:1950-1792924200-1792927800@cornerstone3cu.org
SUMMARY:Adult and Youth Morning Services
DESCRIPTION:
URL:https://cornerstone3cu.org/event/adult-and-youth-morning-services-115/
CATEGORIES:Adult Event,Youth Event
END:VEVENT
BEGIN:VEVENT
DTSTART;TZID=UTC:20261025T180000
DTEND;TZID=UTC:20261025T190000
DTSTAMP:20260424T110959
CREATED:20260114T172628Z
LAST-MODIFIED:20260114T172705Z
UID:1974-1792951200-1792954800@cornerstone3cu.org
SUMMARY:Adult and Youth Evening Services
DESCRIPTION:
URL:https://cornerstone3cu.org/event/adult-and-youth-evening-services-120/
CATEGORIES:Adult Event,Youth Event
END:VEVENT
BEGIN:VEVENT
DTSTART;TZID=UTC:20261028T180000
DTEND;TZID=UTC:20261028T190000
DTSTAMP:20260424T110959
CREATED:20260114T173620Z
LAST-MODIFIED:20260114T173620Z
UID:2001-1793210400-1793214000@cornerstone3cu.org
SUMMARY:Wednesday Evening Adult Prayer and Youth Services
DESCRIPTION:
URL:https://cornerstone3cu.org/event/wednesday-evening-adult-prayer-and-youth-services-114/
CATEGORIES:Adult Event,Youth Event
END:VEVENT
BEGIN:VEVENT
DTSTART;TZID=UTC:20261101T093000
DTEND;TZID=UTC:20261101T103000
DTSTAMP:20260424T110959
CREATED:20260114T190950Z
LAST-MODIFIED:20260114T190950Z
UID:2065-1793525400-1793529000@cornerstone3cu.org
SUMMARY:Adult and Youth Sunday Schools
DESCRIPTION:
URL:https://cornerstone3cu.org/event/adult-and-youth-sunday-schools-128/
CATEGORIES:Adult Event,Youth Event
END:VEVENT
BEGIN:VEVENT
DTSTART;TZID=UTC:20261101T103000
DTEND;TZID=UTC:20261101T113000
DTSTAMP:20260424T110959
CREATED:20260114T190530Z
LAST-MODIFIED:20260114T190530Z
UID:2047-1793529000-1793532600@cornerstone3cu.org
SUMMARY:Adult and Youth Morning Services
DESCRIPTION:
URL:https://cornerstone3cu.org/event/adult-and-youth-morning-services-95/
CATEGORIES:Adult Event,Youth Event
END:VEVENT
BEGIN:VEVENT
DTSTART;TZID=UTC:20261101T180000
DTEND;TZID=UTC:20261101T190000
DTSTAMP:20260424T110959
CREATED:20260114T173759Z
LAST-MODIFIED:20260114T173759Z
UID:1976-1793556000-1793559600@cornerstone3cu.org
SUMMARY:Adult and Youth Evening Services
DESCRIPTION:
URL:https://cornerstone3cu.org/event/adult-and-youth-evening-services-121/
CATEGORIES:Adult Event,Youth Event
END:VEVENT
BEGIN:VEVENT
DTSTART;TZID=UTC:20261103T100000
DTEND;TZID=UTC:20261103T113000
DTSTAMP:20260424T110959
CREATED:20251229T153053Z
LAST-MODIFIED:20251229T153053Z
UID:1601-1793700000-1793705400@cornerstone3cu.org
SUMMARY:Senior Adult Group - Brunch
DESCRIPTION:Retired? Have some extra time on your hands? Want to fellowship with other believers in the Plain City area? \nJoin us Tuesday\, November 3rd\, for the meeting of Cornerstone’s Senior Adults Group! We will now be meeting regularly for brunch at Der Dutchman at 10:00am on the first Tuesday of the month\, and other events are in the works. \nIf you are planning on attending\, please sign up at the Welcome Desk or let Pastor Mark Barth know directly\, as we need to know how many people are coming in order to request a big enough table when we first arrive. Thank you\, and Lord willing\, see you there.
URL:https://cornerstone3cu.org/event/senior-adult-group-brunch-23/
LOCATION:Der Dutchman\, 445 S. Jefferson Ave.\, Plain City\, Ohio\, 43064\, United States
CATEGORIES:Adult Event,Monthly Recurring Event
END:VEVENT
END:VCALENDAR