BEGIN:VCALENDAR
VERSION:2.0
PRODID:-//Cornerstone Church of Christ in Christian Union - ECPv6.15.20//NONSGML v1.0//EN
CALSCALE:GREGORIAN
METHOD:PUBLISH
X-WR-CALNAME:Cornerstone Church of Christ in Christian Union
X-ORIGINAL-URL:https://cornerstone3cu.org
X-WR-CALDESC:Events for Cornerstone Church of Christ in Christian Union
REFRESH-INTERVAL;VALUE=DURATION:PT1H
X-Robots-Tag:noindex
X-PUBLISHED-TTL:PT1H
BEGIN:VTIMEZONE
TZID:UTC
BEGIN:STANDARD
TZOFFSETFROM:+0000
TZOFFSETTO:+0000
TZNAME:UTC
DTSTART:20250101T000000
END:STANDARD
END:VTIMEZONE
BEGIN:VEVENT
DTSTART;TZID=UTC:20260215T093000
DTEND;TZID=UTC:20260215T103000
DTSTAMP:20260423T194127
CREATED:20260112T224500Z
LAST-MODIFIED:20260112T224500Z
UID:1702-1771147800-1771151400@cornerstone3cu.org
SUMMARY:Adult and Youth Sunday Schools
DESCRIPTION:
URL:https://cornerstone3cu.org/event/adult-and-youth-sunday-schools-91/
CATEGORIES:Adult Event,Youth Event
END:VEVENT
BEGIN:VEVENT
DTSTART;TZID=UTC:20260215T103000
DTEND;TZID=UTC:20260215T113000
DTSTAMP:20260423T194127
CREATED:20260112T230532Z
LAST-MODIFIED:20260112T230532Z
UID:1737-1771151400-1771155000@cornerstone3cu.org
SUMMARY:Adult and Youth Morning Services
DESCRIPTION:
URL:https://cornerstone3cu.org/event/adult-and-youth-morning-services-80/
CATEGORIES:Adult Event,Youth Event
END:VEVENT
BEGIN:VEVENT
DTSTART;TZID=UTC:20260215T180000
DTEND;TZID=UTC:20260215T190000
DTSTAMP:20260423T194127
CREATED:20260112T231925Z
LAST-MODIFIED:20260112T231925Z
UID:1769-1771178400-1771182000@cornerstone3cu.org
SUMMARY:Adult and Youth Evening Services
DESCRIPTION:
URL:https://cornerstone3cu.org/event/adult-and-youth-evening-services-86/
CATEGORIES:Adult Event,Youth Event
END:VEVENT
END:VCALENDAR